Workbook

Sheet Tagok3.
A1: TAGOK 3. 2024.
V2: 12. melléklet
A3: Feladatok | B3: Lakosság-szám 2023.01.01. KEKKH | C3: Támogató szolgálat. | D3: Hozzá-járulás összege | E3: Idősek Otthona | F3: Hozzá-járulás összege | G3: Házi segítség-nyújtás | H3: Házi segítség-nyújtás - személyi gondozás- társulás általi feladat-ellátás | I3: Hozzá-járulás a házi segítség-nyújtáshoz összesen | J3: Jelzőrend-szeres házi segítség-nyújtás | K3: Ellátot-tak száma | L3: Hozzá-járulás összege | M3: Szociális étkeztetés | N3: Hozzá-járulás összege | O3: Nappali ellátás | P3: Hozzájárulás összege | Q3: Tanya-gondnoki szolgál-tatás | R3: Hozzá-járulás összege | S3: Család és gyermek-jóléti szolgálat | T3: Család és gyermek-jóléti központ | U3: Hozzá-járulás összege | V3: ÖSSZESEN | W3: Ellenőrző számok
A4: Saját bevétel | C4: 0 | E4: 37928000 | H4: 6469000 | J4: 2736000 | M4: 21934000 | O4: 487000 | Q4: 0 | S4: 0 | T4: 0 | V4: =SUM(C4:T4) -> 69554000 | W4: 69554000
A5: Előző évi maradvány | O5: 55804874 | V5: =SUM(C5:T5) -> 55804874 | W5: 55804874
A6: Állami támogatás | C6: 28320000 | E6: 36244500 | H6: 93997200 | M6: 6279640 | O6: 31564990 | Q6: 12094400 | S6: 69752550 | T6: 53805688 | V6: =SUM(C6:T6) -> 332058968 | W6: 332058968 | Y6: =SUM(S6:T6) -> 123558238
A7: Kiegészítő állami támogatás | V7: =SUM(C7:T7) -> 0
A8: Átvett pe. | C8: 2500000 | E8: 2800000 | H8: 11800000 | J8: 2222000 | M8: 850000 | O8: 12539000 | Q8: 850000 | S8: 2750000 | T8: 6050000 | V8: =SUM(C8:T8) -> 42361000 | W8: 42361000
A9: Bevételek összeen | C9: =SUM(C4:C8) -> 30820000 | D9: =SUM(D4:D8) -> 0 | E9: =SUM(E4:E8) -> 76972500 | F9: =SUM(F4:F8) -> 0 | G9: =SUM(G4:G8) -> 0 | H9: =SUM(H4:H8) -> 112266200 | I9: =SUM(I4:I8) -> 0 | J9: =SUM(J4:J8) -> 4958000 | ... O9: =SUM(O4:O8) -> 100395864 | Q9: =SUM(Q4:Q8) -> 12944400 | R9: =SUM(R4:R8) -> 0 | S9: =SUM(S4:S8) -> 72502550 | T9: =SUM(T4:T8) -> 59855688 | U9: =SUM(U4:U8) -> 0 | V9: =SUM(C9:T9) -> 499778842 | W9: =SUM(W4:W8) -> 499778842
A10: Kiadások | C10: 30010000 | E10: 78768000 | H10: 100526000 | J10: 15309000 | M10: 45178000 | O10: 100839874 | Q10: 18275000 | S10: 54811000 | T10: 78769000 | V10: =SUM(C10:T10) -> 522485874 | W10: 522485874
A11: Különbözet | D11: =C9-C10 -> 810000 | F11: =E9-E10 -> -1795500 | I11: =H9-H10 -> 11740200 | L11: =J9-J10 -> -10351000 | N11: =M9-M10 -> -16114360 | P11: =O9-O10 -> -444010 | R11: =Q9-Q10 -> -5330600 | S11: =S9-S10 -> 17691550 | T11: =T9-T10 -> -18913312 | U11: =S11+T11 -> -1221762 | V11: =D11+F11+I11+L11+N11+P11+R11+U11 -> -22707032 | W11: =W10-W9 -> 22707032
W12: Kerekített fizetési köt.
A14: Aparhant | B14: 989 | C14: x | D14: =ROUND($D$11/$B$42*B14,0) -> 30721 | E14: x | G14: x | H14: ='Házis.kiadás arányos feloszt.'!O9 -> 0.55 | I14: ='Házis.kiadás arányos feloszt.'!W9 -> 19132.489 | J14: x | K14: =Jelzőrendsz.!B4 -> 0.75 | L14: =Jelzőrendsz.!N4 -> -131764.18 | M14: – | Q14: – | S14: x | T14: x | U14: =ROUND($U$11/$B$39*B14,3) -> -41113.393 | V14: =D14+F14+I14+L14+U14+N14+P14+R14 -> -123024.08 | W14: =IF(ROUND(V14/1000,0)<0,ROUND(V14/1000,0),0) -> -123
A15: Bátaapáti | B15: 390 | C15: x | D15: =ROUND($D$11/$B$42*B15,0) -> 12115 | E15: x | G15: x | J15: x | M15: – | Q15: – | S15: x | T15: x | U15: =ROUND($U$11/$B$39*B15,3) -> -16212.561 | V15: =D15+F15+I15+L15+U15+N15+P15+R15 -> -4097.561 | W15: 0
A16: Bonyhád | B16: 12363 | C16: x | D16: =ROUND($D$11/$B$42*B16,0)+4 -> 384036 | E16: 14 | F16: =F11/16*E16 -> -1571062.5 | G16: x | H16: ='Házis.kiadás arányos feloszt.'!O19 -> 79.42 | I16: ='Házis.kiadás arányos feloszt.'!W19 -> 10562516 | J16: x | K16: =Jelzőrendsz.!B14 -> 60.25 | L16: =Jelzőrendsz.!N14 -> -9947187.7 | M16: x | N16: =N11 -> -16114360 | P16: =P11 -> -444010 | Q16: x | R16: =R11 -> -5330600 | S16: x | T16: x | U16: =ROUND($U$11/$B$39*B16,3) -> -513938.2 | V16: =D16+F16+I16+L16+U16+N16+P16+R16 -> -22974607 | W16: -21806
A17: Bonyhádvarasd | B17: 432 | C17: x | D17: =ROUND($D$11/$B$42*B17,0)-2 -> 13417 | E17: x | G17: - | J17: x | K17: =Jelzőrendsz.!B5 -> 6 | L17: =Jelzőrendsz.!N5 -> 145886.57 | M17: – | Q17: – | S17: x | T17: x | U17: =ROUND($U$11/$B$39*B17,3) -> -17958.53 | V17: =D17+F17+I17+L17+U17+N17+P17+R17 -> 141345.04 | W17: =IF(ROUND(V17/1000,0)<0,ROUND(V17/1000,0),0) -> 0
A18: Cikó | B18: 915 | C18: x | D18: =ROUND($D$11/$B$42*B18,0) -> 28423 | E18: 2 | F18: =F11/16*E18 -> -224437.5 | G18: x | H18: ='Házis.kiadás arányos feloszt.'!O10 -> 2.68 | I18: ='Házis.kiadás arányos feloszt.'!W10 -> 38240.113 | J18: x | M18: – | Q18: – | S18: x | T18: x | U18: =ROUND($U$11/$B$39*B18,3) -> -38037.163 | V18: =D18+F18+I18+L18+U18+N18+P18+R18 -> -195811.55 | W18: =IF(ROUND(V18/1000,0)<0,ROUND(V18/1000,0),0) -> -196
A19: Felsőnána | B19: 600 | C19: – | E19: – | G19: x | H19: ='Házis.kiadás arányos feloszt.'!O11 -> 6.56 | I19: ='Házis.kiadás arányos feloszt.'!W11 -> 87860.505 | J19: x | K19: =Jelzőrendsz.!B6 -> 6 | L19: =Jelzőrendsz.!N6 -> 74606.571 | M19: – | Q19: – | S19: x | T19: x | U19: =ROUND($U$11/$B$39*B19,3) -> -24942.402 | V19: =D19+F19+I19+L19+U19+N19+P19+R19 -> 137524.67 | W19: =IF(ROUND(V19/1000,0)<0,ROUND(V19/1000,0),0) -> 0
A20: Grábóc | B20: 163 | C20: x | D20: =ROUND($D$11/$B$42*B20,0) -> 5063 | E20: x | G20: x | J20: x | M20: – | Q20: – | S20: x | T20: x | U20: =ROUND($U$11/$B$39*B20,3) -> -6776.019 | V20: =D20+F20+I20+L20+U20+N20+P20+R20 -> -1713.019 | W20: 0
A21: Györe | B21: 610 | C21: x | D21: =ROUND($D$11/$B$42*B21,0) -> 18948 | E21: x | G21: x | J21: x | M21: – | Q21: – | S21: x | T21: x | U21: =ROUND($U$11/$B$39*B21,3) -> -25358.109 | V21: =D21+F21+I21+L21+U21+N21+P21+R21 -> -6410.109 | W21: 0
A22: Izmény | B22: 488 | C22: x | D22: =ROUND($D$11/$B$42*B22,0) -> 15159 | E22: x | G22: x | J22: x | M22: – | Q22: – | S22: x | T22: x | U22: =ROUND($U$11/$B$39*B22,3) -> -20286.487 | V22: =D22+F22+I22+L22+U22+N22+P22+R22 -> -5127.487 | W22: 0
A23: Kakasd | B23: 1622 | C23: x | D23: =ROUND($D$11/$B$42*B23,0) -> 50384 | E23: x | G23: x | H23: ='Házis.kiadás arányos feloszt.'!O12 -> 1.1 | I23: ='Házis.kiadás arányos feloszt.'!W12 -> 20158.509 | J23: x | K23: =Jelzőrendsz.!B8 -> 1 | L23: =Jelzőrendsz.!N8 -> -175685.57 | M23: – | Q23: – | S23: x | T23: x | U23: =ROUND($U$11/$B$39*B23,3) -> -67427.627 | V23: =D23+F23+I23+L23+U23+N23+P23+R23 -> -172570.69 | W23: =IF(ROUND(V23/1000,0)<0,ROUND(V23/1000,0),0) -> -173
A24: Kéty | B24: 664 | C24: – | E24: – | G24: x | H24: ='Házis.kiadás arányos feloszt.'!O14 -> 7.07 | I24: ='Házis.kiadás arányos feloszt.'!W14 -> -115.91524 | J24: x | M24: – | Q24: – | S24: x | T24: x | U24: =ROUND($U$11/$B$39*B24,3) -> -27602.925 | V24: =D24+F24+I24+L24+U24+N24+P24+R24 -> -27718.84 | W24: =IF(ROUND(V24/1000,0)<0,ROUND(V24/1000,0),0) -> -28
A25: Kisdorog | B25: 684 | C25: x | D25: =ROUND($D$11/$B$42*B25,0) -> 21247 | E25: x | G25: x | J25: x | K25: =Jelzőrendsz.!B9 -> 1 | L25: =Jelzőrendsz.!N9 -> -175685.57 | M25: – | Q25: – | S25: x | T25: x | U25: =ROUND($U$11/$B$39*B25,3) -> -28434.338 | V25: =D25+F25+I25+L25+U25+N25+P25+R25 -> -182872.91 | W25: =IF(ROUND(V25/1000,0)<0,ROUND(V25/1000,0),0) -> -183
A26: Kismányok | B26: 340 | C26: x | D26: =ROUND($D$11/$B$42*B26,0) -> 10561 | E26: x | G26: x | H26: ='Házis.kiadás arányos feloszt.'!O13 -> 0.55 | I26: ='Házis.kiadás arányos feloszt.'!W13 -> 19132.489 | J26: x | M26: – | Q26: – | S26: x | T26: x | U26: =ROUND($U$11/$B$39*B26,3) -> -14134.028 | V26: =D26+F26+I26+L26+U26+N26+P26+R26 -> 15559.461 | W26: =IF(ROUND(V26/1000,0)<0,ROUND(V26/1000,0),0) -> 0
A27: Kisvejke | B27: 382 | C27: x | D27: =ROUND($D$11/$B$42*B27,0) -> 11866 | E27: x | G27: x | J27: x | M27: – | Q27: – | S27: x | T27: x | U27: =ROUND($U$11/$B$39*B27,3) -> -15879.996 | V27: =D27+F27+I27+L27+U27+N27+P27+R27 -> -4013.996 | W27: 0
A28: Lengyel | B28: 505 | C28: x | D28: =ROUND($D$11/$B$42*B28,0) -> 15687 | E28: x | G28: x | H28: ='Házis.kiadás arányos feloszt.'!O15 -> 7.29 | I28: ='Házis.kiadás arányos feloszt.'!W15 -> 475790.38 | J28: x | M28: – | Q28: – | S28: x | T28: x | U28: =ROUND($U$11/$B$39*B28,3) -> -20993.188 | V28: =D28+F28+I28+L28+U28+N28+P28+R28 -> 470484.19 | W28: =IF(ROUND(V28/1000,0)<0,ROUND(V28/1000,0),0) -> 0
A29: Mórágy | B29: 731 | C29: x | D29: =ROUND($D$11/$B$42*B29,0) -> 22707 | E29: x | G29: x | J29: x | M29: – | Q29: – | S29: x | T29: x | U29: =ROUND($U$11/$B$39*B29,3) -> -30388.16 | V29: =D29+F29+I29+L29+U29+N29+P29+R29 -> -7681.16 | W29: 0
A30: Mőcsény | B30: 334 | C30: x | D30: =ROUND($D$11/$B$42*B30,0) -> 10375 | E30: x | G30: x | H30: ='Házis.kiadás arányos feloszt.'!O16 -> 1.29 | I30: ='Házis.kiadás arányos feloszt.'!W16 -> 85940.222 | J30: x | M30: – | Q30: – | S30: x | T30: x | U30: =ROUND($U$11/$B$39*B30,3) -> -13884.604 | V30: =D30+F30+I30+L30+U30+N30+P30+R30 -> 82430.618 | W30: =IF(ROUND(V30/1000,0)<0,ROUND(V30/1000,0),0) -> 0
A31: Mucsfa | B31: 337 | C31: x | D31: =ROUND($D$11/$B$42*B31,0) -> 10468 | E31: x | G31: x | J31: x | M31: – | Q31: – | S31: x | T31: x | U31: =ROUND($U$11/$B$39*B31,3) -> -14009.316 | V31: =D31+F31+I31+L31+U31+N31+P31+R31 -> -3541.316 | W31: 0
A32: Murga | B32: 53 | C32: – | E32: – | G32: x | J32: x | M32: – | Q32: – | S32: x | T32: x | U32: =ROUND($U$11/$B$39*B32,3) -> -2203.246 | V32: =D32+F32+I32+L32+U32+N32+P32+R32 -> -2203.246 | W32: 0
A33: Nagymányok | B33: 2195 | C33: x | D33: =ROUND($D$11/$B$42*B33,0) -> 68183 | E33: – | G33: – | J33: x | K33: =Jelzőrendsz.!B10 -> 6 | L33: =Jelzőrendsz.!N10 -> 145886.57 | M33: – | Q33: – | S33: x | T33: x | U33: =ROUND($U$11/$B$39*B33,3) -> -91247.621 | V33: =D33+F33+I33+L33+U33+N33+P33+R33 -> 122821.95 | W33: =IF(ROUND(V33/1000,0)<0,ROUND(V33/1000,0),0) -> 0
A34: Nagyvejke | B34: 151 | C34: x | D34: =ROUND($D$11/$B$42*B34,0) -> 4691 | E34: x | G34: x | J34: x | M34: – | Q34: – | S34: x | T34: x | U34: =ROUND($U$11/$B$39*B34,3) -> -6277.171 | V34: =D34+F34+I34+L34+U34+N34+P34+R34 -> -1586.171 | W34: 0
A35: Tevel | B35: 1354 | C35: x | D35: =ROUND($D$11/$B$42*B35,0) -> 42059 | E35: x | G35: x | H35: ='Házis.kiadás arányos feloszt.'!O17 -> 6.8 | I35: ='Házis.kiadás arányos feloszt.'!W17 -> 426939.68 | J35: x | K35: =Jelzőrendsz.!B11 -> 1 | L35: =Jelzőrendsz.!N11 -> -175685.57 | M35: – | Q35: – | S35: x | T35: x | U35: =ROUND($U$11/$B$39*B35,3) -> -56286.688 | V35: =D35+F35+I35+L35+U35+N35+P35+R35 -> 237026.42 | W35: =IF(ROUND(V35/1000,0)<0,ROUND(V35/1000,0),0) -> 0
A36: Váralja | B36: 788 | C36: x | D36: =ROUND($D$11/$B$42*B36,0) -> 24478 | E36: – | G36: – | J36: x | K36: =Jelzőrendsz.!B12 -> 2 | L36: =Jelzőrendsz.!N12 -> -111371.14 | M36: – | Q36: – | S36: x | T36: x | U36: =ROUND($U$11/$B$39*B36,3) -> -32757.688 | V36: =D36+F36+I36+L36+U36+N36+P36+R36 -> -119650.83 | W36: =IF(ROUND(V36/1000,0)<0,ROUND(V36/1000,0),0) -> -120
A37: Závod | B37: 303 | C37: x | D37: =ROUND($D$11/$B$42*B37,0) -> 9412 | E37: x | G37: x | J37: x | M37: – | Q37: – | S37: x | T37: x | U37: =ROUND($U$11/$B$39*B37,3) -> -12595.913 | V37: =D37+F37+I37+L37+U37+N37+P37+R37 -> -3183.913 | W37: 0
A38: Zomba | B38: 1997 | C38: – | E38: – | G38: x | H38: ='Házis.kiadás arányos feloszt.'!O18 -> 6.69 | I38: ='Házis.kiadás arányos feloszt.'!W18 -> 4605.66 | J38: x | M38: – | Q38: – | S38: x | T38: x | U38: =ROUND($U$11/$B$39*B38,0) -> -83017 | V38: =D38+F38+I38+L38+U38+N38+P38+R38 -> -78411.34 | W38: =IF(ROUND(V38/1000,0)<0,ROUND(V38/1000,0),0) -> -78
A39: Összesen | B39: =SUM(B14:B38) -> 29390 | C39: 21 | D39: =SUM(D14:D38) -> 810000 | E39: 19 | F39: =SUM(F14:F38) -> -1795500 | G39: 22 | H39: =SUM(H14:H38) -> 120 | I39: =SUM(I14:I38) -> 11740200 | J39: 25 | K39: =SUM(K14:K38) -> 84 | L39: =SUM(L14:L38) -> -10351000 | M39: 1 | N39: =SUM(N14:N38) -> -16114360 | P39: =SUM(P14:P38) -> -444010 | R39: =SUM(R14:R38) -> -5330600 | S39: 25 | T39: 25 | U39: =SUM(U14:U38) -> -1221762.4 | V39: =D39+F39+I39+L39+U39+N39+P39+R39 -> -22707032 | W39: =SUM(W14:W38) -> -22707
B42: =B39-B19-B32-B38-B24 -> 26076
S43: Megjegyzés: | T43: mínusz előjel: fizetési kötelezettség
...

Sheet Házis.kiadás arányos feloszt.
A1: Házi segítségnyújtás bevételei és kiadásai 2024.
X2: 12. melléklet
A4: Kiadások számítása | L4: Bevételek és kiadások összesítése
A6: Aparhant | B6: 1 fő részére (csak munkabér)
B7: 52 héten heti 4 óra = 52*4= 208 óra. Havi 176 óra alapján | L7: Település megnevezése | M7: Saját bevétel | N7: Ellátott létszám | O7: Kalkulált létszám | P7: 1 főre járó állami támogatás kv.tv. | Q7: Állami támogatás kv.tv. | R7: Kiegészítő állami tám. Ft/mutató | S7: Kiegészítő állami támogatás összege | T7: Átvett pénzeszköz | U7: Bevételek összesen | V7: Kiadások | W7: Hozzájárulás összegeFt-ban | X7: Ezer Ft-ban
B8: 208/176=1,18 hó bére | F8: 1.18 | I8: 331968 | J8: =F8*I8 -> 391722.24
B9: Járulék: 13 % | F9: =J8 -> 391722.24 | I9: 0.13 | J9: =D9*E9+F9*I9 -> 50923.891 | L9: Aparhant | M9: =$M$23/$O$25*O9 -> 38510.12 | N9: 1 | O9: 0.55 | P9: 783310 | Q9: =O9*P9 -> 430820.5 | S9: =O9*R9 -> 0 | T9: =ROUND($T$23/$N$23*O9,0) -> 54083 | U9: =M9+Q9+T9+S9 -> 523413.62 | V9: =J13 -> 504281.13 | W9: =U9-V9 -> 19132.489 | X9: =ROUND(W9/1000,3) -> 19.132
B10: Étkezési hozzájárulás: 5.000 Ft/hó | F10: 1.18 | I10: 5000 | J10: =D10*E10+F10*I10 -> 5900 | L10: Cikó | M10: =$M$23/$O$25*O10 -> 187649.31 | N10: 4 | O10: 2.68 | P10: 783310 | Q10: =O10*P10 -> 2099270.8 | S10: =O10*R10 -> 0 | T10: =ROUND($T$23/$N$23*O10,0) -> 263533 | U10: =M10+Q10+T10+S10 -> 2550453.1 | V10: =J22 -> 2512213 | W10: =U10-V10 -> 38240.113 | X10: =ROUND(W10/1000,3) -> 38.24
B11: Járulékteher | D11: =J10 -> 5900 | E11: 0.13 | F11: =J10 -> 5900 | I11: 0.15 | J11: =F11*I11+D11*E11 -> 1652 | L11: Felsőnána | M11: 0 | N11: 12 | O11: 6.56 | P11: 783310 | Q11: =O11*P11 -> 5138513.6 | S11: =O11*R11 -> 0 | T11: =ROUND($T$23/$N$23*O11,0) -> 645067 | U11: =M11+Q11+T11+S11 -> 5783580.6 | V11: =J32 -> 5695720.1 | W11: =U11-V11 -> 87860.505 | X11: =ROUND(W11/1000,3) -> 87.861
B12: Képzéshez kapcsolódó kiadás | J12: =T9 -> 54083 | L12: Kakasd | M12: =$M$23/$O$25*O12 -> 77020.24 | N12: 3 | O12: 1.1 | P12: 783310 | Q12: =O12*P12 -> 861641 | S12: =O12*R12 -> 0 | T12: =ROUND($T$23/$N$23*O12,0) -> 108167 | U12: =M12+Q12+T12+S12 -> 1046828.2 | V12: =J44 -> 1026669.7 | W12: =U12-V12 -> 20158.509 | X12: =ROUND(W12/1000,3) -> 20.159
B13: Kiadás összesen: | J13: =SUM(J6:J12) -> 504281.13 | L13: Kismányok | M13: =$M$23/$O$25*O13 -> 38510.12 | N13: 1 | O13: 0.55 | P13: 783310 | Q13: =O13*P13 -> 430820.5 | S13: =O13*R13 -> 0 | T13: =ROUND($T$23/$N$23*O13,0) -> 54083 | U13: =M13+Q13+T13+S13 -> 523413.62 | V13: =J54 -> 504281.13 | W13: =U13-V13 -> 19132.489 | X13: =ROUND(W13/1000,3) -> 19.132
L14: Kéty | M14: 0 | N14: 12 | O14: 7.07 | P14: 783310 | Q14: =O14*P14 -> 5538001.7 | S14: =O14*R14 -> 0 | T14: =ROUND($T$23/$N$23*O14,0) -> 695217 | U14: =M14+Q14+T14+S14 -> 6233218.7 | V14: =J65 -> 6233334.6 | W14: =U14-V14 -> -115.91524 | X14: =ROUND(W14/1000,3) -> -0.116
A15: Cikó: | B15: 1 fő 4 órás közalkalmazott: | L15: Lengyel | M15: 0 | N15: 16 | O15: 7.29 | P15: 783310 | Q15: =O15*P15 -> 5710329.9 | S15: =O15*R15 -> 0 | T15: =ROUND($T$23/$N$23*O15,0) -> 716850 | U15: =M15+Q15+T15+S15 -> 6427179.9 | V15: =J75 -> 5951389.5 | W15: =U15-V15 -> 475790.38 | X15: =ROUND(W15/1000,3) -> 475.79
B16: Bér 1 hóra 163.000 Ft, 11 hóra 163.000 Ft | D16: 1 | E16: 163000 | F16: 11 | I16: 163000 | J16: =D16*E16+F16*I16 -> 1956000 | L16: Mőcsény | M16: =$M$23/$O$25*O16 -> 90323.736 | N16: 5 | O16: 1.29 | P16: 783310 | Q16: =O16*P16 -> 1010469.9 | S16: =O16*R16 -> 0 | T16: =ROUND($T$23/$N$23*O16,0) -> 126850 | U16: =M16+Q16+T16+S16 -> 1227643.6 | V16: =J84 -> 1141703.4 | W16: =U16-V16 -> 85940.222 | X16: =ROUND(W16/1000,3) -> 85.94
B17: Járulék: 12 hónapra 13 % | F17: =J16 -> 1956000 | I17: 0.13 | J17: =F17*I17 -> 254280 | L17: Tevel | M17: =$M$23/$O$25*O17 -> 476125.12 | N17: 12 | O17: 6.8 | P17: 783310 | Q17: =O17*P17 -> 5326508 | S17: =O17*R17 -> 0 | T17: =ROUND($T$23/$N$23*O17,0) -> 668667 | U17: =M17+Q17+T17+S17 -> 6471300.1 | V17: =J94 -> 6044360.4 | W17: =U17-V17 -> 426939.68 | X17: =ROUND(W17/1000,3) -> 426.94
B18: Étkezési hozzájárulás: 5.000 Ft/hó/2 | F18: 12 | I18: 2500 | J18: =F18*I18 -> 30000 | L18: Zomba | M18: 0 | N18: 10 | O18: 6.69 | P18: 783310 | Q18: =O18*P18 -> 5240343.9 | S18: =O18*R18 -> 0 | T18: =ROUND($T$23/$N$23*O18,0) -> 657850 | U18: =M18+Q18+T18+S18 -> 5898193.9 | V18: =J104 -> 5893588.2 | W18: =U18-V18 -> 4605.66 | X18: =ROUND(W18/1000,3) -> 4.606
B19: Járulékteher. | D19: =J18 -> 30000 | E19: 0.13 | F19: =J18 -> 30000 | I19: 0.15 | J19: =F19*I19+D19*E19 -> 8400 | L19: Bonyhád | M19: =$M$23/$O$25*O19 -> 5560861.3 | N19: 88 | O19: =N23-SUM(O9:O18) -> 79.42 | P19: 783310 | Q19: =O19*P19 -> 62210480 | S19: =O19*R19 -> 0 | T19: =ROUND($T$23/$N$23*O19,0) -> 7809633 | U19: =M19+Q19+T19+S19 -> 75580975 | V19: =V23-V10-V11-V12-V13-V14-V15-V16-V17-V18-V9 -> 65018459 | W19: =U19-V19 -> 10562516 | X19: =ROUND(W19/1000,3) -> 10562.516
B20: Helyettesítés miatti bér és járulék | J20: =M104 -> 0 | L20: Öszesen: | M20: =SUM(M9:M19) -> 6469000 | N20: =SUM(N9:N19) -> 164 | O20: =SUM(O9:O19) -> 120 | P20: 783310 | Q20: =SUM(Q9:Q19) -> 93997200 | S20: =SUM(S10:S19) -> 0 | T20: =SUM(T9:T19) -> 11800000 | U20: =SUM(U9:U19) -> 1.122662e+08 | V20: =SUM(V9:V19) -> 100526000 | W20: =SUM(W9:W19) -> 11740200 | X20: =SUM(X9:X19) -> 11740.2
B21: Képzéshez kapcsolódó kiadás | J21: =T10 -> 263533
B22: Kiadás összesen: | J22: =SUM(J16:J21) -> 2512213 | U22: =M20+Q20+S20+T20 -> 112266200
M23: 6469000 | N23: 120 | O23: 164 | P23: =N23/O23 -> 0.73170732 | Q23: 93997200 | T23: 11800000 | U23: 76576400 | V23: 100526000 | W23: =U20-V20 -> 11740200
A24: Felsőnána | B24: 1 fő 8 órás közalkalmazott:
B25: Bér 1 hóra 326.000 Ft, 11 hóra 326.000 Ft | D25: 1 | E25: 326000 | F25: 11 | I25: 326000 | J25: =D25*E25+F25*I25 -> 3912000 | O25: =O10+O12+O13+O16+O17+O19+O9 -> 92.39 | Q25: =Q23-Q20 -> 0 | T25: =T23-T20 -> 0 | U25: =U20-U23 -> 35689800
B26: Járulék: 12 hónapra 13 % | F26: =J25 -> 3912000 | I26: 0.13 | J26: =F26*I26 -> 508560
B27: Étkezési hozzájárulás: 5.000 Ft/hó/2 | F27: 12 | I27: 5000 | J27: =F27*I27 -> 60000 | N27: =SUM(N10:N19) -> 163 | O27: =SUM(O10:O19) -> 119.45
B28: Járulékteher. | D28: =J27 -> 60000 | E28: 0.13 | F28: =J27 -> 60000 | I28: 0.15 | J28: =F28*I28+D28*E28 -> 16800
B29: Közlekedési költségtérítés | E29: 11 | F29: 18405 | J29: =E29*F29 -> 202455
B30: Helyettesítés miatti bér és járulék | J30: =I111 -> 350838.1
B31: Képzéshez kapcsolódó kiadás | J31: =T11 -> 645067
B32: Kiadás összesen: | J32: =SUM(J25:J31) -> 5695720.1
A35: Kakasd | B35: Heti egy alkalom kijárás 2 dolgozóval, heti 3 órában
B36: 300 Ft/km 12 hónapra 300 x 9,3 km x 2 út x 52 hét
D37: 300 | E37: 9.3 | F37: 4 | G37: 52 | J37: =D37*E37*F37*G37 -> 580320
B38: 52 héten heti 3 óra = 52*3= 156 óra. Havi 176 óra alapján
B39: 156/176=,8864 hó bére | F39: 0.8864 | I39: 331968 | J39: =F39*I39 -> 294256.44
B40: Járulék: 13 % | F40: =J39 -> 294256.44 | I40: 0.13 | J40: =D40*E40+F40*I40 -> 38253.337
B41: Étkezési hozzájárulás: 5.000 Ft/hó | F41: 0.8864 | I41: 5000 | J41: =D41*E41+F41*I41 -> 4432
B42: Járulékteher | D42: 4432 | E42: 0.13 | F42: =J41 -> 4432 | I42: 0.15 | J42: =F42*I42+D42*E42 -> 1240.96
B43: Képzéshez kapcsolódó kiadás | J43: =T12 -> 108167
B44: Kiadás összesen: | J44: =SUM(J36:J43) -> 1026669.7 | L44: Megjegyzés: | M44: negatív szám: | N44: fizetendő összeg
...

Sheet Jelzőrendsz.
A1: Jelzőrendszeres házi segítségnyújtás bevételei és kiadásai 2024. év
A2: Kiadások | I2: Bevételi terv
A3: Kiadások | B3: Kihelyezett készülékek száma | D3: Foglalkoztatottak száma | E3: Havi díj Ft/fő | F3: Hónapok száma | G3: Éves kiadás | I3: Bevételi terv | J3: Átvett pénzeszköz | K3: Mutató-szám | L3: Állami támogatás Ft/mutató | M3: Állami támogatás összege | N3: Hozzájárulás összege | O3: Kerekítve
A4: Aparhant | B4: 0.75 | C4: 2 fő havi 10.000.- Ft | D4: 2 | E4: 10000 | F4: 9 | G4: =D4*E4*F4 -> 180000 | I4: =$I$17/$K$15*K4 -> 24428.571 | K4: =B4 -> 0.75 | L4: =$N$25 -> 31743 | M4: =K4*L4 -> 23807.25 | N4: =I4+M4-G4 -> -131764.18 | O4: =ROUND(N4/1000,0) -> -132
A5: Bonyhádvarasd | B5: 6 | C5: 2 fő havi 10.000.- Ft | D5: 2 | E5: 10000 | F5: 12 | G5: =D5*E5*F5 -> 240000 | I5: =$I$17/$K$15*K5 -> 195428.57 | K5: =B5 -> 6 | L5: =$N$25 -> 31743 | M5: =K5*L5 -> 190458 | N5: =I5+M5-G5 -> 145886.57 | O5: =ROUND(N5/1000,0) -> 146
A6: Felsőnána | B6: 6 | C6: 2 fő havi 10.000.- Ft | D6: 2 | E6: 10000 | F6: 12 | G6: =D6*E6*F6 -> 240000 | I6: =I17/K15*K6 -> 195428.57 | K6: =B6 -> 6 | L6: =$N$25 -> 31743 | M6: =K6*L6 -> 190458 | N6: =I6+M6-G6-G7 -> 74606.571 | O6: =ROUND(N6/1000,0) -> 75
A7: készülékek díja | D7: 6 | E7: 990 | F7: 12 | G7: =E7*F7*D7 -> 71280
A8: Kakasd | B8: 1 | C8: 2 fő havi 10.000.- Ft | D8: 2 | E8: 10000 | F8: 12 | G8: =D8*E8*F8 -> 240000 | I8: =I17/K15*K8 -> 32571.429 | K8: =B8 -> 1 | L8: =$N$25 -> 31743 | M8: =K8*L8 -> 31743 | N8: =I8+M8-G8 -> -175685.57 | O8: =ROUND(N8/1000,0) -> -176
A9: Kisdorog | B9: 1 | C9: 2 fő havi 10.000.- Ft | D9: 2 | E9: 10000 | F9: 12 | G9: =D9*E9*F9 -> 240000 | I9: =I17/K15*K9 -> 32571.429 | K9: =B9 -> 1 | L9: =$N$25 -> 31743 | M9: =K9*L9 -> 31743 | N9: =I9+M9-G9 -> -175685.57 | O9: =ROUND(N9/1000,0) -> -176
A10: Nagymányok | B10: 6 | C10: 2 fő havi 10.000.- Ft | D10: 2 | E10: 10000 | F10: 12 | G10: =D10*E10*F10 -> 240000 | I10: =I17/K15*K10 -> 195428.57 | K10: =B10 -> 6 | L10: =$N$25 -> 31743 | M10: =K10*L10 -> 190458 | N10: =I10+M10-G10 -> 145886.57 | O10: =ROUND(N10/1000,0) -> 146
A11: Tevel | B11: 1 | C11: 2 fő havi 10.000.- Ft | D11: 2 | E11: 10000 | F11: 12 | G11: =D11*E11*F11 -> 240000 | I11: =I17/K15*K11 -> 32571.429 | K11: =B11 -> 1 | L11: =$N$25 -> 31743 | M11: =K11*L11 -> 31743 | N11: =I11+M11-G11 -> -175685.57 | O11: =ROUND(N11/1000,0) -> -176
A12: Váralja | B12: 2 | C12: 3 fő,együtt havi 20.000.- Ft | D12: 3 | E12: 20000 | F12: 12 | G12: =E12*F12 -> 240000 | I12: =I17/K15*K12 -> 65142.857 | K12: =B12 -> 2 | L12: =$N$25 -> 31743 | M12: =K12*L12 -> 63486 | N12: =I12+M12-G12 -> -111371.14 | O12: =ROUND(N12/1000,0) -> -111
A14: Bonyhád | B14: 60.25 | G14: 13377720 | I14: =I17/K15*K14 -> 1962428.6 | K14: =B14 -> 60.25 | L14: =$N$25 -> 31743 | M14: =46.25*L14-10 -> 1468103.8 | N14: =I14+J14+M14-G14 -> -9947187.7 | O14: =ROUND(N14/1000,0)-1 -> -9948
A15: Összesen: | B15: =SUM(B4:B14) -> 84 | G15: =SUM(G4:G14) -> 15309000 | I15: =SUM(I4:I14) -> 2736000 | J15: =SUM(J4:J14) -> 0 | K15: =SUM(K4:K14) -> 84 | M15: =SUM(M4:M14) -> 2222000 | N15: =SUM(N4:N14) -> -10351000 | O15: =ROUND(N15/1000,0) -> -10351
G17: 15309000 | I17: 2736000 | K17: =SUM(K4:K14) -> 84 | O17: =N17+N15 -> -10351000
L18: Állami támogatás számítása
L19: Alaptámogatás | N19: 500000
G20: =G15-G22 -> 13377720 | I20: =SUM(I4:I14) -> 2736000 | L20: Készülékek után Ft/készülék
K21: =SUM(K4:K12) -> 23.75 | L21: 70 | M21: 24600 | N21: =L21*M21 -> 1722000
G22: =SUM(G4:G12) -> 1931280
N23: =SUM(N19:N22) -> 2222000
L24: 1 készülék után járó támogatás átlaga
A25: Megjegyzés: | B25: negatív előjel: fizetendő összeg | L25: =N23 -> 2222000 | M25: =L21 -> 70 | N25: =ROUND(L25/M25,0) -> 31743
B26: pozitív előjel: bevételi többlet
L27: Saját bevétel átlaga:
L28: 2736000 | M28: 84 | N28: =ROUND(L28/M28,0) -> 32571
