Workbook

Sheet 1.1.sz.mell.
A1: B E V É T E L E K
A2: 1. sz. táblázat | C2: Forintban | E2: Ezer forintban | F2: Ezer forintban | G2: Ezer forintban | H2: Ezer forintban
A3: Sor- szám | B3: Bevételi jogcím | C3: 2024. évi előirányzat | D3: Módosított előirányzat | E3: Javasolt módosítás | F3: Módosított előirányzat | G3: Társulási Tanács által javasolt módosítás | H3: Módosított előirányzat
A4: 1 | B4: 2 | C4: 3 | E4: 3 | F4: 3 | G4: 3 | H4: 3
A5: 1. | B5: Működési célú támogatások államháztartáson belülről (1.1.+…+.1.5.) | C5: =+C6+C7+C8+C9+C10 -> 374420000 | E5: =+E6+E7+E8+E9+E10 -> 0 | F5: =+F6+F7+F8+F9+F10 -> 0 | G5: =+G6+G7+G8+G9+G10 -> 0 | H5: =+H6+H7+H8+H9+H10 -> 0
A6: 1.1 | B6: Elvonások és befizetések bevételei | C6: ='1.2.sz.mell.'!C6+'1.3.sz.mell.'!C6+'1.4.sz.mell.'!C6 -> 0 | E6: ='1.2.sz.mell.'!I6+'1.3.sz.mell.'!I6+'1.4.sz.mell.'!I6 -> 0 | F6: ='1.2.sz.mell.'!J6+'1.3.sz.mell.'!J6+'1.4.sz.mell.'!J6 -> 0 | G6: ='1.2.sz.mell.'!K6+'1.3.sz.mell.'!K6+'1.4.sz.mell.'!K6 -> 0 | H6: ='1.2.sz.mell.'!L6+'1.3.sz.mell.'!L6+'1.4.sz.mell.'!L6 -> 0
A7: 1.2 | B7: Működési célú garancia- és kezességvállalásból megtérülések | C7: ='1.2.sz.mell.'!C7+'1.3.sz.mell.'!C7+'1.4.sz.mell.'!C7 -> 0 | E7: ='1.2.sz.mell.'!I7+'1.3.sz.mell.'!I7+'1.4.sz.mell.'!I7 -> 0 | F7: ='1.2.sz.mell.'!J7+'1.3.sz.mell.'!J7+'1.4.sz.mell.'!J7 -> 0 | G7: ='1.2.sz.mell.'!K7+'1.3.sz.mell.'!K7+'1.4.sz.mell.'!K7 -> 0 | H7: ='1.2.sz.mell.'!L7+'1.3.sz.mell.'!L7+'1.4.sz.mell.'!L7 -> 0
A8: 1.3 | B8: Működési célú visszatérítendő támogatások, kölcsönök visszatérülése | C8: ='1.2.sz.mell.'!C8+'1.3.sz.mell.'!C8+'1.4.sz.mell.'!C8 -> 0 | E8: ='1.2.sz.mell.'!I8+'1.3.sz.mell.'!I8+'1.4.sz.mell.'!I8 -> 0 | F8: ='1.2.sz.mell.'!J8+'1.3.sz.mell.'!J8+'1.4.sz.mell.'!J8 -> 0 | G8: ='1.2.sz.mell.'!K8+'1.3.sz.mell.'!K8+'1.4.sz.mell.'!K8 -> 0 | H8: ='1.2.sz.mell.'!L8+'1.3.sz.mell.'!L8+'1.4.sz.mell.'!L8 -> 0
A9: 1.4 | B9: Működési célú visszatérítendő támogatások, kölcsönök igénybevétele | C9: ='1.2.sz.mell.'!C9+'1.3.sz.mell.'!C9+'1.4.sz.mell.'!C9 -> 0 | E9: ='1.2.sz.mell.'!I9+'1.3.sz.mell.'!I9+'1.4.sz.mell.'!I9 -> 0 | F9: ='1.2.sz.mell.'!J9+'1.3.sz.mell.'!J9+'1.4.sz.mell.'!J9 -> 0 | G9: ='1.2.sz.mell.'!K9+'1.3.sz.mell.'!K9+'1.4.sz.mell.'!K9 -> 0 | H9: ='1.2.sz.mell.'!L9+'1.3.sz.mell.'!L9+'1.4.sz.mell.'!L9 -> 0
A10: 1.5 | B10: Egyéb működési célú támogatások bevételei | C10: ='1.2.sz.mell.'!C10+'1.3.sz.mell.'!C10+'1.4.sz.mell.'!C10 -> 374420000 | E10: ='1.2.sz.mell.'!I10+'1.3.sz.mell.'!I10+'1.4.sz.mell.'!I10 -> 0 | F10: ='1.2.sz.mell.'!J10+'1.3.sz.mell.'!J10+'1.4.sz.mell.'!J10 -> 0 | G10: ='1.2.sz.mell.'!K10+'1.3.sz.mell.'!K10+'1.4.sz.mell.'!K10 -> 0 | H10: ='1.2.sz.mell.'!L10+'1.3.sz.mell.'!L10+'1.4.sz.mell.'!L10 -> 0
A11: 1.6 | B11: 2.5.-ből EU-s támogatás | C11: ='1.2.sz.mell.'!C11+'1.3.sz.mell.'!C11+'1.4.sz.mell.'!C11 -> 0 | E11: ='1.2.sz.mell.'!I11+'1.3.sz.mell.'!I11+'1.4.sz.mell.'!I11 -> 0 | F11: ='1.2.sz.mell.'!J11+'1.3.sz.mell.'!J11+'1.4.sz.mell.'!J11 -> 0 | G11: ='1.2.sz.mell.'!K11+'1.3.sz.mell.'!K11+'1.4.sz.mell.'!K11 -> 0 | H11: ='1.2.sz.mell.'!L11+'1.3.sz.mell.'!L11+'1.4.sz.mell.'!L11 -> 0
A12: 2. | B12: Felhalmozási célú támogatások államháztartáson belülről (2.1.+…+2.5.) | C12: =+C13+C14+C15+C16+C17 -> 0 | E12: =+E13+E14+E15+E16+E17 -> 0 | F12: =+F13+F14+F15+F16+F17 -> 0 | G12: =+G13+G14+G15+G16+G17 -> 0 | H12: =+H13+H14+H15+H16+H17 -> 0
A13: 2.1 | B13: Felhalmozási célú önkormányzati támogatások | C13: ='1.2.sz.mell.'!C13+'1.3.sz.mell.'!C13+'1.4.sz.mell.'!C13 -> 0 | E13: ='1.2.sz.mell.'!I13+'1.3.sz.mell.'!I13+'1.4.sz.mell.'!I13 -> 0 | F13: ='1.2.sz.mell.'!J13+'1.3.sz.mell.'!J13+'1.4.sz.mell.'!J13 -> 0 | G13: ='1.2.sz.mell.'!K13+'1.3.sz.mell.'!K13+'1.4.sz.mell.'!K13 -> 0 | H13: ='1.2.sz.mell.'!L13+'1.3.sz.mell.'!L13+'1.4.sz.mell.'!L13 -> 0
A14: 2.2 | B14: Felhalmozási célú garancia- és kezességvállalásból megtérülések | C14: ='1.2.sz.mell.'!C14+'1.3.sz.mell.'!C14+'1.4.sz.mell.'!C14 -> 0 | E14: ='1.2.sz.mell.'!I14+'1.3.sz.mell.'!I14+'1.4.sz.mell.'!I14 -> 0 | F14: ='1.2.sz.mell.'!J14+'1.3.sz.mell.'!J14+'1.4.sz.mell.'!J14 -> 0 | G14: ='1.2.sz.mell.'!K14+'1.3.sz.mell.'!K14+'1.4.sz.mell.'!K14 -> 0 | H14: ='1.2.sz.mell.'!L14+'1.3.sz.mell.'!L14+'1.4.sz.mell.'!L14 -> 0
A15: 2.3 | B15: Felhalmozási célú visszatérítendő támogatások, kölcsönök visszatérülése | C15: ='1.2.sz.mell.'!C15+'1.3.sz.mell.'!C15+'1.4.sz.mell.'!C15 -> 0 | E15: ='1.2.sz.mell.'!I15+'1.3.sz.mell.'!I15+'1.4.sz.mell.'!I15 -> 0 | F15: ='1.2.sz.mell.'!J15+'1.3.sz.mell.'!J15+'1.4.sz.mell.'!J15 -> 0 | G15: ='1.2.sz.mell.'!K15+'1.3.sz.mell.'!K15+'1.4.sz.mell.'!K15 -> 0 | H15: ='1.2.sz.mell.'!L15+'1.3.sz.mell.'!L15+'1.4.sz.mell.'!L15 -> 0
A16: 2.4 | B16: Felhalmozási célú visszatérítendő támogatások, kölcsönök igénybevétele | C16: ='1.2.sz.mell.'!C16+'1.3.sz.mell.'!C16+'1.4.sz.mell.'!C16 -> 0 | E16: ='1.2.sz.mell.'!I16+'1.3.sz.mell.'!I16+'1.4.sz.mell.'!I16 -> 0 | F16: ='1.2.sz.mell.'!J16+'1.3.sz.mell.'!J16+'1.4.sz.mell.'!J16 -> 0 | G16: ='1.2.sz.mell.'!K16+'1.3.sz.mell.'!K16+'1.4.sz.mell.'!K16 -> 0 | H16: ='1.2.sz.mell.'!L16+'1.3.sz.mell.'!L16+'1.4.sz.mell.'!L16 -> 0
A17: 2.5 | B17: Egyéb felhalmozási célú támogatások bevételei | C17: ='1.2.sz.mell.'!C17+'1.3.sz.mell.'!C17+'1.4.sz.mell.'!C17 -> 0 | E17: ='1.2.sz.mell.'!I17+'1.3.sz.mell.'!I17+'1.4.sz.mell.'!I17 -> 0 | F17: ='1.2.sz.mell.'!J17+'1.3.sz.mell.'!J17+'1.4.sz.mell.'!J17 -> 0 | G17: ='1.2.sz.mell.'!K17+'1.3.sz.mell.'!K17+'1.4.sz.mell.'!K17 -> 0 | H17: ='1.2.sz.mell.'!L17+'1.3.sz.mell.'!L17+'1.4.sz.mell.'!L17 -> 0
A18: 2.6 | B18: 3.5.-ből EU-s támogatás | C18: ='1.2.sz.mell.'!C18+'1.3.sz.mell.'!C18+'1.4.sz.mell.'!C18 -> 0 | E18: ='1.2.sz.mell.'!I18+'1.3.sz.mell.'!I18+'1.4.sz.mell.'!I18 -> 0 | F18: ='1.2.sz.mell.'!J18+'1.3.sz.mell.'!J18+'1.4.sz.mell.'!J18 -> 0 | G18: ='1.2.sz.mell.'!K18+'1.3.sz.mell.'!K18+'1.4.sz.mell.'!K18 -> 0 | H18: ='1.2.sz.mell.'!L18+'1.3.sz.mell.'!L18+'1.4.sz.mell.'!L18 -> 0
A19: 3. | B19: Működési bevételek (3.1.+…+ 3.11.) | C19: =SUM(C20:C30) -> 109865000 | E19: =SUM(E20:E30) -> 0 | F19: =SUM(F20:F30) -> 0 | G19: =SUM(G20:G30) -> 0 | H19: =SUM(H20:H30) -> 0
A20: 3.1 | B20: Készletértékesítés ellenértéke | C20: ='1.2.sz.mell.'!C20+'1.3.sz.mell.'!C20+'1.4.sz.mell.'!C20 -> 0 | E20: ='1.2.sz.mell.'!I20+'1.3.sz.mell.'!I20+'1.4.sz.mell.'!I20 -> 0 | F20: ='1.2.sz.mell.'!J20+'1.3.sz.mell.'!J20+'1.4.sz.mell.'!J20 -> 0 | G20: ='1.2.sz.mell.'!K20+'1.3.sz.mell.'!K20+'1.4.sz.mell.'!K20 -> 0 | H20: ='1.2.sz.mell.'!L20+'1.3.sz.mell.'!L20+'1.4.sz.mell.'!L20 -> 0
A21: 3.2 | B21: Szolgáltatások ellenértéke | C21: ='1.2.sz.mell.'!C21+'1.3.sz.mell.'!C21+'1.4.sz.mell.'!C21 -> 0 | E21: ='1.2.sz.mell.'!I21+'1.3.sz.mell.'!I21+'1.4.sz.mell.'!I21 -> 0 | F21: ='1.2.sz.mell.'!J21+'1.3.sz.mell.'!J21+'1.4.sz.mell.'!J21 -> 0 | G21: ='1.2.sz.mell.'!K21+'1.3.sz.mell.'!K21+'1.4.sz.mell.'!K21 -> 0 | H21: ='1.2.sz.mell.'!L21+'1.3.sz.mell.'!L21+'1.4.sz.mell.'!L21 -> 0
A22: 3.3 | B22: Közvetített szolgáltatások értéke | C22: ='1.2.sz.mell.'!C22+'1.3.sz.mell.'!C22+'1.4.sz.mell.'!C22 -> 0 | E22: ='1.2.sz.mell.'!I22+'1.3.sz.mell.'!I22+'1.4.sz.mell.'!I22 -> 0 | F22: ='1.2.sz.mell.'!J22+'1.3.sz.mell.'!J22+'1.4.sz.mell.'!J22 -> 0 | G22: ='1.2.sz.mell.'!K22+'1.3.sz.mell.'!K22+'1.4.sz.mell.'!K22 -> 0 | H22: ='1.2.sz.mell.'!L22+'1.3.sz.mell.'!L22+'1.4.sz.mell.'!L22 -> 0
A23: 3.4 | B23: Tulajdonosi bevételek | C23: ='1.2.sz.mell.'!C23+'1.3.sz.mell.'!C23+'1.4.sz.mell.'!C23 -> 0 | E23: ='1.2.sz.mell.'!I23+'1.3.sz.mell.'!I23+'1.4.sz.mell.'!I23 -> 0 | F23: ='1.2.sz.mell.'!J23+'1.3.sz.mell.'!J23+'1.4.sz.mell.'!J23 -> 0 | G23: ='1.2.sz.mell.'!K23+'1.3.sz.mell.'!K23+'1.4.sz.mell.'!K23 -> 0 | H23: ='1.2.sz.mell.'!L23+'1.3.sz.mell.'!L23+'1.4.sz.mell.'!L23 -> 0
A24: 3.5 | B24: Ellátási díjak | C24: ='1.2.sz.mell.'!C24+'1.3.sz.mell.'!C24+'1.4.sz.mell.'!C24 -> 0 | E24: ='1.2.sz.mell.'!I24+'1.3.sz.mell.'!I24+'1.4.sz.mell.'!I24 -> 0 | F24: ='1.2.sz.mell.'!J24+'1.3.sz.mell.'!J24+'1.4.sz.mell.'!J24 -> 0 | G24: ='1.2.sz.mell.'!K24+'1.3.sz.mell.'!K24+'1.4.sz.mell.'!K24 -> 0 | H24: ='1.2.sz.mell.'!L24+'1.3.sz.mell.'!L24+'1.4.sz.mell.'!L24 -> 0
A25: 3.6 | B25: Kiszámlázott általános forgalmi adó | C25: ='1.2.sz.mell.'!C25+'1.3.sz.mell.'!C25+'1.4.sz.mell.'!C25 -> 0 | E25: ='1.2.sz.mell.'!I25+'1.3.sz.mell.'!I25+'1.4.sz.mell.'!I25 -> 0 | F25: ='1.2.sz.mell.'!J25+'1.3.sz.mell.'!J25+'1.4.sz.mell.'!J25 -> 0 | G25: ='1.2.sz.mell.'!K25+'1.3.sz.mell.'!K25+'1.4.sz.mell.'!K25 -> 0 | H25: ='1.2.sz.mell.'!L25+'1.3.sz.mell.'!L25+'1.4.sz.mell.'!L25 -> 0
A26: 3.7 | B26: Általános forgalmi adó visszatérítése | C26: ='1.2.sz.mell.'!C26+'1.3.sz.mell.'!C26+'1.4.sz.mell.'!C26 -> 0 | E26: ='1.2.sz.mell.'!I26+'1.3.sz.mell.'!I26+'1.4.sz.mell.'!I26 -> 0 | F26: ='1.2.sz.mell.'!J26+'1.3.sz.mell.'!J26+'1.4.sz.mell.'!J26 -> 0 | G26: ='1.2.sz.mell.'!K26+'1.3.sz.mell.'!K26+'1.4.sz.mell.'!K26 -> 0 | H26: ='1.2.sz.mell.'!L26+'1.3.sz.mell.'!L26+'1.4.sz.mell.'!L26 -> 0
A27: 3.8 | B27: Kamatbevételek | C27: ='1.2.sz.mell.'!C27+'1.3.sz.mell.'!C27+'1.4.sz.mell.'!C27 -> 0 | E27: ='1.2.sz.mell.'!I27+'1.3.sz.mell.'!I27+'1.4.sz.mell.'!I27 -> 0 | F27: ='1.2.sz.mell.'!J27+'1.3.sz.mell.'!J27+'1.4.sz.mell.'!J27 -> 0 | G27: ='1.2.sz.mell.'!K27+'1.3.sz.mell.'!K27+'1.4.sz.mell.'!K27 -> 0 | H27: ='1.2.sz.mell.'!L27+'1.3.sz.mell.'!L27+'1.4.sz.mell.'!L27 -> 0
A28: 3.9 | B28: Egyéb pénzügyi műveletek bevételei | C28: ='1.2.sz.mell.'!C28+'1.3.sz.mell.'!C28+'1.4.sz.mell.'!C28 -> 0 | E28: ='1.2.sz.mell.'!I28+'1.3.sz.mell.'!I28+'1.4.sz.mell.'!I28 -> 0 | F28: ='1.2.sz.mell.'!J28+'1.3.sz.mell.'!J28+'1.4.sz.mell.'!J28 -> 0 | G28: ='1.2.sz.mell.'!K28+'1.3.sz.mell.'!K28+'1.4.sz.mell.'!K28 -> 0 | H28: ='1.2.sz.mell.'!L28+'1.3.sz.mell.'!L28+'1.4.sz.mell.'!L28 -> 0
A29: 3.10 | B29: Biztosító által fizetett kártérítés
A30: 3.11 | B30: Egyéb működési bevételek | C30: ='1.2.sz.mell.'!C30+'1.3.sz.mell.'!C30+'1.4.sz.mell.'!C30 -> 109865000 | E30: ='1.2.sz.mell.'!I30+'1.3.sz.mell.'!I30+'1.4.sz.mell.'!I30 -> 0 | F30: ='1.2.sz.mell.'!J30+'1.3.sz.mell.'!J30+'1.4.sz.mell.'!J30 -> 0 | G30: ='1.2.sz.mell.'!K30+'1.3.sz.mell.'!K30+'1.4.sz.mell.'!K30 -> 0 | H30: ='1.2.sz.mell.'!L30+'1.3.sz.mell.'!L30+'1.4.sz.mell.'!L30 -> 0
A31: 4. | B31: Felhalmozási bevételek (4.1.+…+4.5.) | C31: =SUM(C32:C36) -> 0 | E31: =SUM(E32:E36) -> 0 | F31: =SUM(F32:F36) -> 0 | G31: =SUM(G32:G36) -> 0 | H31: =SUM(H32:H36) -> 0
A32: 4.1 | B32: Immateriális javak értékesítése | C32: ='1.2.sz.mell.'!C32+'1.3.sz.mell.'!C32+'1.4.sz.mell.'!C32 -> 0 | E32: ='1.2.sz.mell.'!I32+'1.3.sz.mell.'!I32+'1.4.sz.mell.'!I32 -> 0 | F32: ='1.2.sz.mell.'!J32+'1.3.sz.mell.'!J32+'1.4.sz.mell.'!J32 -> 0 | G32: ='1.2.sz.mell.'!K32+'1.3.sz.mell.'!K32+'1.4.sz.mell.'!K32 -> 0 | H32: ='1.2.sz.mell.'!L32+'1.3.sz.mell.'!L32+'1.4.sz.mell.'!L32 -> 0
A33: 4.2 | B33: Ingatlanok értékesítése | C33: ='1.2.sz.mell.'!C33+'1.3.sz.mell.'!C33+'1.4.sz.mell.'!C33 -> 0 | E33: ='1.2.sz.mell.'!I33+'1.3.sz.mell.'!I33+'1.4.sz.mell.'!I33 -> 0 | F33: ='1.2.sz.mell.'!J33+'1.3.sz.mell.'!J33+'1.4.sz.mell.'!J33 -> 0 | G33: ='1.2.sz.mell.'!K33+'1.3.sz.mell.'!K33+'1.4.sz.mell.'!K33 -> 0 | H33: ='1.2.sz.mell.'!L33+'1.3.sz.mell.'!L33+'1.4.sz.mell.'!L33 -> 0
A34: 4.3 | B34: Egyéb tárgyi eszközök értékesítése | C34: ='1.2.sz.mell.'!C34+'1.3.sz.mell.'!C34+'1.4.sz.mell.'!C34 -> 0 | E34: ='1.2.sz.mell.'!I34+'1.3.sz.mell.'!I34+'1.4.sz.mell.'!I34 -> 0 | F34: ='1.2.sz.mell.'!J34+'1.3.sz.mell.'!J34+'1.4.sz.mell.'!J34 -> 0 | G34: ='1.2.sz.mell.'!K34+'1.3.sz.mell.'!K34+'1.4.sz.mell.'!K34 -> 0 | H34: ='1.2.sz.mell.'!L34+'1.3.sz.mell.'!L34+'1.4.sz.mell.'!L34 -> 0
A35: 4.4 | B35: Részesedések értékesítése | C35: ='1.2.sz.mell.'!C35+'1.3.sz.mell.'!C35+'1.4.sz.mell.'!C35 -> 0 | E35: ='1.2.sz.mell.'!I35+'1.3.sz.mell.'!I35+'1.4.sz.mell.'!I35 -> 0 | F35: ='1.2.sz.mell.'!J35+'1.3.sz.mell.'!J35+'1.4.sz.mell.'!J35 -> 0 | G35: ='1.2.sz.mell.'!K35+'1.3.sz.mell.'!K35+'1.4.sz.mell.'!K35 -> 0 | H35: ='1.2.sz.mell.'!L35+'1.3.sz.mell.'!L35+'1.4.sz.mell.'!L35 -> 0
A36: 4.5 | B36: Részesedések megszűnéséhez kapcsolódó bevételek | C36: ='1.2.sz.mell.'!C36+'1.3.sz.mell.'!C36+'1.4.sz.mell.'!C36 -> 0 | E36: ='1.2.sz.mell.'!I36+'1.3.sz.mell.'!I36+'1.4.sz.mell.'!I36 -> 0 | F36: ='1.2.sz.mell.'!J36+'1.3.sz.mell.'!J36+'1.4.sz.mell.'!J36 -> 0 | G36: ='1.2.sz.mell.'!K36+'1.3.sz.mell.'!K36+'1.4.sz.mell.'!K36 -> 0 | H36: ='1.2.sz.mell.'!L36+'1.3.sz.mell.'!L36+'1.4.sz.mell.'!L36 -> 0
A37: 5. | B37: Működési célú átvett pénzeszközök (5.1. + … +57.3.) | C37: =SUM(C38:C40) -> 0 | E37: =SUM(E38:E40) -> 0 | F37: =SUM(F38:F40) -> 0 | G37: =SUM(G38:G40) -> 0 | H37: =SUM(H38:H40) -> 0
A38: 5.1 | B38: Működési célú garancia- és kezességvállalásból megtérülések ÁH-n kívülről | C38: ='1.2.sz.mell.'!C38+'1.3.sz.mell.'!C38+'1.4.sz.mell.'!C38 -> 0 | E38: ='1.2.sz.mell.'!I38+'1.3.sz.mell.'!I38+'1.4.sz.mell.'!I38 -> 0 | F38: ='1.2.sz.mell.'!J38+'1.3.sz.mell.'!J38+'1.4.sz.mell.'!J38 -> 0 | G38: ='1.2.sz.mell.'!K38+'1.3.sz.mell.'!K38+'1.4.sz.mell.'!K38 -> 0 | H38: ='1.2.sz.mell.'!L38+'1.3.sz.mell.'!L38+'1.4.sz.mell.'!L38 -> 0
A39: 5.2 | B39: Működési célú visszatérítendő támogatások, kölcsönök visszatér. ÁH-n kívülről | C39: ='1.2.sz.mell.'!C39+'1.3.sz.mell.'!C39+'1.4.sz.mell.'!C39 -> 0 | E39: ='1.2.sz.mell.'!I39+'1.3.sz.mell.'!I39+'1.4.sz.mell.'!I39 -> 0 | F39: ='1.2.sz.mell.'!J39+'1.3.sz.mell.'!J39+'1.4.sz.mell.'!J39 -> 0 | G39: ='1.2.sz.mell.'!K39+'1.3.sz.mell.'!K39+'1.4.sz.mell.'!K39 -> 0 | H39: ='1.2.sz.mell.'!L39+'1.3.sz.mell.'!L39+'1.4.sz.mell.'!L39 -> 0
A40: 5.3 | B40: Egyéb működési célú átvett pénzeszköz | C40: ='1.2.sz.mell.'!C40+'1.3.sz.mell.'!C40+'1.4.sz.mell.'!C40 -> 0 | E40: ='1.2.sz.mell.'!I40+'1.3.sz.mell.'!I40+'1.4.sz.mell.'!I40 -> 0 | F40: ='1.2.sz.mell.'!J40+'1.3.sz.mell.'!J40+'1.4.sz.mell.'!J40 -> 0 | G40: ='1.2.sz.mell.'!K40+'1.3.sz.mell.'!K40+'1.4.sz.mell.'!K40 -> 0 | H40: ='1.2.sz.mell.'!L40+'1.3.sz.mell.'!L40+'1.4.sz.mell.'!L40 -> 0
...

Sheet 1.2.sz.mell.
A1: B E V É T E L E K
A2: 1. sz. táblázat | C2: Forintban
A3: Sor- szám | B3: Bevételi jogcím | C3: 2024. évi előirányzat | E3: Javasolt módosítás | F3: Módosított előirányzat | G3: Társulási Tanács által javasolt módosítás | H3: Módosított előirányzat
A4: 1 | B4: 2 | C4: 3 | E4: 3 | F4: 3 | G4: 3 | H4: 3
A5: 1. | B5: Működési célú támogatások államháztartáson belülről (1.1.+…+.1.5.) | C5: =+C6+C7+C8+C9+C10 -> 277123000 | D5: =+D6+D7+D8+D9+D10 -> 277123000 | E5: =+E6+E7+E8+E9+E10 -> 0 | F5: =+F6+F7+F8+F9+F10 -> 277123000 | G5: =+G6+G7+G8+G9+G10 -> 0 | H5: =+H6+H7+H8+H9+H10 -> 0
A6: 1.1 | B6: Elvonások és befizetések bevételei | E6: =F6-D6 -> 0
A7: 1.2 | B7: Működési célú garancia- és kezességvállalásból megtérülések | E7: =F7-D7 -> 0
A8: 1.3 | B8: Működési célú visszatérítendő támogatások, kölcsönök visszatérülése | E8: =F8-D8 -> 0
A9: 1.4 | B9: Működési célú visszatérítendő támogatások, kölcsönök igénybevétele | E9: =F9-D9 -> 0
A10: 1.5 | B10: Egyéb működési célú támogatások bevételei | C10: 277123000 | D10: 277123000 | E10: =F10-D10 -> 0 | F10: 277123000
A11: 1.6 | B11: 2.5.-ből EU-s támogatás | E11: =F11-D11 -> 0
A12: 2. | B12: Felhalmozási célú támogatások államháztartáson belülről (2.1.+…+2.5.) | C12: =+C13+C14+C15+C16+C17 -> 0 | E12: =+E13+E14+E15+E16+E17 -> 0 | F12: =+F13+F14+F15+F16+F17 -> 0 | G12: =+G13+G14+G15+G16+G17 -> 0 | H12: =+H13+H14+H15+H16+H17 -> 0
A13: 2.1 | B13: Felhalmozási célú önkormányzati támogatások | E13: =F13-D13 -> 0
A14: 2.2 | B14: Felhalmozási célú garancia- és kezességvállalásból megtérülések | E14: =F14-D14 -> 0
A15: 2.3 | B15: Felhalmozási célú visszatérítendő támogatások, kölcsönök visszatérülése | E15: =F15-D15 -> 0
A16: 2.4 | B16: Felhalmozási célú visszatérítendő támogatások, kölcsönök igénybevétele | E16: =F16-D16 -> 0
A17: 2.5 | B17: Egyéb felhalmozási célú támogatások bevételei | E17: =F17-D17 -> 0
A18: 2.6 | B18: 3.5.-ből EU-s támogatás | E18: =F18-D18 -> 0
A19: 3. | B19: Működési bevételek (3.1.+…+ 3.11.) | C19: =SUM(C20:C30) -> 54772000 | D19: =SUM(D20:D30) -> 54772000 | E19: =SUM(E20:E30) -> 0 | F19: =SUM(F20:F30) -> 54772000 | G19: =SUM(G20:G30) -> 0 | H19: =SUM(H20:H30) -> 0
A20: 3.1 | B20: Készletértékesítés ellenértéke | E20: =F20-D20 -> 0
A21: 3.2 | B21: Szolgáltatások ellenértéke | E21: =F21-D21 -> 0
A22: 3.3 | B22: Közvetített szolgáltatások értéke | E22: =F22-D22 -> 0
A23: 3.4 | B23: Tulajdonosi bevételek | E23: =F23-D23 -> 0
A24: 3.5 | B24: Ellátási díjak | E24: =F24-D24 -> 0
A25: 3.6 | B25: Kiszámlázott általános forgalmi adó | E25: =F25-D25 -> 0
A26: 3.7 | B26: Általános forgalmi adó visszatérítése | E26: =F26-D26 -> 0
A27: 3.8 | B27: Kamatbevételek | E27: =F27-D27 -> 0
A28: 3.9 | B28: Egyéb pénzügyi műveletek bevételei | E28: =F28-D28 -> 0
A29: 3.10 | B29: Biztosító által fizetett kártérítés | E29: =F29-D29 -> 0
A30: 3.11 | B30: Egyéb működési bevételek | C30: 54772000 | D30: 54772000 | E30: =F30-D30 -> 0 | F30: 54772000
A31: 4. | B31: Felhalmozási bevételek (4.1.+…+4.5.) | C31: =SUM(C32:C36) -> 0 | E31: =SUM(E32:E36) -> 0 | F31: =SUM(F32:F36) -> 0 | G31: =SUM(G32:G36) -> 0 | H31: =SUM(H32:H36) -> 0
A32: 4.1 | B32: Immateriális javak értékesítése | E32: =F32-D32 -> 0
A33: 4.2 | B33: Ingatlanok értékesítése | E33: =F33-D33 -> 0
A34: 4.3 | B34: Egyéb tárgyi eszközök értékesítése | E34: =F34-D34 -> 0
A35: 4.4 | B35: Részesedések értékesítése | E35: =F35-D35 -> 0
A36: 4.5 | B36: Részesedések megszűnéséhez kapcsolódó bevételek | E36: =F36-D36 -> 0
A37: 5. | B37: Működési célú átvett pénzeszközök (5.1. + … +57.3.) | C37: =SUM(C38:C40) -> 0 | E37: =SUM(E38:E40) -> 0 | F37: =SUM(F38:F40) -> 0 | G37: =SUM(G38:G40) -> 0 | H37: =SUM(H38:H40) -> 0
A38: 5.1 | B38: Működési célú garancia- és kezességvállalásból megtérülések ÁH-n kívülről | E38: =F38-D38 -> 0
A39: 5.2 | B39: Működési célú visszatérítendő támogatások, kölcsönök visszatér. ÁH-n kívülről | E39: =F39-D39 -> 0
A40: 5.3 | B40: Egyéb működési célú átvett pénzeszköz | E40: =F40-D40 -> 0
...

Sheet 1.3.sz.mell.
A1: B E V É T E L E K
A2: 1. sz. táblázat | C2: Forintban
A3: Sor- szám | B3: Bevételi jogcím | C3: 2024. évi előirányzat | D3: Módosított előirányzat | E3: Javasolt módosítás | F3: Módosított előirányzat | G3: Társulási Tanács által javasolt módosítás | H3: Módosított előirányzat
A4: 1 | B4: 2 | C4: 3 | E4: 3 | F4: 3 | G4: 3 | H4: 3
A5: 1. | B5: Működési célú támogatások államháztartáson belülről (1.1.+…+.1.5.) | C5: =+C6+C7+C8+C9+C10 -> 97297000 | D5: =+D6+D7+D8+D9+D10 -> 97297000 | E5: =+E6+E7+E8+E9+E10 -> 0 | F5: =+F6+F7+F8+F9+F10 -> 97297000 | G5: =+G6+G7+G8+G9+G10 -> 0 | H5: =+H6+H7+H8+H9+H10 -> 0
A6: 1.1 | B6: Elvonások és befizetések bevételei | E6: =F6-D6 -> 0
A7: 1.2 | B7: Működési célú garancia- és kezességvállalásból megtérülések | E7: =F7-D7 -> 0
A8: 1.3 | B8: Működési célú visszatérítendő támogatások, kölcsönök visszatérülése | E8: =F8-D8 -> 0
A9: 1.4 | B9: Működési célú visszatérítendő támogatások, kölcsönök igénybevétele | E9: =F9-D9 -> 0
A10: 1.5 | B10: Egyéb működési célú támogatások bevételei | C10: 97297000 | D10: 97297000 | E10: =F10-D10 -> 0 | F10: 97297000
A11: 1.6 | B11: 2.5.-ből EU-s támogatás | E11: =F11-D11 -> 0
A12: 2. | B12: Felhalmozási célú támogatások államháztartáson belülről (2.1.+…+2.5.) | C12: =+C13+C14+C15+C16+C17 -> 0 | E12: =+E13+E14+E15+E16+E17 -> 0 | F12: =+F13+F14+F15+F16+F17 -> 0 | G12: =+G13+G14+G15+G16+G17 -> 0 | H12: =+H13+H14+H15+H16+H17 -> 0
A13: 2.1 | B13: Felhalmozási célú önkormányzati támogatások | E13: =F13-D13 -> 0
A14: 2.2 | B14: Felhalmozási célú garancia- és kezességvállalásból megtérülések | E14: =F14-D14 -> 0
A15: 2.3 | B15: Felhalmozási célú visszatérítendő támogatások, kölcsönök visszatérülése | E15: =F15-D15 -> 0
A16: 2.4 | B16: Felhalmozási célú visszatérítendő támogatások, kölcsönök igénybevétele | E16: =F16-D16 -> 0
A17: 2.5 | B17: Egyéb felhalmozási célú támogatások bevételei | E17: =F17-D17 -> 0
A18: 2.6 | B18: 3.5.-ből EU-s támogatás | E18: =F18-D18 -> 0
A19: 3. | B19: Működési bevételek (3.1.+…+ 3.11.) | C19: =SUM(C20:C30) -> 55093000 | D19: =SUM(D20:D30) -> 55061000 | E19: =SUM(E20:E30) -> 0 | F19: =SUM(F20:F30) -> 55061000 | G19: =SUM(G20:G30) -> 0 | H19: =SUM(H20:H30) -> 0
A20: 3.1 | B20: Készletértékesítés ellenértéke | E20: =F20-D20 -> 0
A21: 3.2 | B21: Szolgáltatások ellenértéke | E21: =F21-D21 -> 0
A22: 3.3 | B22: Közvetített szolgáltatások értéke | E22: =F22-D22 -> 0
A23: 3.4 | B23: Tulajdonosi bevételek | E23: =F23-D23 -> 0
A24: 3.5 | B24: Ellátási díjak | E24: =F24-D24 -> 0
A25: 3.6 | B25: Kiszámlázott általános forgalmi adó | E25: =F25-D25 -> 0
A26: 3.7 | B26: Általános forgalmi adó visszatérítése | E26: =F26-D26 -> 0
A27: 3.8 | B27: Kamatbevételek | E27: =F27-D27 -> 0
A28: 3.9 | B28: Egyéb pénzügyi műveletek bevételei | E28: =F28-D28 -> 0
A29: 3.10 | B29: Biztosító által fizetett kártérítés | E29: =F29-D29 -> 0
A30: 3.11 | B30: Egyéb működési bevételek | C30: 55093000 | D30: 55061000 | E30: =F30-D30 -> 0 | F30: 55061000
A31: 4. | B31: Felhalmozási bevételek (4.1.+…+4.5.) | C31: =SUM(C32:C36) -> 0 | E31: =SUM(E32:E36) -> 0 | F31: =SUM(F32:F36) -> 0 | G31: =SUM(G32:G36) -> 0 | H31: =SUM(H32:H36) -> 0
A32: 4.1 | B32: Immateriális javak értékesítése | E32: =F32-D32 -> 0
A33: 4.2 | B33: Ingatlanok értékesítése | E33: =F33-D33 -> 0
A34: 4.3 | B34: Egyéb tárgyi eszközök értékesítése | E34: =F34-D34 -> 0
A35: 4.4 | B35: Részesedések értékesítése | E35: =F35-D35 -> 0
A36: 4.5 | B36: Részesedések megszűnéséhez kapcsolódó bevételek | E36: =F36-D36 -> 0
A37: 5. | B37: Működési célú átvett pénzeszközök (5.1. + … +57.3.) | C37: =SUM(C38:C40) -> 0 | E37: =SUM(E38:E40) -> 0 | F37: =SUM(F38:F40) -> 0 | G37: =SUM(G38:G40) -> 0 | H37: =SUM(H38:H40) -> 0
A38: 5.1 | B38: Működési célú garancia- és kezességvállalásból megtérülések ÁH-n kívülről | E38: =F38-D38 -> 0
A39: 5.2 | B39: Működési célú visszatérítendő támogatások, kölcsönök visszatér. ÁH-n kívülről | E39: =F39-D39 -> 0
A40: 5.3 | B40: Egyéb működési célú átvett pénzeszköz | E40: =F40-D40 -> 0
...

Sheet 1.4.sz.mell.
A1: B E V É T E L E K
A2: 1. sz. táblázat | C2: Forintban | E2: Ezer forintban | F2: Ezer forintban | G2: Ezer forintban | H2: Ezer forintban
A3: Sor- szám | B3: Bevételi jogcím | C3: 2024. évi előirányzat | E3: Javasolt módosítás | F3: Módosított előirányzat | G3: Társulási Tanács által javasolt módosítás | H3: Módosított előirányzat
A4: 1 | B4: 2 | C4: 3 | E4: 3 | F4: 3 | G4: 3 | H4: 3
A5: 1. | B5: Működési célú támogatások államháztartáson belülről (1.1.+…+.1.5.) | C5: =+C6+C7+C8+C9+C10 -> 0 | E5: =+E6+E7+E8+E9+E10 -> 0 | F5: =+F6+F7+F8+F9+F10 -> 0 | G5: =+G6+G7+G8+G9+G10 -> 0 | H5: =+H6+H7+H8+H9+H10 -> 0
A6: 1.1 | B6: Elvonások és befizetések bevételei
A7: 1.2 | B7: Működési célú garancia- és kezességvállalásból megtérülések
A8: 1.3 | B8: Működési célú visszatérítendő támogatások, kölcsönök visszatérülése
A9: 1.4 | B9: Működési célú visszatérítendő támogatások, kölcsönök igénybevétele
A10: 1.5 | B10: Egyéb működési célú támogatások bevételei
A11: 1.6 | B11: 2.5.-ből EU-s támogatás
A12: 2. | B12: Felhalmozási célú támogatások államháztartáson belülről (2.1.+…+2.5.) | C12: =+C13+C14+C15+C16+C17 -> 0 | E12: =+E13+E14+E15+E16+E17 -> 0 | F12: =+F13+F14+F15+F16+F17 -> 0 | G12: =+G13+G14+G15+G16+G17 -> 0 | H12: =+H13+H14+H15+H16+H17 -> 0
A13: 2.1 | B13: Felhalmozási célú önkormányzati támogatások
A14: 2.2 | B14: Felhalmozási célú garancia- és kezességvállalásból megtérülések
A15: 2.3 | B15: Felhalmozási célú visszatérítendő támogatások, kölcsönök visszatérülése
A16: 2.4 | B16: Felhalmozási célú visszatérítendő támogatások, kölcsönök igénybevétele
A17: 2.5 | B17: Egyéb felhalmozási célú támogatások bevételei
A18: 2.6 | B18: 3.5.-ből EU-s támogatás
A19: 3. | B19: Működési bevételek (3.1.+…+ 3.11.) | C19: =SUM(C20:C30) -> 0 | E19: =SUM(E20:E30) -> 0 | F19: =SUM(F20:F30) -> 0 | G19: =SUM(G20:G30) -> 0 | H19: =SUM(H20:H30) -> 0
A20: 3.1 | B20: Készletértékesítés ellenértéke
A21: 3.2 | B21: Szolgáltatások ellenértéke
A22: 3.3 | B22: Közvetített szolgáltatások értéke
A23: 3.4 | B23: Tulajdonosi bevételek
A24: 3.5 | B24: Ellátási díjak
A25: 3.6 | B25: Kiszámlázott általános forgalmi adó
A26: 3.7 | B26: Általános forgalmi adó visszatérítése
A27: 3.8 | B27: Kamatbevételek
A28: 3.9 | B28: Egyéb pénzügyi műveletek bevételei
A29: 3.10 | B29: Biztosító által fizetett kártérítés
A30: 3.11 | B30: Egyéb működési bevételek
A31: 4. | B31: Felhalmozási bevételek (4.1.+…+4.5.) | C31: =SUM(C32:C36) -> 0 | E31: =SUM(E32:E36) -> 0 | F31: =SUM(F32:F36) -> 0 | G31: =SUM(G32:G36) -> 0 | H31: =SUM(H32:H36) -> 0
A32: 4.1 | B32: Immateriális javak értékesítése
A33: 4.2 | B33: Ingatlanok értékesítése
A34: 4.3 | B34: Egyéb tárgyi eszközök értékesítése
A35: 4.4 | B35: Részesedések értékesítése
A36: 4.5 | B36: Részesedések megszűnéséhez kapcsolódó bevételek
A37: 5. | B37: Működési célú átvett pénzeszközök (5.1. + … +57.3.) | C37: =SUM(C38:C40) -> 0 | E37: =SUM(E38:E40) -> 0 | F37: =SUM(F38:F40) -> 0 | G37: =SUM(G38:G40) -> 0 | H37: =SUM(H38:H40) -> 0
A38: 5.1 | B38: Működési célú garancia- és kezességvállalásból megtérülések ÁH-n kívülről
A39: 5.2 | B39: Működési célú visszatérítendő támogatások, kölcsönök visszatér. ÁH-n kívülről
A40: 5.3 | B40: Egyéb működési célú átvett pénzeszköz
...

Sheet 2.sz.mell  
B1: I. Működési célú bevételek és kiadások mérlege (Társulási szinten)
J2: Forintban | L2: Ezer forintban ! | M2: Ezer forintban ! | N2: Ezer forintban ! | O2: Ezer forintban !
A3: Sor- szám | B3: Bevételek | I3: Kiadások
B4: Megnevezés | C4: 2024. évi előirányzat | E4: Javasolt módosítás | F4: Módosított előirányzat | G4: Társulási Tanács által javasolt módosítás | H4: Módosított előirányzat | I4: Megnevezés | J4: 2024. évi előirányzat | L4: Javasolt módosítás | M4: Módosított előirányzat | N4: Társulási Tanács által javasolt módosítás | O4: Módosított előirányzat
A5: 1 | B5: 2 | C5: 3. | E5: 3. | F5: 3. | G5: 3. | H5: 3. | I5: 4. | J5: 5. | L5: 5. | M5: 5. | N5: 5. | O5: 5.
A6: 1. | B6: Működési célú támogatások államháztartáson belülről | C6: ='1.1.sz.mell.'!C5 -> 374420000 | D6: ='1.1.sz.mell.'!D5 -> 0 | E6: ='1.1.sz.mell.'!E5 -> 0 | F6: ='1.1.sz.mell.'!F5 -> 0 | G6: ='1.1.sz.mell.'!G5 -> 0 | H6: ='1.1.sz.mell.'!H5 -> 0 | I6: Személyi juttatások | J6: ='1.1.sz.mell.'!C78 -> 323592000 | K6: ='1.1.sz.mell.'!D78 -> 0 | L6: ='1.1.sz.mell.'!E78 -> 0 | M6: ='1.1.sz.mell.'!F78 -> 0 | N6: ='1.1.sz.mell.'!G78 -> 0 | O6: ='1.1.sz.mell.'!H78 -> 0
A7: 2. | B7: Működési bevételek | C7: ='1.1.sz.mell.'!C19 -> 109865000 | D7: ='1.1.sz.mell.'!D19 -> 0 | E7: ='1.1.sz.mell.'!E19 -> 0 | F7: ='1.1.sz.mell.'!F19 -> 0 | G7: ='1.1.sz.mell.'!G19 -> 0 | H7: ='1.1.sz.mell.'!H19 -> 0 | I7: Munkaadókat terhelő járulékok és szociális hozzájárulási adó | J7: ='1.1.sz.mell.'!C79 -> 39657000 | K7: ='1.1.sz.mell.'!D79 -> 0 | L7: ='1.1.sz.mell.'!E79 -> 0 | M7: ='1.1.sz.mell.'!F79 -> 0 | N7: ='1.1.sz.mell.'!G79 -> 0 | O7: ='1.1.sz.mell.'!H79 -> 0
A8: 3. | B8: Működési célú átvett pénzeszközök | C8: ='1.1.sz.mell.'!C37 -> 0 | D8: ='1.1.sz.mell.'!D37 -> 0 | E8: ='1.1.sz.mell.'!E37 -> 0 | F8: ='1.1.sz.mell.'!F37 -> 0 | G8: ='1.1.sz.mell.'!G37 -> 0 | H8: ='1.1.sz.mell.'!H37 -> 0 | I8: Dologi kiadások | J8: ='1.1.sz.mell.'!C80 -> 103849000 | K8: ='1.1.sz.mell.'!D80 -> 0 | L8: ='1.1.sz.mell.'!E80 -> 0 | M8: ='1.1.sz.mell.'!F80 -> 0 | N8: ='1.1.sz.mell.'!G80 -> 0 | O8: ='1.1.sz.mell.'!H80 -> 0
A9: 4. | I9: Ellátottak pénzbeli juttatásai | J9: ='1.1.sz.mell.'!C81 -> 0 | K9: ='1.1.sz.mell.'!D81 -> 0 | L9: ='1.1.sz.mell.'!E81 -> 0 | M9: ='1.1.sz.mell.'!F81 -> 0 | N9: ='1.1.sz.mell.'!G81 -> 0 | O9: ='1.1.sz.mell.'!H81 -> 0
A10: 5. | C10: ='1.1.sz.mell.'!C37 -> 0 | D10: ='1.1.sz.mell.'!D37 -> 0 | E10: ='1.1.sz.mell.'!E37 -> 0 | F10: ='1.1.sz.mell.'!F37 -> 0 | G10: ='1.1.sz.mell.'!G37 -> 0 | H10: ='1.1.sz.mell.'!H37 -> 0 | I10: Egyéb működési célú kiadások | J10: ='1.1.sz.mell.'!C82 -> 72141874 | K10: ='1.1.sz.mell.'!D82 -> 0 | L10: ='1.1.sz.mell.'!E82 -> 0 | M10: ='1.1.sz.mell.'!F82 -> 0 | N10: ='1.1.sz.mell.'!G82 -> 0 | O10: ='1.1.sz.mell.'!H82 -> 0
A11: 6. | I11: Tartalékok | J11: ='1.1.sz.mell.'!C89 -> 14103148 | K11: ='1.1.sz.mell.'!D89 -> 0 | L11: ='1.1.sz.mell.'!E89 -> 0 | M11: ='1.1.sz.mell.'!F89 -> 0 | N11: ='1.1.sz.mell.'!G89 -> 0 | O11: ='1.1.sz.mell.'!H89 -> 0
A12: 7.
A13: 8.
A14: 9.
A15: 10.
A16: 11.
A17: 12.
A18: 13. | B18: Költségvetési bevételek összesen (1.+2.+4.+5.+7.+…+12.) | C18: =+C6+C7+C9+C10+C12+C13+C14+C15+C16+C17 -> 484285000 | D18: =+D6+D7+D9+D10+D12+D13+D14+D15+D16+D17 -> 0 | E18: =+E6+E7+E9+E10+E12+E13+E14+E15+E16+E17 -> 0 | F18: =+F6+F7+F9+F10+F12+F13+F14+F15+F16+F17 -> 0 | G18: =+G6+G7+G9+G10+G12+G13+G14+G15+G16+G17 -> 0 | H18: =+H6+H7+H9+H10+H12+H13+H14+H15+H16+H17 -> 0 | I18: Költségvetési kiadások összesen (1.+...+12.) | J18: =SUM(J6:J17) -> 553343022 | K18: =SUM(K6:K17) -> 0 | L18: =SUM(L6:L17) -> 0 | M18: =SUM(M6:M17) -> 0 | N18: =SUM(N6:N17) -> 0 | O18: =SUM(O6:O17) -> 0
A19: 14. | B19: Hiány belső finanszírozásának bevételei (15.+…+18. ) | C19: =+C20+C21+C22+C23 -> 69058022 | D19: =+D20+D21+D22+D23 -> 69058022 | E19: =+E20+E21+E22+E23 -> 0 | F19: =+F20+F21+F22+F23 -> 69058022 | G19: =+G20+G21+G22+G23 -> 0 | H19: =+H20+H21+H22+H23 -> 69058022 | I19: Értékpapír vásárlása, visszavásárlása
A20: 15. | B20: Költségvetési maradvány igénybevétele | C20: 69058022 | D20: 69058022 | F20: 69058022 | H20: 69058022 | I20: Likviditási célú hitelek törlesztése
A21: 16. | B21: Vállalkozási maradvány igénybevétele | I21: Rövid lejáratú hitelek törlesztése
A22: 17. | B22: Betét visszavonásából származó bevétel | I22: Hosszú lejáratú hitelek törlesztése
A23: 18. | B23: Egyéb belső finanszírozási bevételek | I23: Kölcsön törlesztése
A24: 19. | B24: Hiány külső finanszírozásának bevételei (20.+…+21.) | C24: =+C25+C26 -> 0 | E24: =+E25+E26 -> 0 | F24: =+F25+F26 -> 0 | G24: =+G25+G26 -> 0 | H24: =+H25+H26 -> 0 | I24: Forgatási célú belföldi, külföldi értékpapírok vásárlása
A25: 20. | B25: Likviditási célú hitelek, kölcsönök felvétele | I25: Betét elhelyezése
A26: 21. | B26: Értékpapírok bevételei
A27: 22. | B27: Működési célú finanszírozási bevételek összesen (14.+19.) | C27: =+C19+C24 -> 69058022 | D27: =+D19+D24 -> 69058022 | E27: =+E19+E24 -> 0 | F27: =+F19+F24 -> 69058022 | G27: =+G19+G24 -> 0 | H27: =+H19+H24 -> 69058022 | I27: Működési célú finanszírozási kiadások összesen (14.+...+21.) | J27: =SUM(J19:J26) -> 0 | L27: =SUM(L19:L26) -> 0 | M27: =SUM(M19:M26) -> 0 | N27: =SUM(N19:N26) -> 0 | O27: =SUM(O19:O26) -> 0
A28: 23. | B28: BEVÉTEL ÖSSZESEN (13.+22.) | C28: =+C18+C27 -> 553343022 | D28: =+D18+D27 -> 69058022 | E28: =+E18+E27 -> 0 | F28: =+F18+F27 -> 69058022 | G28: =+G18+G27 -> 0 | H28: =+H18+H27 -> 69058022 | I28: KIADÁSOK ÖSSZESEN (13.+22.) | J28: =+J18+J27 -> 553343022 | K28: =+K18+K27 -> 0 | L28: =+L18+L27 -> 0 | M28: =+M18+M27 -> 0 | N28: =+N18+N27 -> 0 | O28: =+O18+O27 -> 0
A29: 24. | B29: Költségvetési hiány: | C29: =IF(C18-J18<0,J18-C18,"-") -> 69058022 | D29: =IF(D18-K18<0,K18-D18,"-") -> - | E29: =IF(E18-L18<0,L18-E18,"-") -> - | F29: =IF(F18-M18<0,M18-F18,"-") -> - | G29: =IF(G18-N18<0,N18-G18,"-") -> - | H29: =IF(H18-O18<0,O18-H18,"-") -> - | I29: Költségvetési többlet: | J29: =IF(C18-J18>0,C18-J18,"-") -> - | K29: =IF(D18-K18>0,D18-K18,"-") -> - | L29: =IF(E18-L18>0,E18-L18,"-") -> - | M29: =IF(F18-M18>0,F18-M18,"-") -> - | N29: =IF(G18-N18>0,G18-N18,"-") -> - | O29: =IF(H18-O18>0,H18-O18,"-") -> -
A30: 25. | B30: Tárgyévi hiány: | C30: =IF(C18+C19-J28<0,J28-(C18+C19),"-") -> - | D30: =IF(D18+D19-K28<0,K28-(D18+D19),"-") -> - | E30: =IF(E18+E19-L28<0,L28-(E18+E19),"-") -> - | F30: =IF(F18+F19-M28<0,M28-(F18+F19),"-") -> - | G30: =IF(G18+G19-N28<0,N28-(G18+G19),"-") -> - | H30: =IF(H18+H19-O28<0,O28-(H18+H19),"-") -> - | I30: Tárgyévi többlet: | J30: =IF(C18+C19-J28>0,C18+C19-J28,"-") -> - | K30: =IF(D18+D19-K28>0,D18+D19-K28,"-") -> 69058022 | L30: =IF(E18+E19-L28>0,E18+E19-L28,"-") -> - | M30: =IF(F18+F19-M28>0,F18+F19-M28,"-") -> 69058022 | N30: =IF(G18+G19-N28>0,G18+G19-N28,"-") -> - | O30: =IF(H18+H19-O28>0,H18+H19-O28,"-") -> 69058022
B32: II. Felhalmozási célú bevételek és kiadások mérlege (Társulási szinten)
J33: Forintban | L33: Ezer forintban ! | M33: Ezer forintban ! | N33: Ezer forintban ! | O33: Ezer forintban !
A34: Sor- szám | B34: Bevételek | I34: Kiadások
B35: Megnevezés | C35: 2024. évi előirányzat | E35: Javasolt módosítás | F35: Módosított előirányzat | G35: Társulási Tanács által javasolt módosítás | H35: Módosított előirányzat | I35: Megnevezés | J35: 2024. évi előirányzat | L35: Javasolt módosítás | M35: Módosított előirányzat | N35: Társulási Tanács által javasolt módosítás | O35: Módosított előirányzat
A36: 1 | B36: 2 | C36: 3 | E36: 3 | F36: 3 | G36: 3 | H36: 3 | I36: 4 | J36: 5 | L36: 5 | M36: 5 | N36: 5 | O36: 5
A37: 1. | B37: Felhalmozási célú támogatások államháztartáson belülről | C37: ='1.1.sz.mell.'!C12 -> 0 | D37: ='1.1.sz.mell.'!D12 -> 0 | E37: ='1.1.sz.mell.'!E12 -> 0 | F37: ='1.1.sz.mell.'!F12 -> 0 | G37: ='1.1.sz.mell.'!G12 -> 0 | H37: ='1.1.sz.mell.'!H12 -> 0 | I37: Beruházások | J37: ='1.1.sz.mell.'!C84 -> 850000 | K37: ='1.1.sz.mell.'!D84 -> 0 | L37: ='1.1.sz.mell.'!E84 -> 0 | M37: ='1.1.sz.mell.'!F84 -> 0 | N37: ='1.1.sz.mell.'!G84 -> 0 | O37: ='1.1.sz.mell.'!H84 -> 0
A38: 2. | B38: 1.-ből EU-s támogatás | I38: 1.-ből EU-s forrásból megvalósuló beruházás
A39: 3. | B39: Felhalmozási bevételek | C39: ='1.1.sz.mell.'!C31 -> 0 | D39: ='1.1.sz.mell.'!D31 -> 0 | E39: ='1.1.sz.mell.'!E31 -> 0 | F39: ='1.1.sz.mell.'!F31 -> 0 | G39: ='1.1.sz.mell.'!G31 -> 0 | H39: ='1.1.sz.mell.'!H31 -> 0 | I39: Felújítások
A40: 4. | B40: Felhalmozási célú átvett pénzeszközök átvétele | I40: 3.-ból EU-s forrásból megvalósuló felújítás
A41: 5. | B41: 4.-ből EU-s támogatás (közvetlen) | I41: Egyéb felhalmozási kiadások | J41: ='1.1.sz.mell.'!C88 -> 0 | K41: ='1.1.sz.mell.'!D88 -> 0 | L41: ='1.1.sz.mell.'!E88 -> 0 | M41: ='1.1.sz.mell.'!F88 -> 0 | N41: ='1.1.sz.mell.'!G88 -> 0 | O41: ='1.1.sz.mell.'!H88 -> 0
...

Sheet 3.sz.mell.
F2: Forintban
A3: Száma | B3: Előirányzat-csoport, kiemelt előirányzat megnevezése | C3: Előirányzat
A4: 1 | B4: 2 | C4: Kötelező | D4: Önként vállalt | E4: Államigazgatási | F4: Összesen
B5: Bevételek | C5: Feladat
A6: 1. | B6: Működési bevételek | C6: 25882000 | D6: 14429000 | F6: =C6+D6+E6 -> 40311000 | I6: =C6+'4. sz. mell'!C5 -> 54772000 | J6: =D6+'4. sz. mell'!D5 -> 55093000
A7: 2. | B7: Működési célú támogatások államháztartáson belülről (2.1.+…+2.5.) | C7: =SUM(C8:C12) -> 242884000 | D7: =SUM(D8:D12) -> 89175000 | E7: =SUM(E8:E12) -> 0 | F7: =C7+D7+E7 -> 332059000 | I7: =C7+'4. sz. mell'!C6 -> 277123000 | J7: =D7+'4. sz. mell'!D6 -> 97297000 | L7: =SUM(I7:K7) -> 374420000
A8: 2.1 | B8: Elvonások és befizetések bevételei | F8: =C8+D8+E8 -> 0 | I8: =C8+'4. sz. mell'!C7 -> 0 | J8: =D8+'4. sz. mell'!D7 -> 0
A9: 2.2 | B9: Működési célú garancia- és kezességvállalásból megtérülések | I9: =C9+'4. sz. mell'!C8 -> 0 | J9: =D9+'4. sz. mell'!D8 -> 0
A10: 2.3 | B10: Működési célú visszatérítendő támogatások, kölcsönök visszatérülése | I10: =C10+'4. sz. mell'!C9 -> 0 | J10: =D10+'4. sz. mell'!D9 -> 0
A11: 2.4 | B11: Működési célú visszatérítendő támogatások, kölcsönök igénybevétele | F11: =C11+D11+E11 -> 0 | I11: =C11+'4. sz. mell'!C10 -> 0 | J11: =D11+'4. sz. mell'!D10 -> 0
A12: 2.5 | B12: Egyéb működési célú támogatások bevételei | C12: 242884000 | D12: 89175000 | F12: =C12+D12+E12 -> 332059000 | I12: =C12+'4. sz. mell'!C11 -> 277123000 | J12: =D12+'4. sz. mell'!D11 -> 97297000
A13: 2.6 | B13: 2.5.-ből EU-s támogatás | F13: =C13+D13+E13 -> 0 | I13: =C13+'4. sz. mell'!C12 -> 0 | J13: =D13+'4. sz. mell'!D12 -> 0
A14: 3. | B14: Felhalmozási célú támogatások államháztartáson belülről (3.1.+3.5.) | C14: =+C18+C19 -> 0 | D14: =+D18+D19 -> 0 | E14: =+E18+E19 -> 0 | F14: =C14+D14+E14 -> 0 | I14: =C14+'4. sz. mell'!C13 -> 0 | J14: =D14+'4. sz. mell'!D13 -> 0
A15: 3.1 | B15: Felhalmozási célú önkormányzati támogatások
A16: 3.2 | B16: Felhalmozási célú garancia- és kezességvállalásból megtérülések
A17: 3.3 | B17: Felhalmozási célú visszatérítendő támogatások, kölcsönök visszatérülése
A18: 3.4 | B18: Felhalmozási célú visszatérítendő támogatások, kölcsönök igénybevétele | F18: =C18+D18+E18 -> 0 | I18: =C18+'4. sz. mell'!C14 -> 0 | J18: =D18+'4. sz. mell'!D14 -> 0
A19: 3.5 | B19: Egyéb felhalmozási célú támogatások bevételei | F19: =C19+D19+E19 -> 0 | I19: =C19+'4. sz. mell'!C18 -> 0 | J19: =D19+'4. sz. mell'!D18 -> 0
A20: 3.6 | B20: 3.5.-ből EU-s támogatás | F20: =C20+D20+E20 -> 0 | I20: =C20+'4. sz. mell'!C19 -> 0 | J20: =D20+'4. sz. mell'!D19 -> 0
A21: 4. | B21: Felhalmozási bevételek (4.1.+…+4.3.) | C21: =+C22+C23+C24 -> 0 | D21: =+D22+D23+D24 -> 0 | E21: =+E22+E23+E24 -> 0 | F21: =C21+D21+E21 -> 0 | I21: =C21+'4. sz. mell'!C20 -> 0 | J21: =D21+'4. sz. mell'!D20 -> 0
A22: 4.1 | B22: Immateriális javak értékesítése | F22: =C22+D22+E22 -> 0
A23: 4.2 | B23: Ingatlanok értékesítése | F23: =C23+D23+E23 -> 0
A24: 4.3 | B24: Egyéb tárgyi eszközök értékesítése | F24: =C24+D24+E24 -> 0
A25: 5. | B25: Működési célú átvett pénzeszközök | F25: =C25+D25+E25 -> 0
A26: 6. | B26: Felhalmozási célú átvett pénzeszközök | F26: =C26+D26+E26 -> 0
A27: 7. | B27: Költségvetési bevételek összesen (1.+…+7.) | C27: =+C6+C7+C14+C21+C25+C26 -> 268766000 | D27: =+D6+D7+D14+D21+D25+D26 -> 103604000 | E27: =+E6+E7+E14+E21+E25+E26 -> 0 | F27: =C27+D27+E27 -> 372370000
A28: 8. | B28: Finanszírozási bevételek (8.1.+…+8.3.) | C28: =+C29+C30+C31 -> 8308097 | D28: =+D29+D30+D31 -> 5795051 | E28: =+E29+E30+E31 -> 0 | F28: =C28+D28+E28 -> 14103148
A29: 8.1 | B29: Költségvetési maradvány igénybevétele | C29: 8308097 | D29: 5795051 | F29: =C29+D29+E29 -> 14103148 | I29: =C29+'4. sz. mell'!C28 -> 64112971 | J29: =D29+'4. sz. mell'!D28 -> 5795051
A30: 8.2 | B30: Vállalkozási maradvány igénybevétele | F30: =C30+D30+E30 -> 0
A31: 8.3 | B31: Irányító szervi (önkormányzati) támogatás (intézményfinanszírozás) | F31: =C31+D31+E31 -> 0
A32: 9. | B32: BEVÉTELEK ÖSSZESEN: (7.+8.) | C32: =+C27+C28 -> 277074097 | D32: =+D27+D28 -> 109399051 | E32: =+E27+E28 -> 0 | F32: =C32+D32+E32 -> 386473148
B35: Kiadások | C35: Kötelező | D35: Önként vállalt | E35: Államigazgatási | F35: Összesen:
A36: 1. | B36: Működési költségvetés kiadásai (1.1+…+1.6.) | C36: =SUM(C37:C42) -> 11483097 | D36: =SUM(D37:D42) -> 20224051 | E36: =SUM(E37:E42) -> 0 | F36: =C36+D36+E36 -> 31707148
A37: 1.1. | B37: Személyi juttatások | D37: 300000 | F37: =C37+D37+E37 -> 300000 | I37: =C37+'4. sz. mell'!C35 -> 233649000 | J37: =D37+'4. sz. mell'!D35 -> 89943000 | S37: =#REF!+'4. sz. mell'!#REF! -> #REF! | T37: =#REF!+'4. sz. mell'!#REF! -> #REF! | U37: =#REF!+'4. sz. mell'!#REF! -> #REF! | V37: =#REF!+'4. sz. mell'!#REF! -> #REF! | W37: =E37+'4. sz. mell'!E35 -> 0 | X37: =#REF!+'4. sz. mell'!#REF! -> #REF! | Y37: =#REF!+'4. sz. mell'!#REF! -> #REF! | Z37: =#REF!+'4. sz. mell'!#REF! -> #REF! | AA37: =#REF!+'4. sz. mell'!#REF! -> #REF!
A38: 1.2. | B38: Munkaadókat terhelő járulékok és szociális hozzájárulási adó | D38: 112000 | F38: =C38+D38+E38 -> 112000 | I38: =C38+'4. sz. mell'!C36 -> 28608000 | J38: =D38+'4. sz. mell'!D36 -> 11049000
A39: 1.3. | B39: Dologi kiadások | C39: 3175000 | D39: 5469000 | F39: =C39+D39+E39 -> 8644000 | I39: =C39+'4. sz. mell'!C37 -> 61599000 | J39: =D39+'4. sz. mell'!D37 -> 42250000
A40: 1.4. | B40: Ellátottak pénzbeli juttatásai | F40: =C40+D40+E40 -> 0 | I40: =C40+'4. sz. mell'!C38 -> 0 | J40: =D40+'4. sz. mell'!D38 -> 0
A41: 1.5. | B41: Egyéb működési célú kiadások | D41: 8548000 | F41: =C41+D41+E41 -> 8548000 | I41: =C41+'4. sz. mell'!C39 -> 63593874 | J41: =D41+'4. sz. mell'!D39 -> 8548000
A42: 1.6. | B42: Tartalékok | C42: 8308097 | D42: 5795051 | F42: =C42+D42+E42 -> 14103148
A43: 2. | B43: Felhalmozási költségvetés kiadásai (2.1.+…+2.3.) | C43: =SUM(C44:C46) -> 0 | D43: =SUM(D44:D46) -> 0 | E43: =SUM(E44:E46) -> 0 | F43: =C43+D43+E43 -> 0
...

Sheet 4. sz. mell
F1: Forintban
A2: Száma | B2: Előirányzat-csoport, kiemelt előirányzat megnevezése | C2: Előirányzat
A3: 1 | B3: 2 | C3: Kötelező feladat | D3: Önként vállalt feladat | E3: Állami feladat | F3: Összesen
B4: Bevételek
A5: 1. | B5: Működési bevételek | C5: 28890000 | D5: 40664000 | F5: =C5+D5+E5 -> 69554000
A6: 2. | B6: Működési célú támogatások államháztartáson belülről (2.1.+…+2.5.) | C6: =SUM(C7:C11) -> 34239000 | D6: =SUM(D7:D11) -> 8122000 | E6: =SUM(E7:E11) -> 0 | F6: =C6+D6+E6 -> 42361000
A7: 2.1 | B7: Elvonások és befizetések bevételei | F7: =C7+D7+E7 -> 0
A8: 2.2 | B8: Működési célú garancia- és kezességvállalásból megtérülések | F8: =C8+D8+E8 -> 0
A9: 2.3 | B9: Működési célú visszatérítendő támogatások, kölcsönök visszatérülése
A10: 2.4 | B10: Működési célú visszatérítendő támogatások, kölcsönök igénybevétele
A11: 2.5 | B11: Egyéb működési célú támogatások bevételei | C11: 34239000 | D11: 8122000 | F11: =C11+D11+E11 -> 42361000
A12: 2.6 | B12: 2.5.-ből EU-s támogatás | F12: =C12+D12+E12 -> 0
A13: 3. | B13: Felhalmozási célú támogatások államháztartáson belülről (3.1.+3.5.) | C13: =+C14+C18 -> 0 | D13: =+D14+D18 -> 0 | E13: =+E14+E18 -> 0 | F13: =C13+D13+E13 -> 0
A14: 3.1 | B14: Felhalmozási célú önkormányzati támogatások | F14: =C14+D14+E14 -> 0
A15: 3.2 | B15: Felhalmozási célú garancia- és kezességvállalásból megtérülések
A16: 3.3 | B16: Felhalmozási célú visszatérítendő támogatások, kölcsönök visszatérülése
A17: 3.4 | B17: Felhalmozási célú visszatérítendő támogatások, kölcsönök igénybevétele
A18: 3.5 | B18: Egyéb felhalmozási célú támogatások bevételei | F18: =C18+D18+E18 -> 0
A19: 3.6 | B19: 3.5.-ből EU-s támogatás | F19: =C19+D19+E19 -> 0
A20: 4. | B20: Felhalmozási bevételek (4.1.+…+4.3.) | C20: =+C21+C22+C23 -> 0 | D20: =+D21+D22+D23 -> 0 | E20: =+E21+E22+E23 -> 0 | F20: =C20+D20+E20 -> 0
A21: 4.1 | B21: Immateriális javak értékesítése | F21: =C21+D21+E21 -> 0
A22: 4.2 | B22: Ingatlanok értékesítése | F22: =C22+D22+E22 -> 0
A23: 4.3 | B23: Egyéb tárgyi eszközök értékesítése | F23: =C23+D23+E23 -> 0
A24: 5. | B24: Működési célú átvett pénzeszközök | F24: =C24+D24+E24 -> 0
A25: 6. | B25: Felhalmozási célú átvett pénzeszközök | F25: =C25+D25+E25 -> 0
A26: 7. | B26: Költségvetési bevételek összesen (1.+…+7.) | C26: =+C5+C6+C13+C20+C24+C25 -> 63129000 | D26: =+D5+D6+D13+D20+D24+D25 -> 48786000 | E26: =+E5+E6+E13+E20+E24+E25 -> 0 | F26: =C26+D26+E26 -> 111915000
A27: 8. | B27: Finanszírozási bevételek (8.1.+…+8.3.) | C27: =+C28+C29+C30 -> 321395874 | D27: =+D28+D29+D30 -> 89175000 | E27: =+E28+E29+E30 -> 0 | F27: =C27+D27+E27 -> 410570874
A28: 8.1 | B28: Költségvetési maradvány igénybevétele | C28: 55804874 | F28: =C28+D28+E28 -> 55804874
A29: 8.2 | B29: Vállalkozási maradvány igénybevétele | F29: =C29+D29+E29 -> 0
A30: 8.3 | B30: Irányító szervi (önkormányzati) támogatás (intézményfinanszírozás) | C30: =C45-C26-C28 -> 265591000 | D30: =D45-D26-D28 -> 89175000 | E30: =E45-(E26+E28+E29) -> 0 | F30: =C30+D30+E30 -> 354766000
A31: 9. | B31: BEVÉTELEK ÖSSZESEN: (7.+8.) | C31: =+C26+C27 -> 384524874 | D31: =+D26+D27 -> 137961000 | E31: =+E26+E27 -> 0 | F31: =C31+D31+E31 -> 522485874
B33: Kiadások
A34: 1. | B34: Működési költségvetés kiadásai (1.1+…+1.5.) | C34: =SUM(C35:C39) -> 384274874 | D34: =SUM(D35:D39) -> 137361000 | E34: =SUM(E35:E39) -> 0 | F34: =C34+D34+E34 -> 521635874
A35: 1.1. | B35: Személyi juttatások | C35: 233649000 | D35: 89643000 | F35: =C35+D35+E35 -> 323292000
A36: 1.2. | B36: Munkaadókat terhelő járulékok és szociális hozzájárulási adó | C36: 28608000 | D36: 10937000 | F36: =C36+D36+E36 -> 39545000
A37: 1.3. | B37: Dologi kiadások | C37: 58424000 | D37: 36781000 | F37: =C37+D37+E37 -> 95205000
A38: 1.4. | B38: Ellátottak pénzbeli juttatásai | F38: =C38+D38+E38 -> 0
A39: 1.5. | B39: Egyéb működési célú kiadások | C39: 63593874 | F39: =C39+D39+E39 -> 63593874
A40: 2. | B40: Felhalmozási költségvetés kiadásai (2.1.+…+2.3.) | C40: =SUM(C41:C43) -> 250000 | D40: =SUM(D41:D43) -> 600000 | E40: =SUM(E41:E43) -> 0 | F40: =C40+D40+E40 -> 850000
A41: 2.1. | B41: Beruházások | C41: 250000 | D41: 600000 | F41: =C41+D41+E41 -> 850000
...

Sheet 5. sz. mell
A1: B E V É T E L E K
E2: Forintban
A3: Sor- szám | B3: Bevételi jogcím | C3: 2025. évi | D3: 2026. évi | E3: 2027. évi
A4: 1 | B4: 2 | C4: 3 | D4: 4 | E4: 5
A5: 1. | B5: Társulási működési támogatásai | C5: 378164200 | D5: 381945842 | E5: 3.857653e+08 | G5: ='1.1.sz.mell.'!#REF! -> #REF!
A6: 2. | B6: Működési célú támogatások államháztartáson belülről | C6: 0 | D6: 0 | E6: 0 | G6: ='1.1.sz.mell.'!C5 -> 374420000 | H6: =G6*1.01 -> 378164200 | I6: =H6*1.01 -> 381945842 | J6: =I6*1.01 -> 3.857653e+08
A7: 3. | B7: Felhalmozási célú támogatások államháztartáson belülről | G7: ='1.1.sz.mell.'!C12 -> 0 | H7: =G7*1.01 -> 0 | I7: =H7*1.01 -> 0 | J7: =I7*1.01 -> 0
A8: 4. | B8: Működési bevételek | C8: 110963650 | D8: 1.1207329e+08 | E8: 1.1319402e+08 | G8: ='1.1.sz.mell.'!C19 -> 109865000 | H8: =G8*1.01 -> 110963650 | I8: =H8*1.01 -> 1.1207329e+08 | J8: =I8*1.01 -> 1.1319402e+08
A9: 5. | B9: Felhalmozási bevételek | G9: ='1.1.sz.mell.'!C31 -> 0 | H9: =G9*1.01 -> 0 | I9: =H9*1.01 -> 0 | J9: =I9*1.01 -> 0
A10: 6. | B10: Működési célú átvett pénzeszközök | G10: ='1.1.sz.mell.'!C37 -> 0 | H10: =G10*1.01 -> 0 | I10: =H10*1.01 -> 0 | J10: =I10*1.01 -> 0
A11: 7. | B11: Felhalmozási célú átvett pénzeszközök | G11: ='1.1.sz.mell.'!C42 -> 0 | H11: =G11*1.01 -> 0 | I11: =H11*1.01 -> 0 | J11: =I11*1.01 -> 0
A12: 8. | B12: KÖLTSÉGVETÉSI BEVÉTELEK ÖSSZESEN: (1+…+7) | C12: =+C5+C6+C7+C8+C9+C10+C11 -> 489127850 | D12: =+D5+D6+D7+D8+D9+D10+D11 -> 4.9401913e+08 | E12: =+E5+E6+E7+E8+E9+E10+E11 -> 4.9895932e+08 | H12: =G12*1.01 -> 0 | I12: =H12*1.01 -> 0 | J12: =I12*1.01 -> 0
A13: 9. | B13: FINANSZÍROZÁSI BEVÉTELEK ÖSSZESEN: | C13: =C27-C12 -> 67831887 | D13: =D27-D12 -> 68651706 | E13: =E27-E12 -> 69228223 | G13: ='1.1.sz.mell.'!C70 -> 69908022 | H13: =G13*1.01 -> 70607102 | I13: =H13*1.01 -> 71313173 | J13: =I13*1.01 -> 72026305
A14: 10. | B14: KÖLTSÉGVETÉSI ÉS FINANSZÍROZÁSI BEVÉTELEK ÖSSZESEN: (8+9) | C14: =+C12+C13 -> 5.5695974e+08 | D14: =+D12+D13 -> 5.6267083e+08 | E14: =+E12+E13 -> 5.6818754e+08
H15: =C27-C14 -> 0 | I15: =D27-D14 -> 0 | J15: =E27-E14 -> 0
A16: K I A D Á S O K
A17: 2. sz. táblázat | E17: Forintban
A18: Sor-szám | B18: Kiadási jogcímek | C18: =+C3 -> 2025. évi | D18: =+D3 -> 2026. évi | E18: =+E3 -> 2027. évi
A19: 1 | B19: 2 | C19: 3 | D19: 4 | E19: 5
A20: 1. | B20: Működési költségvetés kiadásai | C20: 5.5610974e+08 | D20: 5.6167083e+08 | E20: 5.6728754e+08 | G20: ='1.1.sz.mell.'!C77+'1.1.sz.mell.'!C89 -> 553343022 | H20: =G20*1.005 -> 5.5610974e+08 | I20: =H20*1.01 -> 5.6167083e+08 | J20: =I20*1.01 -> 5.6728754e+08
A21: 2. | B21: Felhalmozási költségvetés kiadásai (2.1.+2.2.+2.3.) | C21: =+C22+C23+C24 -> 850000 | D21: =+D22+D23+D24 -> 1000000 | E21: =+E22+E23+E24 -> 900000 | H21: =G21*1.01 -> 0 | I21: =H21*1.01 -> 0 | J21: =I21*1.01 -> 0
A22: 2.1. | B22: Beruházások | C22: 850000 | D22: 1000000 | E22: 900000 | G22: ='1.1.sz.mell.'!C84 -> 850000 | H22: =G22*1.01 -> 858500 | I22: =H22*1.01 -> 867085 | J22: =I22*1.01 -> 875755.85
A23: 2.2. | B23: Felújítások
A24: 2.3. | B24: Egyéb felhalmozási kiadások
A25: 3. | B25: KÖLTSÉGVETÉSI KIADÁSOK ÖSSZESEN (1+2) | C25: =+C20+C21 -> 5.5695974e+08 | D25: =+D20+D21 -> 5.6267083e+08 | E25: =+E20+E21 -> 5.6818754e+08
A26: 4. | B26: FINANSZÍROZÁSI KIADÁSOK ÖSSZESEN: | G26: ='1.1.sz.mell.'!C114 -> 0
A27: 5. | B27: KIADÁSOK ÖSSZESEN: (3.+4.) | C27: =+C25+C26 -> 5.5695974e+08 | D27: =+D25+D26 -> 5.6267083e+08 | E27: =+E25+E26 -> 5.6818754e+08

Sheet 6. sz. mell.
A1: Előirányzat-felhasználási terv 2024. évre
O2: ='[1]1. sz tájékoztató tábla'!E3 -> Forintban!
A3: Sor-szám | B3: Megnevezés | C3: Január | D3: Február | E3: Március | F3: Április | G3: Május | H3: Június | I3: Július | J3: Auguszt. | K3: Szept. | L3: Okt. | M3: Nov. | N3: Dec. | O3: Összesen:
A4: 1. | B4: Bevételek
A5: 2 | B5: Működési célú tám. ÁH-n belül | C5: 31201667 | D5: 31201667 | E5: 31201667 | F5: 31201667 | G5: 31201667 | H5: 31201667 | I5: 31201667 | J5: 31201667 | K5: 31201667 | L5: 31201667 | M5: 31201667 | N5: 31201663 | O5: =SUM(C5:N5) -> 374420000 | Q5: ='1.1.sz.mell.'!C5 -> 374420000 | S5: =ROUND(Q5/12,0) -> 31201667
A6: 3 | B6: Felhalmozási célú tám. ÁH-n belül | C6: 0 | D6: 0 | E6: 0 | F6: 0 | G6: 0 | H6: 0 | I6: 0 | J6: 0 | K6: 0 | L6: 0 | M6: 0 | N6: 0 | O6: =SUM(C6:N6) -> 0 | S6: =ROUND(Q6/12,0) -> 0
A7: 4 | B7: Működési bevételek | C7: 9155417 | D7: 9155417 | E7: 9155417 | F7: 9155417 | G7: 9155417 | H7: 9155417 | I7: 9155417 | J7: 9155417 | K7: 9155417 | L7: 9155417 | M7: 9155417 | N7: 9155413 | O7: =SUM(C7:N7) -> 109865000 | Q7: ='1.1.sz.mell.'!C19 -> 109865000 | S7: =ROUND(Q7/12,0) -> 9155417
A8: 5 | B8: Felhalmozási bevételek | O8: =SUM(C8:N8) -> 0
A9: 6 | B9: Működési célú átvett pénzeszk. | O9: =SUM(C9:N9) -> 0
A10: 7 | B10: Felhalm. célú átvett pénzeszk. | O10: =SUM(C10:N10) -> 0
A11: 8 | B11: Finanszírozási bevételek | G11: 69908022 | O11: =SUM(C11:N11) -> 69908022 | Q11: ='1.1.sz.mell.'!C58 -> 69908022
A12: 9 | B12: Bevételek összesen: | C12: =SUM(C5:C11) -> 40357084 | D12: =SUM(D5:D11) -> 40357084 | E12: =SUM(E5:E11) -> 40357084 | F12: =SUM(F5:F11) -> 40357084 | G12: =SUM(G5:G11) -> 110265106 | H12: =SUM(H5:H11) -> 40357084 | I12: =SUM(I5:I11) -> 40357084 | J12: =SUM(J5:J11) -> 40357084 | ... N12: =SUM(N5:N11) -> 40357076 | O12: =SUM(C12:N12) -> 554193022
A13: 10 | B13: Kiadások
A14: 11 | B14: Személyi juttatások | C14: 26966000 | D14: 26966000 | E14: 26966000 | F14: 26966000 | G14: 26966000 | H14: 26966000 | I14: 26966000 | J14: 26966000 | K14: 26966000 | L14: 26966000 | M14: 26966000 | N14: 26966000 | O14: =SUM(C14:N14) -> 323592000 | Q14: ='1.1.sz.mell.'!C78 -> 323592000 | S14: =ROUND(Q14/12,0) -> 26966000
A15: 12 | B15: Munkaadókat terhelő járulékok és szociális hozzájárulási adó | C15: 3304750 | D15: 3304750 | E15: 3304750 | F15: 3304750 | G15: 3304750 | H15: 3304750 | I15: 3304750 | J15: 3304750 | K15: 3304750 | L15: 3304750 | M15: 3304750 | N15: 3304750 | O15: =SUM(C15:N15) -> 39657000 | Q15: ='1.1.sz.mell.'!C79 -> 39657000 | S15: =ROUND(Q15/12,0) -> 3304750
A16: 13 | B16: Dologi kiadások | C16: 8654083 | D16: 8654083 | E16: 8654083 | F16: 8654083 | G16: 8654083 | H16: 8654083 | I16: 8654083 | J16: 8654083 | K16: 8654083 | L16: 8654083 | M16: 8654083 | N16: 8654087 | O16: =SUM(C16:N16) -> 103849000 | Q16: ='1.1.sz.mell.'!C80 -> 103849000 | S16: =ROUND(Q16/12,0) -> 8654083
A17: 14 | B17: Ellátottak pénzbeli juttatásai | O17: =SUM(C17:N17) -> 0 | Q17: ='1.1.sz.mell.'!C81 -> 0
A18: 15 | B18: Egyéb működési célú kiadások | E18: 2137000 | G18: 63593874 | H18: 2137000 | K18: 2137000 | N18: 2137000 | O18: =SUM(C18:N18) -> 72141874 | Q18: ='1.1.sz.mell.'!C82 -> 72141874
A19: 16 | B19: Beruházások | E19: 850000 | O19: =SUM(C19:N19) -> 850000 | Q19: ='1.1.sz.mell.'!C84 -> 850000
A20: 17 | B20: Felújítások | O20: =SUM(C20:N20) -> 0
A21: 18 | B21: Egyéb felhalmozási kiadások | O21: =SUM(C21:N21) -> 0
A22: 19 | B22: Tartalékok | G22: 14103148 | O22: =SUM(C22:N22) -> 14103148 | Q22: ='1.1.sz.mell.'!C89 -> 14103148
A23: 20 | B23: Kölcsön nyújtása | O23: =SUM(C23:N23) -> 0
A24: 21 | B24: Finanszírozási kiadások | O24: =SUM(C24:N24) -> 0
A25: 22 | B25: Kiadások összesen: | C25: =SUM(C14:C24) -> 38924833 | D25: =SUM(D14:D24) -> 38924833 | E25: =SUM(E14:E24) -> 41911833 | F25: =SUM(F14:F24) -> 38924833 | G25: =SUM(G14:G24) -> 116621855 | H25: =SUM(H14:H24) -> 41061833 | I25: =SUM(I14:I24) -> 38924833 | J25: =SUM(J14:J24) -> 38924833 | ... N25: =SUM(N14:N24) -> 41061837 | O25: =SUM(C25:N25) -> 554193022 | Q25: =SUM(Q14:Q24) -> 554193022
A26: 23 | B26: Egyenleg | C26: =C12-C25 -> 1432251 | D26: =D12-D25 -> 1432251 | E26: =E12-E25 -> -1554749 | F26: =F12-F25 -> 1432251 | G26: =G12-G25 -> -6356749 | H26: =H12-H25 -> -704749 | I26: =I12-I25 -> 1432251 | J26: =J12-J25 -> 1432251 | ... O26: =O12-O25 -> 0

Sheet 7.m
A1: Megnevezés | B1: Engedélyezett létszám | F1: Létszámváltozás | J1: Engedélyezett létszám
B2: 45292 | F2: 45292 | J2: 45292
B3: Kötelező | C3: Önként vállalt | D3: Államig. | E3: Összesen | F3: Kötelező | G3: Önként vállalt | H3: Államig. | I3: Összesen | J3: Kötelező | K3: Önként vállalt | L3: Államig. | M3: Összesen
A5: Gondozási Központ | B5: 55 | C5: 9 | D5: 0 | E5: =SUM(B5:D5) -> 64 | F5: 0.5 | I5: =SUM(F5:H5) -> 0.5 | J5: =B5+F5 -> 55.5 | K5: =C5+G5 -> 9 | L5: =D5+H5 -> 0 | M5: =J5+K5+L5 -> 64.5
A7: Összesen | B7: =SUM(B5:B6) -> 55 | C7: =SUM(C5:C6) -> 9 | D7: =SUM(D5:D6) -> 0 | E7: =SUM(E5:E6) -> 64 | F7: =SUM(F5:F6) -> 0.5 | G7: =SUM(G5:G6) -> 0 | H7: =SUM(H5:H6) -> 0 | I7: =SUM(I5:I6) -> 0.5 | ... M7: =SUM(M5:M6) -> 64.5

Sheet 8.m
A1: Tájékoztató a 2021. évi tény, 2022. évi várható és 2023. évi terv adatokról
A2: B E V É T E L E K
E3: ='[1]11.sz.mell'!F7 -> Forintban!
A4: Sor- szám | B4: Bevételi jogcím | C4: 2022. évi tény | D4: 2023. évi várható | E4: 2024. évi előirányzat
A5: 1 | B5: 2 | C5: 3 | D5: 3 | E5: 5
A6: 1. | B6: Működési célú támogatások államháztartáson belülről (1.1.+…+.1.5.) | C6: =SUM(C7:C12) -> 312188047 | D6: =SUM(D7:D12) -> 453262864 | E6: =SUM(E7:E12) -> 374420000
A7: 1.1 | B7: Elvonások és befizetések bevételei | E7: ='1.1.sz.mell.'!C6 -> 0
A8: 1.2 | B8: Működési célú garancia- és kezességvállalásból megtérülések | E8: ='1.1.sz.mell.'!C7 -> 0
A9: 1.3 | B9: Működési célú visszatérítendő támogatások, kölcsönök visszatérülése | E9: ='1.1.sz.mell.'!C8 -> 0
A10: 1.4 | B10: Működési célú visszatérítendő támogatások, kölcsönök igénybevétele | E10: ='1.1.sz.mell.'!C9 -> 0
A11: 1.5 | B11: Egyéb működési célú támogatások bevételei | C11: 312188047 | D11: 453262864 | E11: ='1.1.sz.mell.'!C10 -> 374420000
A12: 1.6 | B12: 2.5.-ből EU-s támogatás | E12: ='1.1.sz.mell.'!C11 -> 0
A13: 2. | B13: Felhalmozási célú támogatások államháztartáson belülről (2.1.+…+2.5.) | C13: =SUM(C14:C18) -> 0 | D13: =SUM(D14:D18) -> 0 | E13: =SUM(E14:E18) -> 0
A14: 2.1 | B14: Felhalmozási célú önkormányzati támogatások | E14: ='1.1.sz.mell.'!C13 -> 0
A15: 2.2 | B15: Felhalmozási célú garancia- és kezességvállalásból megtérülések | E15: ='1.1.sz.mell.'!C14 -> 0
A16: 2.3 | B16: Felhalmozási célú visszatérítendő támogatások, kölcsönök visszatérülése | E16: ='1.1.sz.mell.'!C15 -> 0
A17: 2.4 | B17: Felhalmozási célú visszatérítendő támogatások, kölcsönök igénybevétele | E17: ='1.1.sz.mell.'!C16 -> 0
A18: 2.5 | B18: Egyéb felhalmozási célú támogatások bevételei | E18: ='1.1.sz.mell.'!C17 -> 0
A19: 2.6 | B19: 3.5.-ből EU-s támogatás
A20: 3. | B20: Működési bevételek (3.1.+…+ 3.11.) | C20: =SUM(C21:C31) -> 79457145 | D20: =SUM(D21:D31) -> 91060111 | E20: =SUM(E21:E31) -> 109865000
A21: 3.1 | B21: Készletértékesítés ellenértéke | E21: ='1.1.sz.mell.'!C20 -> 0
A22: 3.2 | B22: Szolgáltatások ellenértéke | C22: 32811752 | D22: 28238512 | E22: ='1.1.sz.mell.'!C21 -> 0
A23: 3.3 | B23: Közvetített szolgáltatások értéke | C23: 500 | E23: ='1.1.sz.mell.'!C22 -> 0
A24: 3.4 | B24: Tulajdonosi bevételek | E24: ='1.1.sz.mell.'!C23 -> 0
A25: 3.5 | B25: Ellátási díjak | C25: 43029223 | D25: 56619636 | E25: ='1.1.sz.mell.'!C24 -> 0
A26: 3.6 | B26: Kiszámlázott általános forgalmi adó | C26: 3270242 | D26: 4683107 | E26: ='1.1.sz.mell.'!C25 -> 0
A27: 3.7 | B27: Általános forgalmi adó visszatérítése | E27: ='1.1.sz.mell.'!C26 -> 0
A28: 3.8 | B28: Kamatbevételek | C28: 5953 | D28: 1316774 | E28: ='1.1.sz.mell.'!C27 -> 0
A29: 3.9 | B29: Egyéb pénzügyi műveletek bevételei | E29: ='1.1.sz.mell.'!C28 -> 0
A30: 3.10 | B30: Biztosító által fizetett kártérítés | C30: 335111 | E30: ='1.1.sz.mell.'!C29 -> 0
A31: 3.11 | B31: Egyéb működési bevételek | C31: 4364 | D31: 202082 | E31: ='1.1.sz.mell.'!C30 -> 109865000
A32: 4. | B32: Felhalmozási bevételek (4.1.+…+4.5.) | C32: =SUM(C33:C37) -> 0 | D32: =SUM(D33:D37) -> 369601 | E32: =SUM(E33:E37) -> 0
A33: 4.1 | B33: Immateriális javak értékesítése | E33: ='1.1.sz.mell.'!C32 -> 0
A34: 4.2 | B34: Ingatlanok értékesítése | E34: ='1.1.sz.mell.'!C33 -> 0
A35: 4.3 | B35: Egyéb tárgyi eszközök értékesítése | D35: 369601 | E35: ='1.1.sz.mell.'!C34 -> 0
A36: 4.4 | B36: Részesedések értékesítése | E36: ='1.1.sz.mell.'!C35 -> 0
A37: 4.5 | B37: Részesedések megszűnéséhez kapcsolódó bevételek | E37: ='1.1.sz.mell.'!C36 -> 0
A38: 5. | B38: Működési célú átvett pénzeszközök (5.1. + … +57.3.) | C38: =SUM(C39:C41) -> 310000 | D38: =SUM(D39:D41) -> 280000 | E38: =SUM(E39:E41) -> 0
A39: 5.1 | B39: Működési célú garancia- és kezességvállalásból megtérülések ÁH-n kívülről | E39: ='1.1.sz.mell.'!C38 -> 0
A40: 5.2 | B40: Működési célú visszatérítendő támogatások, kölcsönök visszatér. ÁH-n kívülről | E40: ='1.1.sz.mell.'!C39 -> 0
...

Sheet 9. m
A1: Völgységi Önkormányzatok Társulása likviditási terve 2024. évre
O2: Forintban !
A3: Sor-szám | B3: Megnevezés | C3: Január | D3: Február | E3: Március | F3: Április | G3: Május | H3: Június | I3: Július | J3: Auguszt. | K3: Szept. | L3: Okt. | M3: Nov. | N3: Dec. | O3: Összesen:
B4: Bevételek
A5: 1 | B5: Nyitó pénzkészlet | C5: 77692022 | D5: =+C25 -> 79124273 | E5: =+D25 -> 80556524 | F5: =+E25 -> 79001775 | G5: =+F25 -> 80434026 | H5: =+G25 -> 69272403 | I5: =+H25 -> 68567654 | J5: =+I25 -> 69999905 | K5: =+J25 -> 71432156 | ... N5: =+M25 -> 73591909 | O5: -----
A6: 2 | B6: Működési célú támogatások ÁH-on belül | C6: 31201667 | D6: 31201667 | E6: 31201667 | F6: 31201667 | G6: 31201667 | H6: 31201667 | I6: 31201667 | J6: 31201667 | K6: 31201667 | L6: 31201667 | M6: 31201667 | N6: 31201663 | O6: =SUM(C6:N6) -> 374420000
A7: 3 | B7: Felhalmozási célú támogatások ÁH-on belül | C7: 0 | D7: 0 | E7: 0 | F7: 0 | G7: 0 | H7: 0 | I7: 0 | J7: 0 | K7: 0 | L7: 0 | M7: 0 | N7: 0 | O7: =SUM(C7:N7) -> 0
A8: 4 | B8: Működési bevételek | C8: 9155417 | D8: 9155417 | E8: 9155417 | F8: 9155417 | G8: 9155417 | H8: 9155417 | I8: 9155417 | J8: 9155417 | K8: 9155417 | L8: 9155417 | M8: 9155417 | N8: 9155413 | O8: =SUM(C8:N8) -> 109865000
A9: 5 | B9: Felhalmozási bevételek | O9: =SUM(C9:N9) -> 0
A10: 6 | B10: Működési célú átvett pénzeszközök | O10: =SUM(C10:N10) -> 0
A11: 7 | B11: Felhalmozási célú átvett pénzeszközök | O11: =SUM(C11:N11) -> 0
A12: 8 | B12: Finanszírozási bevételek | G12: 51000000 | O12: =SUM(C12:N12) -> 51000000
A13: 9 | B13: Bevételek összesen: | C13: =SUM(C5:C12) -> 118049106 | D13: =SUM(D5:D12) -> 119481357 | E13: =SUM(E5:E12) -> 120913608 | F13: =SUM(F5:F12) -> 119358859 | G13: =SUM(G5:G12) -> 171791110 | H13: =SUM(H5:H12) -> 109629487 | I13: =SUM(I5:I12) -> 108924738 | J13: =SUM(J5:J12) -> 110356989 | ... N13: =SUM(N5:N12) -> 113948985 | O13: =SUM(O6:O12)+C5 -> 612977022
B14: Kiadások
A15: 1. | B15: Személyi juttatások | C15: 26966000 | D15: 26966000 | E15: 26966000 | F15: 26966000 | G15: 26966000 | H15: 26966000 | I15: 26966000 | J15: 26966000 | K15: 26966000 | L15: 26966000 | M15: 26966000 | N15: 26966000 | O15: =SUM(C15:N15) -> 323592000
A16: 2. | B16: Munkaadókat terhelő járulékok és szociális hozzájárulási adó | C16: 3304750 | D16: 3304750 | E16: 3304750 | F16: 3304750 | G16: 3304750 | H16: 3304750 | I16: 3304750 | J16: 3304750 | K16: 3304750 | L16: 3304750 | M16: 3304750 | N16: 3304750 | O16: =SUM(C16:N16) -> 39657000
A17: 3. | B17: Dologi kiadások | C17: 8654083 | D17: 8654083 | E17: 8654083 | F17: 8654083 | G17: 8654083 | H17: 8654083 | I17: 8654083 | J17: 8654083 | K17: 8654083 | L17: 8654083 | M17: 8654083 | N17: 8654087 | O17: =SUM(C17:N17) -> 103849000
A18: 4. | B18: Ellátottak pénzbeli juttatása | O18: =SUM(C18:N18) -> 0
A19: 5. | B19: Egyéb működési célú kiadások | E19: 2137000 | G19: 63593874 | H19: 2137000 | K19: 2137000 | N19: 2137000 | O19: =SUM(C19:N19) -> 72141874
A20: 6. | B20: Beruházások | E20: 850000 | O20: =SUM(C20:N20) -> 850000
A21: 7. | B21: Felújítások | O21: =SUM(C21:N21) -> 0
A22: 8. | B22: Egyéb felhalmozási kiadások | O22: =SUM(C22:N22) -> 0
A23: 9. | B23: Finanszírozási kiadások | O23: =SUM(C23:N23) -> 0
A24: 10. | B24: Kiadások összesen: | C24: =SUM(C15:C23) -> 38924833 | D24: =SUM(D15:D23) -> 38924833 | E24: =SUM(E15:E23) -> 41911833 | F24: =SUM(F15:F23) -> 38924833 | G24: =SUM(G15:G23) -> 102518707 | H24: =SUM(H15:H23) -> 41061833 | I24: =SUM(I15:I23) -> 38924833 | J24: =SUM(J15:J23) -> 38924833 | ... N24: =SUM(N15:N23) -> 41061837 | O24: =SUM(C24:N24) -> 540089874
