Workbook

Sheet 1.1.sz.mell.
A1: B E V É T E L E K
A2: 1. sz. táblázat | C2: Forintban | D2: Ezer forintban | E2: Ezer forintban | F2: Ezer forintban | G2: Ezer forintban
A3: Sor- szám | B3: Bevételi jogcím | C3: 2018. évi előirányzat | D3: Javasolt módosítás | E3: Módosított előirányzat | F3: Társulási Tanács által javasolt módosítás | G3: Módosított előirányzat
A4: 1 | B4: 2 | C4: 3 | D4: 3 | E4: 3 | F4: 3 | G4: 3
A5: 1. | B5: Társulás működési támogatásai | D5: =+#REF!+#REF!+#REF!+#REF!+#REF!+#REF! -> #REF! | E5: =+#REF!+#REF!+#REF!+#REF!+#REF!+#REF! -> #REF! | F5: =+#REF!+#REF!+#REF!+#REF!+#REF!+#REF! -> #REF! | G5: =+#REF!+#REF!+#REF!+#REF!+#REF!+#REF! -> #REF!
A6: 2. | B6: Működési célú támogatások államháztartáson belülről (2.1.+…+.2.5.) | C6: =+C7+C8+C9+C10+C11 -> 129997340 | D6: =+D7+D8+D9+D10+D11 -> 0 | E6: =+E7+E8+E9+E10+E11 -> 0 | F6: =+F7+F8+F9+F10+F11 -> 0 | G6: =+G7+G8+G9+G10+G11 -> 0
A7: 2.1. | B7: Elvonások és befizetések bevételei | C7: ='1.2.sz.mell.'!C7+'1.3.sz.mell.'!C7+'1.4.sz.mell.'!C7 -> 0 | D7: ='1.2.sz.mell.'!H7+'1.3.sz.mell.'!H7+'1.4.sz.mell.'!H7 -> 0 | E7: ='1.2.sz.mell.'!I7+'1.3.sz.mell.'!I7+'1.4.sz.mell.'!I7 -> 0 | F7: ='1.2.sz.mell.'!J7+'1.3.sz.mell.'!J7+'1.4.sz.mell.'!J7 -> 0 | G7: ='1.2.sz.mell.'!K7+'1.3.sz.mell.'!K7+'1.4.sz.mell.'!K7 -> 0
A8: 2.2. | B8: Működési célú garancia- és kezességvállalásból megtérülések | C8: ='1.2.sz.mell.'!C8+'1.3.sz.mell.'!C8+'1.4.sz.mell.'!C8 -> 0 | D8: ='1.2.sz.mell.'!H8+'1.3.sz.mell.'!H8+'1.4.sz.mell.'!H8 -> 0 | E8: ='1.2.sz.mell.'!I8+'1.3.sz.mell.'!I8+'1.4.sz.mell.'!I8 -> 0 | F8: ='1.2.sz.mell.'!J8+'1.3.sz.mell.'!J8+'1.4.sz.mell.'!J8 -> 0 | G8: ='1.2.sz.mell.'!K8+'1.3.sz.mell.'!K8+'1.4.sz.mell.'!K8 -> 0
A9: 2.3. | B9: Működési célú visszatérítendő támogatások, kölcsönök visszatérülése | C9: ='1.2.sz.mell.'!C9+'1.3.sz.mell.'!C9+'1.4.sz.mell.'!C9 -> 0 | D9: ='1.2.sz.mell.'!H9+'1.3.sz.mell.'!H9+'1.4.sz.mell.'!H9 -> 0 | E9: ='1.2.sz.mell.'!I9+'1.3.sz.mell.'!I9+'1.4.sz.mell.'!I9 -> 0 | F9: ='1.2.sz.mell.'!J9+'1.3.sz.mell.'!J9+'1.4.sz.mell.'!J9 -> 0 | G9: ='1.2.sz.mell.'!K9+'1.3.sz.mell.'!K9+'1.4.sz.mell.'!K9 -> 0
A10: 2.4. | B10: Működési célú visszatérítendő támogatások, kölcsönök igénybevétele | C10: ='1.2.sz.mell.'!C10+'1.3.sz.mell.'!C10+'1.4.sz.mell.'!C10 -> 0 | D10: ='1.2.sz.mell.'!H10+'1.3.sz.mell.'!H10+'1.4.sz.mell.'!H10 -> 0 | E10: ='1.2.sz.mell.'!I10+'1.3.sz.mell.'!I10+'1.4.sz.mell.'!I10 -> 0 | F10: ='1.2.sz.mell.'!J10+'1.3.sz.mell.'!J10+'1.4.sz.mell.'!J10 -> 0 | G10: ='1.2.sz.mell.'!K10+'1.3.sz.mell.'!K10+'1.4.sz.mell.'!K10 -> 0
A11: 2.5. | B11: Egyéb működési célú támogatások bevételei | C11: ='1.2.sz.mell.'!C11+'1.3.sz.mell.'!C11+'1.4.sz.mell.'!C11 -> 129997340 | D11: ='1.2.sz.mell.'!H11+'1.3.sz.mell.'!H11+'1.4.sz.mell.'!H11 -> 0 | E11: ='1.2.sz.mell.'!I11+'1.3.sz.mell.'!I11+'1.4.sz.mell.'!I11 -> 0 | F11: ='1.2.sz.mell.'!J11+'1.3.sz.mell.'!J11+'1.4.sz.mell.'!J11 -> 0 | G11: ='1.2.sz.mell.'!K11+'1.3.sz.mell.'!K11+'1.4.sz.mell.'!K11 -> 0
A12: 2.6. | B12: 2.5.-ből EU-s támogatás | C12: ='1.2.sz.mell.'!C12+'1.3.sz.mell.'!C12+'1.4.sz.mell.'!C12 -> 5594340 | D12: ='1.2.sz.mell.'!H12+'1.3.sz.mell.'!H12+'1.4.sz.mell.'!H12 -> 0 | E12: ='1.2.sz.mell.'!I12+'1.3.sz.mell.'!I12+'1.4.sz.mell.'!I12 -> 0 | F12: ='1.2.sz.mell.'!J12+'1.3.sz.mell.'!J12+'1.4.sz.mell.'!J12 -> 0 | G12: ='1.2.sz.mell.'!K12+'1.3.sz.mell.'!K12+'1.4.sz.mell.'!K12 -> 0
A13: 3. | B13: Felhalmozási célú támogatások államháztartáson belülről (3.1.+…+3.5.) | C13: =+C14+C15+C16+C17+C18 -> 0 | D13: =+D14+D15+D16+D17+D18 -> 0 | E13: =+E14+E15+E16+E17+E18 -> 0 | F13: =+F14+F15+F16+F17+F18 -> 0 | G13: =+G14+G15+G16+G17+G18 -> 0
A14: 3.1. | B14: Felhalmozási célú önkormányzati támogatások | C14: ='1.2.sz.mell.'!C14+'1.3.sz.mell.'!C14+'1.4.sz.mell.'!C14 -> 0 | D14: ='1.2.sz.mell.'!H14+'1.3.sz.mell.'!H14+'1.4.sz.mell.'!H14 -> 0 | E14: ='1.2.sz.mell.'!I14+'1.3.sz.mell.'!I14+'1.4.sz.mell.'!I14 -> 0 | F14: ='1.2.sz.mell.'!J14+'1.3.sz.mell.'!J14+'1.4.sz.mell.'!J14 -> 0 | G14: ='1.2.sz.mell.'!K14+'1.3.sz.mell.'!K14+'1.4.sz.mell.'!K14 -> 0
A15: 3.2. | B15: Felhalmozási célú garancia- és kezességvállalásból megtérülések | C15: ='1.2.sz.mell.'!C15+'1.3.sz.mell.'!C15+'1.4.sz.mell.'!C15 -> 0 | D15: ='1.2.sz.mell.'!H15+'1.3.sz.mell.'!H15+'1.4.sz.mell.'!H15 -> 0 | E15: ='1.2.sz.mell.'!I15+'1.3.sz.mell.'!I15+'1.4.sz.mell.'!I15 -> 0 | F15: ='1.2.sz.mell.'!J15+'1.3.sz.mell.'!J15+'1.4.sz.mell.'!J15 -> 0 | G15: ='1.2.sz.mell.'!K15+'1.3.sz.mell.'!K15+'1.4.sz.mell.'!K15 -> 0
A16: 3.3. | B16: Felhalmozási célú visszatérítendő támogatások, kölcsönök visszatérülése | C16: ='1.2.sz.mell.'!C16+'1.3.sz.mell.'!C16+'1.4.sz.mell.'!C16 -> 0 | D16: ='1.2.sz.mell.'!H16+'1.3.sz.mell.'!H16+'1.4.sz.mell.'!H16 -> 0 | E16: ='1.2.sz.mell.'!I16+'1.3.sz.mell.'!I16+'1.4.sz.mell.'!I16 -> 0 | F16: ='1.2.sz.mell.'!J16+'1.3.sz.mell.'!J16+'1.4.sz.mell.'!J16 -> 0 | G16: ='1.2.sz.mell.'!K16+'1.3.sz.mell.'!K16+'1.4.sz.mell.'!K16 -> 0
A17: 3.4. | B17: Felhalmozási célú visszatérítendő támogatások, kölcsönök igénybevétele | C17: ='1.2.sz.mell.'!C17+'1.3.sz.mell.'!C17+'1.4.sz.mell.'!C17 -> 0 | D17: ='1.2.sz.mell.'!H17+'1.3.sz.mell.'!H17+'1.4.sz.mell.'!H17 -> 0 | E17: ='1.2.sz.mell.'!I17+'1.3.sz.mell.'!I17+'1.4.sz.mell.'!I17 -> 0 | F17: ='1.2.sz.mell.'!J17+'1.3.sz.mell.'!J17+'1.4.sz.mell.'!J17 -> 0 | G17: ='1.2.sz.mell.'!K17+'1.3.sz.mell.'!K17+'1.4.sz.mell.'!K17 -> 0
A18: 3.5. | B18: Egyéb felhalmozási célú támogatások bevételei | C18: ='1.2.sz.mell.'!C18+'1.3.sz.mell.'!C18+'1.4.sz.mell.'!C18 -> 0 | D18: ='1.2.sz.mell.'!H18+'1.3.sz.mell.'!H18+'1.4.sz.mell.'!H18 -> 0 | E18: ='1.2.sz.mell.'!I18+'1.3.sz.mell.'!I18+'1.4.sz.mell.'!I18 -> 0 | F18: ='1.2.sz.mell.'!J18+'1.3.sz.mell.'!J18+'1.4.sz.mell.'!J18 -> 0 | G18: ='1.2.sz.mell.'!K18+'1.3.sz.mell.'!K18+'1.4.sz.mell.'!K18 -> 0
A19: 3.6. | B19: 3.5.-ből EU-s támogatás | C19: ='1.2.sz.mell.'!C19+'1.3.sz.mell.'!C19+'1.4.sz.mell.'!C19 -> 0 | D19: ='1.2.sz.mell.'!H19+'1.3.sz.mell.'!H19+'1.4.sz.mell.'!H19 -> 0 | E19: ='1.2.sz.mell.'!I19+'1.3.sz.mell.'!I19+'1.4.sz.mell.'!I19 -> 0 | F19: ='1.2.sz.mell.'!J19+'1.3.sz.mell.'!J19+'1.4.sz.mell.'!J19 -> 0 | G19: ='1.2.sz.mell.'!K19+'1.3.sz.mell.'!K19+'1.4.sz.mell.'!K19 -> 0
A20: 4. | B20: Közhatalmi bevételek | C20: =+C21+C24+C25+C26 -> 0 | D20: =+D21+D24+D25+D26 -> 0 | E20: =+E21+E24+E25+E26 -> 0 | F20: =+F21+F24+F25+F26 -> 0 | G20: =+G21+G24+G25+G26 -> 0
A21: 4.1. | B21: Helyi adók (4.1.1.+4.1.2.) | C21: ='1.2.sz.mell.'!C21+'1.3.sz.mell.'!C21+'1.4.sz.mell.'!C21 -> 0 | D21: ='1.2.sz.mell.'!H21+'1.3.sz.mell.'!H21+'1.4.sz.mell.'!H21 -> 0 | E21: ='1.2.sz.mell.'!I21+'1.3.sz.mell.'!I21+'1.4.sz.mell.'!I21 -> 0 | F21: ='1.2.sz.mell.'!J21+'1.3.sz.mell.'!J21+'1.4.sz.mell.'!J21 -> 0 | G21: ='1.2.sz.mell.'!K21+'1.3.sz.mell.'!K21+'1.4.sz.mell.'!K21 -> 0
A22: 4.1.1. | B22: - Vagyoni típusú adók | C22: ='1.2.sz.mell.'!C22+'1.3.sz.mell.'!C22+'1.4.sz.mell.'!C22 -> 0 | D22: ='1.2.sz.mell.'!H22+'1.3.sz.mell.'!H22+'1.4.sz.mell.'!H22 -> 0 | E22: ='1.2.sz.mell.'!I22+'1.3.sz.mell.'!I22+'1.4.sz.mell.'!I22 -> 0 | F22: ='1.2.sz.mell.'!J22+'1.3.sz.mell.'!J22+'1.4.sz.mell.'!J22 -> 0 | G22: ='1.2.sz.mell.'!K22+'1.3.sz.mell.'!K22+'1.4.sz.mell.'!K22 -> 0
A23: 4.1.2. | B23: - Termékek és szolgáltatások adói | C23: ='1.2.sz.mell.'!C23+'1.3.sz.mell.'!C23+'1.4.sz.mell.'!C23 -> 0 | D23: ='1.2.sz.mell.'!H23+'1.3.sz.mell.'!H23+'1.4.sz.mell.'!H23 -> 0 | E23: ='1.2.sz.mell.'!I23+'1.3.sz.mell.'!I23+'1.4.sz.mell.'!I23 -> 0 | F23: ='1.2.sz.mell.'!J23+'1.3.sz.mell.'!J23+'1.4.sz.mell.'!J23 -> 0 | G23: ='1.2.sz.mell.'!K23+'1.3.sz.mell.'!K23+'1.4.sz.mell.'!K23 -> 0
A24: 4.2. | B24: Gépjárműadó | C24: ='1.2.sz.mell.'!C24+'1.3.sz.mell.'!C24+'1.4.sz.mell.'!C24 -> 0 | D24: ='1.2.sz.mell.'!H24+'1.3.sz.mell.'!H24+'1.4.sz.mell.'!H24 -> 0 | E24: ='1.2.sz.mell.'!I24+'1.3.sz.mell.'!I24+'1.4.sz.mell.'!I24 -> 0 | F24: ='1.2.sz.mell.'!J24+'1.3.sz.mell.'!J24+'1.4.sz.mell.'!J24 -> 0 | G24: ='1.2.sz.mell.'!K24+'1.3.sz.mell.'!K24+'1.4.sz.mell.'!K24 -> 0
A25: 4.3. | B25: Egyéb áruhasználati és szolgáltatási adók | C25: ='1.2.sz.mell.'!C25+'1.3.sz.mell.'!C25+'1.4.sz.mell.'!C25 -> 0 | D25: ='1.2.sz.mell.'!H25+'1.3.sz.mell.'!H25+'1.4.sz.mell.'!H25 -> 0 | E25: ='1.2.sz.mell.'!I25+'1.3.sz.mell.'!I25+'1.4.sz.mell.'!I25 -> 0 | F25: ='1.2.sz.mell.'!J25+'1.3.sz.mell.'!J25+'1.4.sz.mell.'!J25 -> 0 | G25: ='1.2.sz.mell.'!K25+'1.3.sz.mell.'!K25+'1.4.sz.mell.'!K25 -> 0
A26: 4.4. | B26: Egyéb közhatalmi bevételek | C26: ='1.2.sz.mell.'!C26+'1.3.sz.mell.'!C26+'1.4.sz.mell.'!C26 -> 0 | D26: ='1.2.sz.mell.'!H26+'1.3.sz.mell.'!H26+'1.4.sz.mell.'!H26 -> 0 | E26: ='1.2.sz.mell.'!I26+'1.3.sz.mell.'!I26+'1.4.sz.mell.'!I26 -> 0 | F26: ='1.2.sz.mell.'!J26+'1.3.sz.mell.'!J26+'1.4.sz.mell.'!J26 -> 0 | G26: ='1.2.sz.mell.'!K26+'1.3.sz.mell.'!K26+'1.4.sz.mell.'!K26 -> 0
A27: 5. | B27: Működési bevételek (5.1.+…+ 5.10.) | C27: =SUM(C28:C37) -> 96580000 | D27: =SUM(D28:D37) -> 0 | E27: =SUM(E28:E37) -> 0 | F27: =SUM(F28:F37) -> 0 | G27: =SUM(G28:G37) -> 0
A28: 5.1. | B28: Készletértékesítés ellenértéke | C28: ='1.2.sz.mell.'!C28+'1.3.sz.mell.'!C28+'1.4.sz.mell.'!C28 -> 0 | D28: ='1.2.sz.mell.'!H28+'1.3.sz.mell.'!H28+'1.4.sz.mell.'!H28 -> 0 | E28: ='1.2.sz.mell.'!I28+'1.3.sz.mell.'!I28+'1.4.sz.mell.'!I28 -> 0 | F28: ='1.2.sz.mell.'!J28+'1.3.sz.mell.'!J28+'1.4.sz.mell.'!J28 -> 0 | G28: ='1.2.sz.mell.'!K28+'1.3.sz.mell.'!K28+'1.4.sz.mell.'!K28 -> 0
A29: 5.2. | B29: Szolgáltatások ellenértéke | C29: ='1.2.sz.mell.'!C29+'1.3.sz.mell.'!C29+'1.4.sz.mell.'!C29 -> 0 | D29: ='1.2.sz.mell.'!H29+'1.3.sz.mell.'!H29+'1.4.sz.mell.'!H29 -> 0 | E29: ='1.2.sz.mell.'!I29+'1.3.sz.mell.'!I29+'1.4.sz.mell.'!I29 -> 0 | F29: ='1.2.sz.mell.'!J29+'1.3.sz.mell.'!J29+'1.4.sz.mell.'!J29 -> 0 | G29: ='1.2.sz.mell.'!K29+'1.3.sz.mell.'!K29+'1.4.sz.mell.'!K29 -> 0
A30: 5.3. | B30: Közvetített szolgáltatások értéke | C30: ='1.2.sz.mell.'!C30+'1.3.sz.mell.'!C30+'1.4.sz.mell.'!C30 -> 0 | D30: ='1.2.sz.mell.'!H30+'1.3.sz.mell.'!H30+'1.4.sz.mell.'!H30 -> 0 | E30: ='1.2.sz.mell.'!I30+'1.3.sz.mell.'!I30+'1.4.sz.mell.'!I30 -> 0 | F30: ='1.2.sz.mell.'!J30+'1.3.sz.mell.'!J30+'1.4.sz.mell.'!J30 -> 0 | G30: ='1.2.sz.mell.'!K30+'1.3.sz.mell.'!K30+'1.4.sz.mell.'!K30 -> 0
A31: 5.4. | B31: Tulajdonosi bevételek | C31: ='1.2.sz.mell.'!C31+'1.3.sz.mell.'!C31+'1.4.sz.mell.'!C31 -> 0 | D31: ='1.2.sz.mell.'!H31+'1.3.sz.mell.'!H31+'1.4.sz.mell.'!H31 -> 0 | E31: ='1.2.sz.mell.'!I31+'1.3.sz.mell.'!I31+'1.4.sz.mell.'!I31 -> 0 | F31: ='1.2.sz.mell.'!J31+'1.3.sz.mell.'!J31+'1.4.sz.mell.'!J31 -> 0 | G31: ='1.2.sz.mell.'!K31+'1.3.sz.mell.'!K31+'1.4.sz.mell.'!K31 -> 0
A32: 5.5. | B32: Ellátási díjak | C32: ='1.2.sz.mell.'!C32+'1.3.sz.mell.'!C32+'1.4.sz.mell.'!C32 -> 0 | D32: ='1.2.sz.mell.'!H32+'1.3.sz.mell.'!H32+'1.4.sz.mell.'!H32 -> 0 | E32: ='1.2.sz.mell.'!I32+'1.3.sz.mell.'!I32+'1.4.sz.mell.'!I32 -> 0 | F32: ='1.2.sz.mell.'!J32+'1.3.sz.mell.'!J32+'1.4.sz.mell.'!J32 -> 0 | G32: ='1.2.sz.mell.'!K32+'1.3.sz.mell.'!K32+'1.4.sz.mell.'!K32 -> 0
A33: 5.6. | B33: Kiszámlázott általános forgalmi adó | C33: ='1.2.sz.mell.'!C33+'1.3.sz.mell.'!C33+'1.4.sz.mell.'!C33 -> 0 | D33: ='1.2.sz.mell.'!H33+'1.3.sz.mell.'!H33+'1.4.sz.mell.'!H33 -> 0 | E33: ='1.2.sz.mell.'!I33+'1.3.sz.mell.'!I33+'1.4.sz.mell.'!I33 -> 0 | F33: ='1.2.sz.mell.'!J33+'1.3.sz.mell.'!J33+'1.4.sz.mell.'!J33 -> 0 | G33: ='1.2.sz.mell.'!K33+'1.3.sz.mell.'!K33+'1.4.sz.mell.'!K33 -> 0
A34: 5.7. | B34: Általános forgalmi adó visszatérítése | C34: ='1.2.sz.mell.'!C34+'1.3.sz.mell.'!C34+'1.4.sz.mell.'!C34 -> 0 | D34: ='1.2.sz.mell.'!H34+'1.3.sz.mell.'!H34+'1.4.sz.mell.'!H34 -> 0 | E34: ='1.2.sz.mell.'!I34+'1.3.sz.mell.'!I34+'1.4.sz.mell.'!I34 -> 0 | F34: ='1.2.sz.mell.'!J34+'1.3.sz.mell.'!J34+'1.4.sz.mell.'!J34 -> 0 | G34: ='1.2.sz.mell.'!K34+'1.3.sz.mell.'!K34+'1.4.sz.mell.'!K34 -> 0
A35: 5.8. | B35: Kamatbevételek | C35: ='1.2.sz.mell.'!C35+'1.3.sz.mell.'!C35+'1.4.sz.mell.'!C35 -> 0 | D35: ='1.2.sz.mell.'!H35+'1.3.sz.mell.'!H35+'1.4.sz.mell.'!H35 -> 0 | E35: ='1.2.sz.mell.'!I35+'1.3.sz.mell.'!I35+'1.4.sz.mell.'!I35 -> 0 | F35: ='1.2.sz.mell.'!J35+'1.3.sz.mell.'!J35+'1.4.sz.mell.'!J35 -> 0 | G35: ='1.2.sz.mell.'!K35+'1.3.sz.mell.'!K35+'1.4.sz.mell.'!K35 -> 0
A36: 5.9. | B36: Egyéb pénzügyi műveletek bevételei | C36: ='1.2.sz.mell.'!C36+'1.3.sz.mell.'!C36+'1.4.sz.mell.'!C36 -> 0 | D36: ='1.2.sz.mell.'!H36+'1.3.sz.mell.'!H36+'1.4.sz.mell.'!H36 -> 0 | E36: ='1.2.sz.mell.'!I36+'1.3.sz.mell.'!I36+'1.4.sz.mell.'!I36 -> 0 | F36: ='1.2.sz.mell.'!J36+'1.3.sz.mell.'!J36+'1.4.sz.mell.'!J36 -> 0 | G36: ='1.2.sz.mell.'!K36+'1.3.sz.mell.'!K36+'1.4.sz.mell.'!K36 -> 0
A37: 5.10. | B37: Egyéb működési bevételek | C37: ='1.2.sz.mell.'!C37+'1.3.sz.mell.'!C37+'1.4.sz.mell.'!C37 -> 96580000 | D37: ='1.2.sz.mell.'!H37+'1.3.sz.mell.'!H37+'1.4.sz.mell.'!H37 -> 0 | E37: ='1.2.sz.mell.'!I37+'1.3.sz.mell.'!I37+'1.4.sz.mell.'!I37 -> 0 | F37: ='1.2.sz.mell.'!J37+'1.3.sz.mell.'!J37+'1.4.sz.mell.'!J37 -> 0 | G37: ='1.2.sz.mell.'!K37+'1.3.sz.mell.'!K37+'1.4.sz.mell.'!K37 -> 0
A38: 6. | B38: Felhalmozási bevételek (6.1.+…+6.5.) | C38: =SUM(C39:C43) -> 0 | D38: =SUM(D39:D43) -> 0 | E38: =SUM(E39:E43) -> 0 | F38: =SUM(F39:F43) -> 0 | G38: =SUM(G39:G43) -> 0
A39: 6.1. | B39: Immateriális javak értékesítése | C39: ='1.2.sz.mell.'!C39+'1.3.sz.mell.'!C39+'1.4.sz.mell.'!C39 -> 0 | D39: ='1.2.sz.mell.'!H39+'1.3.sz.mell.'!H39+'1.4.sz.mell.'!H39 -> 0 | E39: ='1.2.sz.mell.'!I39+'1.3.sz.mell.'!I39+'1.4.sz.mell.'!I39 -> 0 | F39: ='1.2.sz.mell.'!J39+'1.3.sz.mell.'!J39+'1.4.sz.mell.'!J39 -> 0 | G39: ='1.2.sz.mell.'!K39+'1.3.sz.mell.'!K39+'1.4.sz.mell.'!K39 -> 0
A40: 6.2. | B40: Ingatlanok értékesítése | C40: ='1.2.sz.mell.'!C40+'1.3.sz.mell.'!C40+'1.4.sz.mell.'!C40 -> 0 | D40: ='1.2.sz.mell.'!H40+'1.3.sz.mell.'!H40+'1.4.sz.mell.'!H40 -> 0 | E40: ='1.2.sz.mell.'!I40+'1.3.sz.mell.'!I40+'1.4.sz.mell.'!I40 -> 0 | F40: ='1.2.sz.mell.'!J40+'1.3.sz.mell.'!J40+'1.4.sz.mell.'!J40 -> 0 | G40: ='1.2.sz.mell.'!K40+'1.3.sz.mell.'!K40+'1.4.sz.mell.'!K40 -> 0
A41: 6.3. | B41: Egyéb tárgyi eszközök értékesítése | C41: ='1.2.sz.mell.'!C41+'1.3.sz.mell.'!C41+'1.4.sz.mell.'!C41 -> 0 | D41: ='1.2.sz.mell.'!H41+'1.3.sz.mell.'!H41+'1.4.sz.mell.'!H41 -> 0 | E41: ='1.2.sz.mell.'!I41+'1.3.sz.mell.'!I41+'1.4.sz.mell.'!I41 -> 0 | F41: ='1.2.sz.mell.'!J41+'1.3.sz.mell.'!J41+'1.4.sz.mell.'!J41 -> 0 | G41: ='1.2.sz.mell.'!K41+'1.3.sz.mell.'!K41+'1.4.sz.mell.'!K41 -> 0
A42: 6.4. | B42: Részesedések értékesítése | C42: ='1.2.sz.mell.'!C42+'1.3.sz.mell.'!C42+'1.4.sz.mell.'!C42 -> 0 | D42: ='1.2.sz.mell.'!H42+'1.3.sz.mell.'!H42+'1.4.sz.mell.'!H42 -> 0 | E42: ='1.2.sz.mell.'!I42+'1.3.sz.mell.'!I42+'1.4.sz.mell.'!I42 -> 0 | F42: ='1.2.sz.mell.'!J42+'1.3.sz.mell.'!J42+'1.4.sz.mell.'!J42 -> 0 | G42: ='1.2.sz.mell.'!K42+'1.3.sz.mell.'!K42+'1.4.sz.mell.'!K42 -> 0
A43: 6.5. | B43: Részesedések megszűnéséhez kapcsolódó bevételek | C43: ='1.2.sz.mell.'!C43+'1.3.sz.mell.'!C43+'1.4.sz.mell.'!C43 -> 0 | D43: ='1.2.sz.mell.'!H43+'1.3.sz.mell.'!H43+'1.4.sz.mell.'!H43 -> 0 | E43: ='1.2.sz.mell.'!I43+'1.3.sz.mell.'!I43+'1.4.sz.mell.'!I43 -> 0 | F43: ='1.2.sz.mell.'!J43+'1.3.sz.mell.'!J43+'1.4.sz.mell.'!J43 -> 0 | G43: ='1.2.sz.mell.'!K43+'1.3.sz.mell.'!K43+'1.4.sz.mell.'!K43 -> 0
A44: 7. | B44: Működési célú átvett pénzeszközök (7.1. + … + 7.3.) | C44: =SUM(C45:C47) -> 0 | D44: =SUM(D45:D47) -> 0 | E44: =SUM(E45:E47) -> 0 | F44: =SUM(F45:F47) -> 0 | G44: =SUM(G45:G47) -> 0
A45: 7.1. | B45: Működési célú garancia- és kezességvállalásból megtérülések ÁH-n kívülről | C45: ='1.2.sz.mell.'!C45+'1.3.sz.mell.'!C45+'1.4.sz.mell.'!C45 -> 0 | D45: ='1.2.sz.mell.'!H45+'1.3.sz.mell.'!H45+'1.4.sz.mell.'!H45 -> 0 | E45: ='1.2.sz.mell.'!I45+'1.3.sz.mell.'!I45+'1.4.sz.mell.'!I45 -> 0 | F45: ='1.2.sz.mell.'!J45+'1.3.sz.mell.'!J45+'1.4.sz.mell.'!J45 -> 0 | G45: ='1.2.sz.mell.'!K45+'1.3.sz.mell.'!K45+'1.4.sz.mell.'!K45 -> 0
A46: 7.2. | B46: Működési célú visszatérítendő támogatások, kölcsönök visszatér. ÁH-n kívülről | C46: ='1.2.sz.mell.'!C46+'1.3.sz.mell.'!C46+'1.4.sz.mell.'!C46 -> 0 | D46: ='1.2.sz.mell.'!H46+'1.3.sz.mell.'!H46+'1.4.sz.mell.'!H46 -> 0 | E46: ='1.2.sz.mell.'!I46+'1.3.sz.mell.'!I46+'1.4.sz.mell.'!I46 -> 0 | F46: ='1.2.sz.mell.'!J46+'1.3.sz.mell.'!J46+'1.4.sz.mell.'!J46 -> 0 | G46: ='1.2.sz.mell.'!K46+'1.3.sz.mell.'!K46+'1.4.sz.mell.'!K46 -> 0
A47: 7.3. | B47: Egyéb működési célú átvett pénzeszköz | C47: ='1.2.sz.mell.'!C47+'1.3.sz.mell.'!C47+'1.4.sz.mell.'!C47 -> 0 | D47: ='1.2.sz.mell.'!H47+'1.3.sz.mell.'!H47+'1.4.sz.mell.'!H47 -> 0 | E47: ='1.2.sz.mell.'!I47+'1.3.sz.mell.'!I47+'1.4.sz.mell.'!I47 -> 0 | F47: ='1.2.sz.mell.'!J47+'1.3.sz.mell.'!J47+'1.4.sz.mell.'!J47 -> 0 | G47: ='1.2.sz.mell.'!K47+'1.3.sz.mell.'!K47+'1.4.sz.mell.'!K47 -> 0
A48: 7.4. | B48: 7.3.-ból EU-s támogatás (közvetlen) | C48: ='1.2.sz.mell.'!C48+'1.3.sz.mell.'!C48+'1.4.sz.mell.'!C48 -> 0 | D48: ='1.2.sz.mell.'!H48+'1.3.sz.mell.'!H48+'1.4.sz.mell.'!H48 -> 0 | E48: ='1.2.sz.mell.'!I48+'1.3.sz.mell.'!I48+'1.4.sz.mell.'!I48 -> 0 | F48: ='1.2.sz.mell.'!J48+'1.3.sz.mell.'!J48+'1.4.sz.mell.'!J48 -> 0 | G48: ='1.2.sz.mell.'!K48+'1.3.sz.mell.'!K48+'1.4.sz.mell.'!K48 -> 0
A49: 8. | B49: Felhalmozási célú átvett pénzeszközök (8.1.+8.2.+8.3.) | C49: =SUM(C50:C52) -> 0 | D49: =SUM(D50:D52) -> 0 | E49: =SUM(E50:E52) -> 0 | F49: =SUM(F50:F52) -> 0 | G49: =SUM(G50:G52) -> 0
A50: 8.1. | B50: Felhalm. célú garancia- és kezességvállalásból megtérülések ÁH-n kívülről | C50: ='1.2.sz.mell.'!C50+'1.3.sz.mell.'!C50+'1.4.sz.mell.'!C50 -> 0 | D50: ='1.2.sz.mell.'!H50+'1.3.sz.mell.'!H50+'1.4.sz.mell.'!H50 -> 0 | E50: ='1.2.sz.mell.'!I50+'1.3.sz.mell.'!I50+'1.4.sz.mell.'!I50 -> 0 | F50: ='1.2.sz.mell.'!J50+'1.3.sz.mell.'!J50+'1.4.sz.mell.'!J50 -> 0 | G50: ='1.2.sz.mell.'!K50+'1.3.sz.mell.'!K50+'1.4.sz.mell.'!K50 -> 0
A51: 8.2. | B51: Felhalm. célú visszatérítendő támogatások, kölcsönök visszatér. ÁH-n kívülről | C51: ='1.2.sz.mell.'!C51+'1.3.sz.mell.'!C51+'1.4.sz.mell.'!C51 -> 0 | D51: ='1.2.sz.mell.'!H51+'1.3.sz.mell.'!H51+'1.4.sz.mell.'!H51 -> 0 | E51: ='1.2.sz.mell.'!I51+'1.3.sz.mell.'!I51+'1.4.sz.mell.'!I51 -> 0 | F51: ='1.2.sz.mell.'!J51+'1.3.sz.mell.'!J51+'1.4.sz.mell.'!J51 -> 0 | G51: ='1.2.sz.mell.'!K51+'1.3.sz.mell.'!K51+'1.4.sz.mell.'!K51 -> 0
A52: 8.3. | B52: Egyéb felhalmozási célú átvett pénzeszköz | C52: ='1.2.sz.mell.'!C52+'1.3.sz.mell.'!C52+'1.4.sz.mell.'!C52 -> 0 | D52: ='1.2.sz.mell.'!H52+'1.3.sz.mell.'!H52+'1.4.sz.mell.'!H52 -> 0 | E52: ='1.2.sz.mell.'!I52+'1.3.sz.mell.'!I52+'1.4.sz.mell.'!I52 -> 0 | F52: ='1.2.sz.mell.'!J52+'1.3.sz.mell.'!J52+'1.4.sz.mell.'!J52 -> 0 | G52: ='1.2.sz.mell.'!K52+'1.3.sz.mell.'!K52+'1.4.sz.mell.'!K52 -> 0
A53: 8.4. | B53: 8.3.-ból EU-s támogatás (közvetlen) | C53: ='1.2.sz.mell.'!C53+'1.3.sz.mell.'!C53+'1.4.sz.mell.'!C53 -> 0 | D53: ='1.2.sz.mell.'!H53+'1.3.sz.mell.'!H53+'1.4.sz.mell.'!H53 -> 0 | E53: ='1.2.sz.mell.'!I53+'1.3.sz.mell.'!I53+'1.4.sz.mell.'!I53 -> 0 | F53: ='1.2.sz.mell.'!J53+'1.3.sz.mell.'!J53+'1.4.sz.mell.'!J53 -> 0 | G53: ='1.2.sz.mell.'!K53+'1.3.sz.mell.'!K53+'1.4.sz.mell.'!K53 -> 0
A54: 9. | B54: KÖLTSÉGVETÉSI BEVÉTELEK ÖSSZESEN: (1+…+8) | C54: =+C5+C6+C13+C20+C27+C38+C44+C49 -> 226577340 | D54: =+D5+D6+D13+D20+D27+D38+D44+D49 -> #REF! | E54: =+E5+E6+E13+E20+E27+E38+E44+E49 -> #REF! | F54: =+F5+F6+F13+F20+F27+F38+F44+F49 -> #REF! | G54: =+G5+G6+G13+G20+G27+G38+G44+G49 -> #REF!
A55: 10. | B55: Hitel-, kölcsönfelvétel államháztartáson kívülről (10.1.+10.3.) | C55: =SUM(C56:C58) -> 0 | D55: =SUM(D56:D58) -> 0 | E55: =SUM(E56:E58) -> 0 | F55: =SUM(F56:F58) -> 0 | G55: =SUM(G56:G58) -> 0
A56: 10.1. | B56: Hosszú lejáratú hitelek, kölcsönök felvétele | C56: ='1.2.sz.mell.'!C56+'1.3.sz.mell.'!C56+'1.4.sz.mell.'!C56 -> 0 | D56: ='1.2.sz.mell.'!H56+'1.3.sz.mell.'!H56+'1.4.sz.mell.'!H56 -> 0 | E56: ='1.2.sz.mell.'!I56+'1.3.sz.mell.'!I56+'1.4.sz.mell.'!I56 -> 0 | F56: ='1.2.sz.mell.'!J56+'1.3.sz.mell.'!J56+'1.4.sz.mell.'!J56 -> 0 | G56: ='1.2.sz.mell.'!K56+'1.3.sz.mell.'!K56+'1.4.sz.mell.'!K56 -> 0
A57: 10.2. | B57: Likviditási célú hitelek, kölcsönök felvétele pénzügyi vállalkozástól | C57: ='1.2.sz.mell.'!C57+'1.3.sz.mell.'!C57+'1.4.sz.mell.'!C57 -> 0 | D57: ='1.2.sz.mell.'!H57+'1.3.sz.mell.'!H57+'1.4.sz.mell.'!H57 -> 0 | E57: ='1.2.sz.mell.'!I57+'1.3.sz.mell.'!I57+'1.4.sz.mell.'!I57 -> 0 | F57: ='1.2.sz.mell.'!J57+'1.3.sz.mell.'!J57+'1.4.sz.mell.'!J57 -> 0 | G57: ='1.2.sz.mell.'!K57+'1.3.sz.mell.'!K57+'1.4.sz.mell.'!K57 -> 0
A58: 10.3. | B58: Rövid lejáratú hitelek, kölcsönök felvétele | C58: ='1.2.sz.mell.'!C58+'1.3.sz.mell.'!C58+'1.4.sz.mell.'!C58 -> 0 | D58: ='1.2.sz.mell.'!H58+'1.3.sz.mell.'!H58+'1.4.sz.mell.'!H58 -> 0 | E58: ='1.2.sz.mell.'!I58+'1.3.sz.mell.'!I58+'1.4.sz.mell.'!I58 -> 0 | F58: ='1.2.sz.mell.'!J58+'1.3.sz.mell.'!J58+'1.4.sz.mell.'!J58 -> 0 | G58: ='1.2.sz.mell.'!K58+'1.3.sz.mell.'!K58+'1.4.sz.mell.'!K58 -> 0
A59: 11. | B59: Belföldi értékpapírok bevételei (11.1. +…+ 11.4.) | C59: =SUM(C60:C63) -> 0 | D59: =SUM(D60:D63) -> 0 | E59: =SUM(E60:E63) -> 0 | F59: =SUM(F60:F63) -> 0 | G59: =SUM(G60:G63) -> 0
A60: 11.1. | B60: Forgatási célú belföldi értékpapírok beváltása, értékesítése | C60: ='1.2.sz.mell.'!C60+'1.3.sz.mell.'!C60+'1.4.sz.mell.'!C60 -> 0 | D60: ='1.2.sz.mell.'!H60+'1.3.sz.mell.'!H60+'1.4.sz.mell.'!H60 -> 0 | E60: ='1.2.sz.mell.'!I60+'1.3.sz.mell.'!I60+'1.4.sz.mell.'!I60 -> 0 | F60: ='1.2.sz.mell.'!J60+'1.3.sz.mell.'!J60+'1.4.sz.mell.'!J60 -> 0 | G60: ='1.2.sz.mell.'!K60+'1.3.sz.mell.'!K60+'1.4.sz.mell.'!K60 -> 0
A61: 11.2. | B61: Forgatási célú belföldi értékpapírok kibocsátása | C61: ='1.2.sz.mell.'!C61+'1.3.sz.mell.'!C61+'1.4.sz.mell.'!C61 -> 0 | D61: ='1.2.sz.mell.'!H61+'1.3.sz.mell.'!H61+'1.4.sz.mell.'!H61 -> 0 | E61: ='1.2.sz.mell.'!I61+'1.3.sz.mell.'!I61+'1.4.sz.mell.'!I61 -> 0 | F61: ='1.2.sz.mell.'!J61+'1.3.sz.mell.'!J61+'1.4.sz.mell.'!J61 -> 0 | G61: ='1.2.sz.mell.'!K61+'1.3.sz.mell.'!K61+'1.4.sz.mell.'!K61 -> 0
A62: 11.3. | B62: Befektetési célú belföldi értékpapírok beváltása, értékesítése | C62: ='1.2.sz.mell.'!C62+'1.3.sz.mell.'!C62+'1.4.sz.mell.'!C62 -> 0 | D62: ='1.2.sz.mell.'!H62+'1.3.sz.mell.'!H62+'1.4.sz.mell.'!H62 -> 0 | E62: ='1.2.sz.mell.'!I62+'1.3.sz.mell.'!I62+'1.4.sz.mell.'!I62 -> 0 | F62: ='1.2.sz.mell.'!J62+'1.3.sz.mell.'!J62+'1.4.sz.mell.'!J62 -> 0 | G62: ='1.2.sz.mell.'!K62+'1.3.sz.mell.'!K62+'1.4.sz.mell.'!K62 -> 0
A63: 11.4. | B63: Befektetési célú belföldi értékpapírok kibocsátása | C63: ='1.2.sz.mell.'!C63+'1.3.sz.mell.'!C63+'1.4.sz.mell.'!C63 -> 0 | D63: ='1.2.sz.mell.'!H63+'1.3.sz.mell.'!H63+'1.4.sz.mell.'!H63 -> 0 | E63: ='1.2.sz.mell.'!I63+'1.3.sz.mell.'!I63+'1.4.sz.mell.'!I63 -> 0 | F63: ='1.2.sz.mell.'!J63+'1.3.sz.mell.'!J63+'1.4.sz.mell.'!J63 -> 0 | G63: ='1.2.sz.mell.'!K63+'1.3.sz.mell.'!K63+'1.4.sz.mell.'!K63 -> 0
A64: 12. | B64: Maradvány igénybevétele (12.1. + 12.2.) | C64: =SUM(C65:C66) -> 24140746 | D64: =SUM(D65:D66) -> 0 | E64: =SUM(E65:E66) -> 0 | F64: =SUM(F65:F66) -> 0 | G64: =SUM(G65:G66) -> 0
A65: 12.1. | B65: Előző év költségvetési maradványának igénybevétele | C65: ='1.2.sz.mell.'!C65+'1.3.sz.mell.'!C65+'1.4.sz.mell.'!C65 -> 24140746 | D65: ='1.2.sz.mell.'!H65+'1.3.sz.mell.'!H65+'1.4.sz.mell.'!H65 -> 0 | E65: ='1.2.sz.mell.'!I65+'1.3.sz.mell.'!I65+'1.4.sz.mell.'!I65 -> 0 | F65: ='1.2.sz.mell.'!J65+'1.3.sz.mell.'!J65+'1.4.sz.mell.'!J65 -> 0 | G65: ='1.2.sz.mell.'!K65+'1.3.sz.mell.'!K65+'1.4.sz.mell.'!K65 -> 0
A66: 12.2. | B66: Előző év vállalkozási maradványának igénybevétele | C66: ='1.2.sz.mell.'!C66+'1.3.sz.mell.'!C66+'1.4.sz.mell.'!C66 -> 0 | D66: ='1.2.sz.mell.'!H66+'1.3.sz.mell.'!H66+'1.4.sz.mell.'!H66 -> 0 | E66: ='1.2.sz.mell.'!I66+'1.3.sz.mell.'!I66+'1.4.sz.mell.'!I66 -> 0 | F66: ='1.2.sz.mell.'!J66+'1.3.sz.mell.'!J66+'1.4.sz.mell.'!J66 -> 0 | G66: ='1.2.sz.mell.'!K66+'1.3.sz.mell.'!K66+'1.4.sz.mell.'!K66 -> 0
A67: 13. | B67: Belföldi finanszírozás bevételei (13.1. + … + 13.3.) | C67: =SUM(C68:C70) -> 0 | D67: =SUM(D68:D70) -> 0 | E67: =SUM(E68:E70) -> 0 | F67: =SUM(F68:F70) -> 0 | G67: =SUM(G68:G70) -> 0
A68: 13.1. | B68: Államháztartáson belüli megelőlegezések | C68: ='1.2.sz.mell.'!C68+'1.3.sz.mell.'!C68+'1.4.sz.mell.'!C68 -> 0 | D68: ='1.2.sz.mell.'!H68+'1.3.sz.mell.'!H68+'1.4.sz.mell.'!H68 -> 0 | E68: ='1.2.sz.mell.'!I68+'1.3.sz.mell.'!I68+'1.4.sz.mell.'!I68 -> 0 | F68: ='1.2.sz.mell.'!J68+'1.3.sz.mell.'!J68+'1.4.sz.mell.'!J68 -> 0 | G68: ='1.2.sz.mell.'!K68+'1.3.sz.mell.'!K68+'1.4.sz.mell.'!K68 -> 0
A69: 13.2. | B69: Államháztartáson belüli megelőlegezések törlesztése | C69: ='1.2.sz.mell.'!C69+'1.3.sz.mell.'!C69+'1.4.sz.mell.'!C69 -> 0 | D69: ='1.2.sz.mell.'!H69+'1.3.sz.mell.'!H69+'1.4.sz.mell.'!H69 -> 0 | E69: ='1.2.sz.mell.'!I69+'1.3.sz.mell.'!I69+'1.4.sz.mell.'!I69 -> 0 | F69: ='1.2.sz.mell.'!J69+'1.3.sz.mell.'!J69+'1.4.sz.mell.'!J69 -> 0 | G69: ='1.2.sz.mell.'!K69+'1.3.sz.mell.'!K69+'1.4.sz.mell.'!K69 -> 0
A70: 13.3. | B70: Betétek megszüntetése | C70: ='1.2.sz.mell.'!C70+'1.3.sz.mell.'!C70+'1.4.sz.mell.'!C70 -> 0 | D70: ='1.2.sz.mell.'!H70+'1.3.sz.mell.'!H70+'1.4.sz.mell.'!H70 -> 0 | E70: ='1.2.sz.mell.'!I70+'1.3.sz.mell.'!I70+'1.4.sz.mell.'!I70 -> 0 | F70: ='1.2.sz.mell.'!J70+'1.3.sz.mell.'!J70+'1.4.sz.mell.'!J70 -> 0 | G70: ='1.2.sz.mell.'!K70+'1.3.sz.mell.'!K70+'1.4.sz.mell.'!K70 -> 0
A71: 14. | B71: Külföldi finanszírozás bevételei (14.1.+…14.4.) | C71: =SUM(C72:C75) -> 0 | D71: =SUM(D72:D75) -> 0 | E71: =SUM(E72:E75) -> 0 | F71: =SUM(F72:F75) -> 0 | G71: =SUM(G72:G75) -> 0
A72: 14.1. | B72: Forgatási célú külföldi értékpapírok beváltása, értékesítése | C72: ='1.2.sz.mell.'!C72+'1.3.sz.mell.'!C72+'1.4.sz.mell.'!C72 -> 0 | D72: ='1.2.sz.mell.'!H72+'1.3.sz.mell.'!H72+'1.4.sz.mell.'!H72 -> 0 | E72: ='1.2.sz.mell.'!I72+'1.3.sz.mell.'!I72+'1.4.sz.mell.'!I72 -> 0 | F72: ='1.2.sz.mell.'!J72+'1.3.sz.mell.'!J72+'1.4.sz.mell.'!J72 -> 0 | G72: ='1.2.sz.mell.'!K72+'1.3.sz.mell.'!K72+'1.4.sz.mell.'!K72 -> 0
A73: 14.2. | B73: Befektetési célú külföldi értékpapírok beváltása, értékesítése | C73: ='1.2.sz.mell.'!C73+'1.3.sz.mell.'!C73+'1.4.sz.mell.'!C73 -> 0 | D73: ='1.2.sz.mell.'!H73+'1.3.sz.mell.'!H73+'1.4.sz.mell.'!H73 -> 0 | E73: ='1.2.sz.mell.'!I73+'1.3.sz.mell.'!I73+'1.4.sz.mell.'!I73 -> 0 | F73: ='1.2.sz.mell.'!J73+'1.3.sz.mell.'!J73+'1.4.sz.mell.'!J73 -> 0 | G73: ='1.2.sz.mell.'!K73+'1.3.sz.mell.'!K73+'1.4.sz.mell.'!K73 -> 0
A74: 14.3. | B74: Külföldi értékpapírok kibocsátása | C74: ='1.2.sz.mell.'!C74+'1.3.sz.mell.'!C74+'1.4.sz.mell.'!C74 -> 0 | D74: ='1.2.sz.mell.'!H74+'1.3.sz.mell.'!H74+'1.4.sz.mell.'!H74 -> 0 | E74: ='1.2.sz.mell.'!I74+'1.3.sz.mell.'!I74+'1.4.sz.mell.'!I74 -> 0 | F74: ='1.2.sz.mell.'!J74+'1.3.sz.mell.'!J74+'1.4.sz.mell.'!J74 -> 0 | G74: ='1.2.sz.mell.'!K74+'1.3.sz.mell.'!K74+'1.4.sz.mell.'!K74 -> 0
A75: 14.4. | B75: Külföldi hitelek, kölcsönök felvétele | C75: ='1.2.sz.mell.'!C75+'1.3.sz.mell.'!C75+'1.4.sz.mell.'!C75 -> 0 | D75: ='1.2.sz.mell.'!H75+'1.3.sz.mell.'!H75+'1.4.sz.mell.'!H75 -> 0 | E75: ='1.2.sz.mell.'!I75+'1.3.sz.mell.'!I75+'1.4.sz.mell.'!I75 -> 0 | F75: ='1.2.sz.mell.'!J75+'1.3.sz.mell.'!J75+'1.4.sz.mell.'!J75 -> 0 | G75: ='1.2.sz.mell.'!K75+'1.3.sz.mell.'!K75+'1.4.sz.mell.'!K75 -> 0
A76: 15. | B76: Adóssághoz nem kapcsolódó származékos ügyletek bevételei
A77: 16. | B77: FINANSZÍROZÁSI BEVÉTELEK ÖSSZESEN: (10. + … +15.) | C77: =+C55+C59+C64+C67+C71+C76 -> 24140746 | D77: =+D55+D59+D64+D67+D71+D76 -> 0 | E77: =+E55+E59+E64+E67+E71+E76 -> 0 | F77: =+F55+F59+F64+F67+F71+F76 -> 0 | G77: =+G55+G59+G64+G67+G71+G76 -> 0
A78: 17. | B78: KÖLTSÉGVETÉSI ÉS FINANSZÍROZÁSI BEVÉTELEK ÖSSZESEN: (9+16) | C78: =+C54+C77 -> 250718086 | D78: =+D54+D77 -> #REF! | E78: =+E54+E77 -> #REF! | F78: =+F54+F77 -> #REF! | G78: =+G54+G77 -> #REF!
A80: K I A D Á S O K
A81: 2. sz. táblázat | C81: Forintban | D81: Ezer forintban | E81: Ezer forintban | F81: Ezer forintban | G81: Ezer forintban
A82: Sor- szám | B82: Kiadási jogcímek | C82: 2018. évi előirányzat | D82: Javasolt módosítás | E82: Módosított előirányzat | F82: Társulási Tanács által javasolt módosítás | G82: Módosított előirányzat
A83: 1 | B83: 2 | C83: 3 | D83: 3 | E83: 3 | F83: 3 | G83: 3
A84: 1. | B84: Működési költségvetés kiadásai (1.1+…+1.5.) | C84: =SUM(C85:C89) -> 240744722 | D84: =SUM(D85:D89) -> 0 | E84: =SUM(E85:E89) -> 0 | F84: =SUM(F85:F89) -> 0 | G84: =SUM(G85:G89) -> 0
A85: 1.1. | B85: Személyi juttatások | C85: ='1.2.sz.mell.'!C85+'1.3.sz.mell.'!C85+'1.4.sz.mell.'!C85 -> 141314000 | D85: ='1.2.sz.mell.'!H85+'1.3.sz.mell.'!H85+'1.4.sz.mell.'!H85 -> 0 | E85: ='1.2.sz.mell.'!I85+'1.3.sz.mell.'!I85+'1.4.sz.mell.'!I85 -> 0 | F85: ='1.2.sz.mell.'!J85+'1.3.sz.mell.'!J85+'1.4.sz.mell.'!J85 -> 0 | G85: ='1.2.sz.mell.'!K85+'1.3.sz.mell.'!K85+'1.4.sz.mell.'!K85 -> 0
A86: 1.2. | B86: Munkaadókat terhelő járulékok és szociális hozzájárulási adó | C86: ='1.2.sz.mell.'!C86+'1.3.sz.mell.'!C86+'1.4.sz.mell.'!C86 -> 31739000 | D86: ='1.2.sz.mell.'!H86+'1.3.sz.mell.'!H86+'1.4.sz.mell.'!H86 -> 0 | E86: ='1.2.sz.mell.'!I86+'1.3.sz.mell.'!I86+'1.4.sz.mell.'!I86 -> 0 | F86: ='1.2.sz.mell.'!J86+'1.3.sz.mell.'!J86+'1.4.sz.mell.'!J86 -> 0 | G86: ='1.2.sz.mell.'!K86+'1.3.sz.mell.'!K86+'1.4.sz.mell.'!K86 -> 0
A87: 1.3. | B87: Dologi kiadások | C87: ='1.2.sz.mell.'!C87+'1.3.sz.mell.'!C87+'1.4.sz.mell.'!C87 -> 59658000 | D87: ='1.2.sz.mell.'!H87+'1.3.sz.mell.'!H87+'1.4.sz.mell.'!H87 -> 0 | E87: ='1.2.sz.mell.'!I87+'1.3.sz.mell.'!I87+'1.4.sz.mell.'!I87 -> 0 | F87: ='1.2.sz.mell.'!J87+'1.3.sz.mell.'!J87+'1.4.sz.mell.'!J87 -> 0 | G87: ='1.2.sz.mell.'!K87+'1.3.sz.mell.'!K87+'1.4.sz.mell.'!K87 -> 0
A88: 1.4. | B88: Ellátottak pénzbeli juttatásai | C88: ='1.2.sz.mell.'!C88+'1.3.sz.mell.'!C88+'1.4.sz.mell.'!C88 -> 0 | D88: ='1.2.sz.mell.'!H88+'1.3.sz.mell.'!H88+'1.4.sz.mell.'!H88 -> 0 | E88: ='1.2.sz.mell.'!I88+'1.3.sz.mell.'!I88+'1.4.sz.mell.'!I88 -> 0 | F88: ='1.2.sz.mell.'!J88+'1.3.sz.mell.'!J88+'1.4.sz.mell.'!J88 -> 0 | G88: ='1.2.sz.mell.'!K88+'1.3.sz.mell.'!K88+'1.4.sz.mell.'!K88 -> 0
A89: 1.5 | B89: Egyéb működési célú kiadások | C89: ='1.2.sz.mell.'!C89+'1.3.sz.mell.'!C89+'1.4.sz.mell.'!C89 -> 8033722 | D89: ='1.2.sz.mell.'!H89+'1.3.sz.mell.'!H89+'1.4.sz.mell.'!H89 -> 0 | E89: ='1.2.sz.mell.'!I89+'1.3.sz.mell.'!I89+'1.4.sz.mell.'!I89 -> 0 | F89: ='1.2.sz.mell.'!J89+'1.3.sz.mell.'!J89+'1.4.sz.mell.'!J89 -> 0 | G89: ='1.2.sz.mell.'!K89+'1.3.sz.mell.'!K89+'1.4.sz.mell.'!K89 -> 0
A90: 2. | B90: Felhalmozási költségvetés kiadásai (2.1.+2.3.+2.5.) | C90: =+C91+C93+C95 -> 1805000 | D90: =+D91+D93+D95 -> 0 | E90: =+E91+E93+E95 -> 0 | F90: =+F91+F93+F95 -> 0 | G90: =+G91+G93+G95 -> 0
A91: 2.1. | B91: Beruházások | C91: ='1.2.sz.mell.'!C91+'1.3.sz.mell.'!C91+'1.4.sz.mell.'!C91 -> 1805000 | D91: ='1.2.sz.mell.'!H91+'1.3.sz.mell.'!H91+'1.4.sz.mell.'!H91 -> 0 | E91: ='1.2.sz.mell.'!I91+'1.3.sz.mell.'!I91+'1.4.sz.mell.'!I91 -> 0 | F91: ='1.2.sz.mell.'!J91+'1.3.sz.mell.'!J91+'1.4.sz.mell.'!J91 -> 0 | G91: ='1.2.sz.mell.'!K91+'1.3.sz.mell.'!K91+'1.4.sz.mell.'!K91 -> 0
A92: 2.2. | B92: 2.1.-ből EU-s forrásból megvalósuló beruházás | C92: ='1.2.sz.mell.'!C92+'1.3.sz.mell.'!C92+'1.4.sz.mell.'!C92 -> 0 | D92: ='1.2.sz.mell.'!H92+'1.3.sz.mell.'!H92+'1.4.sz.mell.'!H92 -> 0 | E92: ='1.2.sz.mell.'!I92+'1.3.sz.mell.'!I92+'1.4.sz.mell.'!I92 -> 0 | F92: ='1.2.sz.mell.'!J92+'1.3.sz.mell.'!J92+'1.4.sz.mell.'!J92 -> 0 | G92: ='1.2.sz.mell.'!K92+'1.3.sz.mell.'!K92+'1.4.sz.mell.'!K92 -> 0
A93: 2.3. | B93: Felújítások | C93: ='1.2.sz.mell.'!C93+'1.3.sz.mell.'!C93+'1.4.sz.mell.'!C93 -> 0 | D93: ='1.2.sz.mell.'!H93+'1.3.sz.mell.'!H93+'1.4.sz.mell.'!H93 -> 0 | E93: ='1.2.sz.mell.'!I93+'1.3.sz.mell.'!I93+'1.4.sz.mell.'!I93 -> 0 | F93: ='1.2.sz.mell.'!J93+'1.3.sz.mell.'!J93+'1.4.sz.mell.'!J93 -> 0 | G93: ='1.2.sz.mell.'!K93+'1.3.sz.mell.'!K93+'1.4.sz.mell.'!K93 -> 0
A94: 2.4. | B94: 2.3.-ból EU-s forrásból megvalósuló felújítás | C94: ='1.2.sz.mell.'!C94+'1.3.sz.mell.'!C94+'1.4.sz.mell.'!C94 -> 0 | D94: ='1.2.sz.mell.'!H94+'1.3.sz.mell.'!H94+'1.4.sz.mell.'!H94 -> 0 | E94: ='1.2.sz.mell.'!I94+'1.3.sz.mell.'!I94+'1.4.sz.mell.'!I94 -> 0 | F94: ='1.2.sz.mell.'!J94+'1.3.sz.mell.'!J94+'1.4.sz.mell.'!J94 -> 0 | G94: ='1.2.sz.mell.'!K94+'1.3.sz.mell.'!K94+'1.4.sz.mell.'!K94 -> 0
A95: 2.5. | B95: Egyéb felhalmozási kiadások | C95: ='1.2.sz.mell.'!C95+'1.3.sz.mell.'!C95+'1.4.sz.mell.'!C95 -> 0 | D95: ='1.2.sz.mell.'!H95+'1.3.sz.mell.'!H95+'1.4.sz.mell.'!H95 -> 0 | E95: ='1.2.sz.mell.'!I95+'1.3.sz.mell.'!I95+'1.4.sz.mell.'!I95 -> 0 | F95: ='1.2.sz.mell.'!J95+'1.3.sz.mell.'!J95+'1.4.sz.mell.'!J95 -> 0 | G95: ='1.2.sz.mell.'!K95+'1.3.sz.mell.'!K95+'1.4.sz.mell.'!K95 -> 0
A96: 3. | B96: Tartalékok (3.1.+3.2.) | C96: =+C97+C98 -> 8168364 | D96: =+D97+D98 -> 0 | E96: =+E97+E98 -> 0 | F96: =+F97+F98 -> 0 | G96: =+G97+G98 -> 0
A97: 3.1. | B97: Általános tartalék | C97: ='1.2.sz.mell.'!C97+'1.3.sz.mell.'!C97+'1.4.sz.mell.'!C97 -> 368364 | D97: ='1.2.sz.mell.'!H97+'1.3.sz.mell.'!H97+'1.4.sz.mell.'!H97 -> 0 | E97: ='1.2.sz.mell.'!I97+'1.3.sz.mell.'!I97+'1.4.sz.mell.'!I97 -> 0 | F97: ='1.2.sz.mell.'!J97+'1.3.sz.mell.'!J97+'1.4.sz.mell.'!J97 -> 0 | G97: ='1.2.sz.mell.'!K97+'1.3.sz.mell.'!K97+'1.4.sz.mell.'!K97 -> 0
A98: 3.2. | B98: Céltartalék | C98: ='1.2.sz.mell.'!C98+'1.3.sz.mell.'!C98+'1.4.sz.mell.'!C98 -> 7800000 | D98: ='1.2.sz.mell.'!H98+'1.3.sz.mell.'!H98+'1.4.sz.mell.'!H98 -> 0 | E98: ='1.2.sz.mell.'!I98+'1.3.sz.mell.'!I98+'1.4.sz.mell.'!I98 -> 0 | F98: ='1.2.sz.mell.'!J98+'1.3.sz.mell.'!J98+'1.4.sz.mell.'!J98 -> 0 | G98: ='1.2.sz.mell.'!K98+'1.3.sz.mell.'!K98+'1.4.sz.mell.'!K98 -> 0
A99: 4. | B99: KÖLTSÉGVETÉSI KIADÁSOK ÖSSZESEN (1+2+3) | C99: =+C84+C90+C96 -> 250718086 | D99: =+D84+D90+D96 -> 0 | E99: =+E84+E90+E96 -> 0 | F99: =+F84+F90+F96 -> 0 | G99: =+G84+G90+G96 -> 0
A100: 5. | B100: Hitel-, kölcsöntörlesztés államháztartáson kívülre (5.1. + … + 5.3.) | C100: =+C101+C102+C103 -> 0 | D100: =+D101+D102+D103 -> 0 | E100: =+E101+E102+E103 -> 0 | F100: =+F101+F102+F103 -> 0 | G100: =+G101+G102+G103 -> 0
A101: 5.1. | B101: Hosszú lejáratú hitelek, kölcsönök törlesztése | C101: ='1.2.sz.mell.'!C101+'1.3.sz.mell.'!C101+'1.4.sz.mell.'!C101 -> 0 | D101: ='1.2.sz.mell.'!H101+'1.3.sz.mell.'!H101+'1.4.sz.mell.'!H101 -> 0 | E101: ='1.2.sz.mell.'!I101+'1.3.sz.mell.'!I101+'1.4.sz.mell.'!I101 -> 0 | F101: ='1.2.sz.mell.'!J101+'1.3.sz.mell.'!J101+'1.4.sz.mell.'!J101 -> 0 | G101: ='1.2.sz.mell.'!K101+'1.3.sz.mell.'!K101+'1.4.sz.mell.'!K101 -> 0
...

Sheet 1.2.sz.mell.
A1: B E V É T E L E K
A2: 1. sz. táblázat | C2: Forintban | D2: Ezer forintban | E2: Ezer forintban | F2: Ezer forintban | G2: Ezer forintban
A3: Sor- szám | B3: Bevételi jogcím | C3: 2018. évi előirányzat | D3: Javasolt módosítás | E3: Módosított előirányzat | F3: Társulási Tanács által javasolt módosítás | G3: Módosított előirányzat
A4: 1 | B4: 2 | C4: 3 | D4: 3 | E4: 3 | F4: 3 | G4: 3
A5: 1. | B5: Társulás működési támogatásai | D5: =+#REF!+#REF!+#REF!+#REF!+#REF!+#REF! -> #REF! | E5: =+#REF!+#REF!+#REF!+#REF!+#REF!+#REF! -> #REF! | F5: =+#REF!+#REF!+#REF!+#REF!+#REF!+#REF! -> #REF! | G5: =+#REF!+#REF!+#REF!+#REF!+#REF!+#REF! -> #REF!
A6: 2. | B6: Működési célú támogatások államháztartáson belülről (2.1.+…+.2.5.) | C6: =+C7+C8+C9+C10+C11 -> 95053000 | D6: =+D7+D8+D9+D10+D11 -> 103445 | E6: =+E7+E8+E9+E10+E11 -> 103445 | F6: =+F7+F8+F9+F10+F11 -> 103445 | G6: =+G7+G8+G9+G10+G11 -> 103445
A7: 2.1. | B7: Elvonások és befizetések bevételei
A8: 2.2. | B8: Működési célú garancia- és kezességvállalásból megtérülések
A9: 2.3. | B9: Működési célú visszatérítendő támogatások, kölcsönök visszatérülése
A10: 2.4. | B10: Működési célú visszatérítendő támogatások, kölcsönök igénybevétele
A11: 2.5. | B11: Egyéb működési célú támogatások bevételei | C11: 95053000 | D11: 103445 | E11: 103445 | F11: 103445 | G11: 103445
A12: 2.6. | B12: 2.5.-ből EU-s támogatás
A13: 3. | B13: Felhalmozási célú támogatások államháztartáson belülről (3.1.+…+3.5.) | C13: =+C14+C15+C16+C17+C18 -> 0 | D13: =+D14+D15+D16+D17+D18 -> 0 | E13: =+E14+E15+E16+E17+E18 -> 0 | F13: =+F14+F15+F16+F17+F18 -> 0 | G13: =+G14+G15+G16+G17+G18 -> 0
A14: 3.1. | B14: Felhalmozási célú önkormányzati támogatások
A15: 3.2. | B15: Felhalmozási célú garancia- és kezességvállalásból megtérülések
A16: 3.3. | B16: Felhalmozási célú visszatérítendő támogatások, kölcsönök visszatérülése
A17: 3.4. | B17: Felhalmozási célú visszatérítendő támogatások, kölcsönök igénybevétele
A18: 3.5. | B18: Egyéb felhalmozási célú támogatások bevételei
A19: 3.6. | B19: 3.5.-ből EU-s támogatás
A20: 4. | B20: Közhatalmi bevételek | C20: =+C21+C24+C25+C26 -> 0 | D20: =+D21+D24+D25+D26 -> 0 | E20: =+E21+E24+E25+E26 -> 0 | F20: =+F21+F24+F25+F26 -> 0 | G20: =+G21+G24+G25+G26 -> 0
A21: 4.1. | B21: Helyi adók (4.1.1.+4.1.2.) | C21: =+C22+C23 -> 0 | D21: =+D22+D23 -> 0 | E21: =+E22+E23 -> 0 | F21: =+F22+F23 -> 0 | G21: =+G22+G23 -> 0
A22: 4.1.1. | B22: - Vagyoni típusú adók
A23: 4.1.2. | B23: - Termékek és szolgáltatások adói
A24: 4.2. | B24: Gépjárműadó
A25: 4.3. | B25: Egyéb áruhasználati és szolgáltatási adók
A26: 4.4. | B26: Egyéb közhatalmi bevételek
A27: 5. | B27: Működési bevételek (5.1.+…+ 5.10.) | C27: =SUM(C28:C37) -> 83650000 | D27: =SUM(D28:D37) -> 37314 | E27: =SUM(E28:E37) -> 37314 | F27: =SUM(F28:F37) -> 37314 | G27: =SUM(G28:G37) -> 37314
A28: 5.1. | B28: Készletértékesítés ellenértéke
A29: 5.2. | B29: Szolgáltatások ellenértéke | D29: 37314 | E29: 37314 | F29: 37314 | G29: 37314
A30: 5.3. | B30: Közvetített szolgáltatások értéke
A31: 5.4. | B31: Tulajdonosi bevételek
A32: 5.5. | B32: Ellátási díjak
A33: 5.6. | B33: Kiszámlázott általános forgalmi adó
A34: 5.7. | B34: Általános forgalmi adó visszatérítése
A35: 5.8. | B35: Kamatbevételek
A36: 5.9. | B36: Egyéb pénzügyi műveletek bevételei
A37: 5.10. | B37: Egyéb működési bevételek | C37: 83650000
A38: 6. | B38: Felhalmozási bevételek (6.1.+…+6.5.) | C38: =SUM(C39:C43) -> 0 | D38: =SUM(D39:D43) -> 0 | E38: =SUM(E39:E43) -> 0 | F38: =SUM(F39:F43) -> 0 | G38: =SUM(G39:G43) -> 0
A39: 6.1. | B39: Immateriális javak értékesítése
A40: 6.2. | B40: Ingatlanok értékesítése
A41: 6.3. | B41: Egyéb tárgyi eszközök értékesítése
A42: 6.4. | B42: Részesedések értékesítése
A43: 6.5. | B43: Részesedések megszűnéséhez kapcsolódó bevételek
A44: 7. | B44: Működési célú átvett pénzeszközök (7.1. + … + 7.3.) | C44: =SUM(C45:C47) -> 0 | D44: =SUM(D45:D47) -> 0 | E44: =SUM(E45:E47) -> 0 | F44: =SUM(F45:F47) -> 0 | G44: =SUM(G45:G47) -> 0
A45: 7.1. | B45: Működési célú garancia- és kezességvállalásból megtérülések ÁH-n kívülről
A46: 7.2. | B46: Működési célú visszatérítendő támogatások kölcsönök visszatér. ÁH-n kívülről
A47: 7.3. | B47: Egyéb működési célú átvett pénzeszköz
A48: 7.4. | B48: 7.3.-ból EU-s támogatás (közvetlen)
A49: 8. | B49: Felhalmozási célú átvett pénzeszközök (8.1.+8.2.+8.3.) | C49: =SUM(C50:C52) -> 0 | D49: =SUM(D50:D52) -> 0 | E49: =SUM(E50:E52) -> 0 | F49: =SUM(F50:F52) -> 0 | G49: =SUM(G50:G52) -> 0
A50: 8.1. | B50: Felhalm. célú garancia- és kezességvállalásból megtérülések ÁH-n kívülről
A51: 8.2. | B51: Felhalm. célú visszatérítendő támogatások, kölcsönök visszatér. ÁH-n kívülről
A52: 8.3. | B52: Egyéb felhalmozási célú átvett pénzeszköz
A53: 8.4. | B53: 8.3.-ból EU-s támogatás (közvetlen)
A54: 9. | B54: KÖLTSÉGVETÉSI BEVÉTELEK ÖSSZESEN: (1+…+8) | C54: =+C5+C6+C13+C20+C27+C38+C44+C49 -> 178703000 | D54: =+D5+D6+D13+D20+D27+D38+D44+D49 -> #REF! | E54: =+E5+E6+E13+E20+E27+E38+E44+E49 -> #REF! | F54: =+F5+F6+F13+F20+F27+F38+F44+F49 -> #REF! | G54: =+G5+G6+G13+G20+G27+G38+G44+G49 -> #REF!
A55: 10. | B55: Hitel-, kölcsönfelvétel államháztartáson kívülről (10.1.+10.3.) | C55: =SUM(C56:C58) -> 0 | D55: =SUM(D56:D58) -> 0 | E55: =SUM(E56:E58) -> 0 | F55: =SUM(F56:F58) -> 0 | G55: =SUM(G56:G58) -> 0
A56: 10.1. | B56: Hosszú lejáratú hitelek, kölcsönök felvétele
A57: 10.2. | B57: Likviditási célú hitelek, kölcsönök felvétele pénzügyi vállalkozástól
A58: 10.3. | B58: Rövid lejáratú hitelek, kölcsönök felvétele
A59: 11. | B59: Belföldi értékpapírok bevételei (11.1. +…+ 11.4.) | C59: =SUM(C60:C63) -> 0 | D59: =SUM(D60:D63) -> 0 | E59: =SUM(E60:E63) -> 0 | F59: =SUM(F60:F63) -> 0 | G59: =SUM(G60:G63) -> 0
A60: 11.1. | B60: Forgatási célú belföldi értékpapírok beváltása, értékesítése
A61: 11.2. | B61: Forgatási célú belföldi értékpapírok kibocsátása
A62: 11.3. | B62: Befektetési célú belföldi értékpapírok beváltása, értékesítése
A63: 11.4. | B63: Befektetési célú belföldi értékpapírok kibocsátása
A64: 12. | B64: Maradvány igénybevétele (12.1. + 12.2.) | C64: =SUM(C65:C66) -> 16099086 | D64: =SUM(D65:D66) -> 2921 | E64: =SUM(E65:E66) -> 2921 | F64: =SUM(F65:F66) -> 2921 | G64: =SUM(G65:G66) -> 2921
A65: 12.1. | B65: Előző év költségvetési maradványának igénybevétele | C65: 16099086 | D65: 2921 | E65: 2921 | F65: 2921 | G65: 2921
A66: 12.2. | B66: Előző év vállalkozási maradványának igénybevétele
A67: 13. | B67: Belföldi finanszírozás bevételei (13.1. + … + 13.3.) | C67: =SUM(C68:C70) -> 0 | D67: =SUM(D68:D70) -> 0 | E67: =SUM(E68:E70) -> 0 | F67: =SUM(F68:F70) -> 0 | G67: =SUM(G68:G70) -> 0
A68: 13.1. | B68: Államháztartáson belüli megelőlegezések
A69: 13.2. | B69: Államháztartáson belüli megelőlegezések törlesztése
A70: 13.3. | B70: Betétek megszüntetése
A71: 14. | B71: Külföldi finanszírozás bevételei (14.1.+…14.4.) | C71: =SUM(C72:C75) -> 0 | D71: =SUM(D72:D75) -> 0 | E71: =SUM(E72:E75) -> 0 | F71: =SUM(F72:F75) -> 0 | G71: =SUM(G72:G75) -> 0
A72: 14.1. | B72: Forgatási célú külföldi értékpapírok beváltása, értékesítése
A73: 14.2. | B73: Befektetési célú külföldi értékpapírok beváltása, értékesítése
A74: 14.3. | B74: Külföldi értékpapírok kibocsátása
A75: 14.4. | B75: Külföldi hitelek, kölcsönök felvétele
A76: 15. | B76: Adóssághoz nem kapcsolódó származékos ügyletek bevételei
A77: 16. | B77: FINANSZÍROZÁSI BEVÉTELEK ÖSSZESEN: (10. + … +15.) | C77: =+C55+C59+C64+C67+C71+C76 -> 16099086 | D77: =+D55+D59+D64+D67+D71+D76 -> 2921 | E77: =+E55+E59+E64+E67+E71+E76 -> 2921 | F77: =+F55+F59+F64+F67+F71+F76 -> 2921 | G77: =+G55+G59+G64+G67+G71+G76 -> 2921
A78: 17. | B78: KÖLTSÉGVETÉSI ÉS FINANSZÍROZÁSI BEVÉTELEK ÖSSZESEN: (9+16) | C78: =+C54+C77 -> 194802086 | D78: =+D54+D77 -> #REF! | E78: =+E54+E77 -> #REF! | F78: =+F54+F77 -> #REF! | G78: =+G54+G77 -> #REF!
A80: K I A D Á S O K
A81: 2. sz. táblázat | C81: Forintban | D81: Ezer forintban | E81: Ezer forintban | F81: Ezer forintban | G81: Ezer forintban
A82: Sor- szám | B82: Kiadási jogcímek | C82: 2018. évi előirányzat | D82: Javasolt módosítás | E82: Módosított előirányzat | F82: Társulási Tanács által javasolt módosítás | G82: Módosított előirányzat
A83: 1 | B83: 2 | C83: 3 | D83: 3 | E83: 3 | F83: 3 | G83: 3
A84: 1. | B84: Működési költségvetés kiadásai (1.1+…+1.5.) | C84: =SUM(C85:C89) -> 192683722 | D84: =SUM(D85:D89) -> 142803 | E84: =SUM(E85:E89) -> 142803 | F84: =SUM(F85:F89) -> 142803 | G84: =SUM(G85:G89) -> 142803
A85: 1.1. | B85: Személyi juttatások | C85: 115459000 | D85: 74751 | E85: 74751 | F85: 74751 | G85: 74751
A86: 1.2. | B86: Munkaadókat terhelő járulékok és szociális hozzájárulási adó | C86: 26181000 | D86: 22763 | E86: 22763 | F86: 22763 | G86: 22763
A87: 1.3. | B87: Dologi kiadások | C87: 50176000 | D87: 42846 | E87: 42846 | F87: 42846 | G87: 42846
A88: 1.4. | B88: Ellátottak pénzbeli juttatásai | C88: 0
A89: 1.5 | B89: Egyéb működési célú kiadások | C89: 867722 | D89: 2443 | E89: 2443 | F89: 2443 | G89: 2443
A90: 2. | B90: Felhalmozási költségvetés kiadásai (2.1.+2.3.+2.5.) | C90: =+C91+C93+C95 -> 1750000 | D90: =+D91+D93+D95 -> 877 | E90: =+E91+E93+E95 -> 877 | F90: =+F91+F93+F95 -> 877 | G90: =+G91+G93+G95 -> 877
A91: 2.1. | B91: Beruházások | C91: 1750000 | D91: 877 | E91: 877 | F91: 877 | G91: 877
A92: 2.2. | B92: 2.1.-ből EU-s forrásból megvalósuló beruházás
A93: 2.3. | B93: Felújítások
A94: 2.4. | B94: 2.3.-ból EU-s forrásból megvalósuló felújítás
A95: 2.5. | B95: Egyéb felhalmozási kiadások
A96: 3. | B96: Tartalékok (3.1.+3.2.) | C96: =+C97+C98 -> 368364 | D96: =+D97+D98 -> 0 | E96: =+E97+E98 -> 0 | F96: =+F97+F98 -> 0 | G96: =+G97+G98 -> 0
A97: 3.1. | B97: Általános tartalék | C97: 368364
A98: 3.2. | B98: Céltartalék
A99: 4. | B99: KÖLTSÉGVETÉSI KIADÁSOK ÖSSZESEN (1+2+3) | C99: =+C84+C90+C96 -> 194802086 | D99: =+D84+D90+D96 -> 143680 | E99: =+E84+E90+E96 -> 143680 | F99: =+F84+F90+F96 -> 143680 | G99: =+G84+G90+G96 -> 143680
A100: 5. | B100: Hitel-, kölcsöntörlesztés államháztartáson kívülre (5.1. + … + 5.3.) | C100: =+C101+C102+C103 -> 0 | D100: =+D101+D102+D103 -> 0 | E100: =+E101+E102+E103 -> 0 | F100: =+F101+F102+F103 -> 0 | G100: =+G101+G102+G103 -> 0
A101: 5.1. | B101: Hosszú lejáratú hitelek, kölcsönök törlesztése
...

Sheet 1.3.sz.mell.
A1: B E V É T E L E K
A2: 1. sz. táblázat | C2: Forintban | D2: Ezer forintban | E2: Ezer forintban | F2: Ezer forintban | G2: Ezer forintban
A3: Sor- szám | B3: Bevételi jogcím | C3: 2018. évi előirányzat | D3: Javasolt módosítás | E3: Módosított előirányzat | F3: Társulási Tanács által javasolt módosítás | G3: Módosított előirányzat
A4: 1 | B4: 2 | C4: 3 | D4: 3 | E4: 3 | F4: 3 | G4: 3
A5: 1. | B5: Társulás működési támogatásai | D5: =+#REF!+#REF!+#REF!+#REF!+#REF!+#REF! -> #REF! | E5: =+#REF!+#REF!+#REF!+#REF!+#REF!+#REF! -> #REF! | F5: =+#REF!+#REF!+#REF!+#REF!+#REF!+#REF! -> #REF! | G5: =+#REF!+#REF!+#REF!+#REF!+#REF!+#REF! -> #REF!
A6: 2. | B6: Működési célú támogatások államháztartáson belülről (2.1.+…+.2.5.) | C6: =+C7+C8+C9+C10+C11 -> 34944340 | D6: =+D7+D8+D9+D10+D11 -> 6943 | E6: =+E7+E8+E9+E10+E11 -> 6943 | F6: =+F7+F8+F9+F10+F11 -> 6943 | G6: =+G7+G8+G9+G10+G11 -> 6943
A7: 2.1. | B7: Elvonások és befizetések bevételei
A8: 2.2. | B8: Működési célú garancia- és kezességvállalásból megtérülések
A9: 2.3. | B9: Működési célú visszatérítendő támogatások, kölcsönök visszatérülése
A10: 2.4. | B10: Működési célú visszatérítendő támogatások, kölcsönök igénybevétele
A11: 2.5. | B11: Egyéb működési célú támogatások bevételei | C11: 34944340 | D11: 6943 | E11: 6943 | F11: 6943 | G11: 6943
A12: 2.6. | B12: 2.5.-ből EU-s támogatás | C12: 5594340
A13: 3. | B13: Felhalmozási célú támogatások államháztartáson belülről (3.1.+…+3.5.) | C13: =+C14+C15+C16+C17+C18 -> 0 | D13: =+D14+D15+D16+D17+D18 -> 0 | E13: =+E14+E15+E16+E17+E18 -> 0 | F13: =+F14+F15+F16+F17+F18 -> 0 | G13: =+G14+G15+G16+G17+G18 -> 0
A14: 3.1. | B14: Felhalmozási célú önkormányzati támogatások
A15: 3.2. | B15: Felhalmozási célú garancia- és kezességvállalásból megtérülések
A16: 3.3. | B16: Felhalmozási célú visszatérítendő támogatások, kölcsönök visszatérülése
A17: 3.4. | B17: Felhalmozási célú visszatérítendő támogatások, kölcsönök igénybevétele
A18: 3.5. | B18: Egyéb felhalmozási célú támogatások bevételei
A19: 3.6. | B19: 3.5.-ből EU-s támogatás
A20: 4. | B20: Közhatalmi bevételek | C20: =+C21+C24+C25+C26 -> 0 | D20: =+D21+D24+D25+D26 -> 0 | E20: =+E21+E24+E25+E26 -> 0 | F20: =+F21+F24+F25+F26 -> 0 | G20: =+G21+G24+G25+G26 -> 0
A21: 4.1. | B21: Helyi adók (4.1.1.+4.1.2.) | C21: =+C22+C23 -> 0 | D21: =+D22+D23 -> 0 | E21: =+E22+E23 -> 0 | F21: =+F22+F23 -> 0 | G21: =+G22+G23 -> 0
A22: 4.1.1. | B22: - Vagyoni típusú adók
A23: 4.1.2. | B23: - Termékek és szolgáltatások adói
A24: 4.2. | B24: Gépjárműadó
A25: 4.3. | B25: Egyéb áruhasználati és szolgáltatási adók
A26: 4.4. | B26: Egyéb közhatalmi bevételek
A27: 5. | B27: Működési bevételek (5.1.+…+ 5.10.) | C27: =SUM(C28:C37) -> 12930000 | D27: =SUM(D28:D37) -> 8461 | E27: =SUM(E28:E37) -> 8461 | F27: =SUM(F28:F37) -> 8461 | G27: =SUM(G28:G37) -> 8461
A28: 5.1. | B28: Készletértékesítés ellenértéke
A29: 5.2. | B29: Szolgáltatások ellenértéke | D29: 8046 | E29: 8046 | F29: 8046 | G29: 8046
A30: 5.3. | B30: Közvetített szolgáltatások értéke
A31: 5.4. | B31: Tulajdonosi bevételek
A32: 5.5. | B32: Ellátási díjak
A33: 5.6. | B33: Kiszámlázott általános forgalmi adó
A34: 5.7. | B34: Általános forgalmi adó visszatérítése | D34: 415 | E34: 415 | F34: 415 | G34: 415
A35: 5.8. | B35: Kamatbevételek
A36: 5.9. | B36: Egyéb pénzügyi műveletek bevételei
A37: 5.10. | B37: Egyéb működési bevételek | C37: 12930000
A38: 6. | B38: Felhalmozási bevételek (6.1.+…+6.5.) | C38: =SUM(C39:C43) -> 0 | D38: =SUM(D39:D43) -> 0 | E38: =SUM(E39:E43) -> 0 | F38: =SUM(F39:F43) -> 0 | G38: =SUM(G39:G43) -> 0
A39: 6.1. | B39: Immateriális javak értékesítése
A40: 6.2. | B40: Ingatlanok értékesítése
A41: 6.3. | B41: Egyéb tárgyi eszközök értékesítése
A42: 6.4. | B42: Részesedések értékesítése
A43: 6.5. | B43: Részesedések megszűnéséhez kapcsolódó bevételek
A44: 7. | B44: Működési célú átvett pénzeszközök (7.1. + … + 7.3.) | C44: =SUM(C45:C47) -> 0 | D44: =SUM(D45:D47) -> 0 | E44: =SUM(E45:E47) -> 0 | F44: =SUM(F45:F47) -> 0 | G44: =SUM(G45:G47) -> 0
A45: 7.1. | B45: Működési célú garancia- és kezességvállalásból megtérülések ÁH-n kívülről
A46: 7.2. | B46: Működési célú visszatérítendő támogatások, kölcsönök visszatér. ÁH-n kívülről
A47: 7.3. | B47: Egyéb működési célú átvett pénzeszköz
A48: 7.4. | B48: 7.3.-ból EU-s támogatás (közvetlen)
A49: 8. | B49: Felhalmozási célú átvett pénzeszközök (8.1.+8.2.+8.3.) | C49: =SUM(C50:C52) -> 0 | D49: =SUM(D50:D52) -> 0 | E49: =SUM(E50:E52) -> 0 | F49: =SUM(F50:F52) -> 0 | G49: =SUM(G50:G52) -> 0
A50: 8.1. | B50: Felhalm. célú garancia- és kezességvállalásból megtérülések ÁH-n kívülről
A51: 8.2. | B51: Felhalm. célú visszatérítendő támogatások, kölcsönök visszatér. ÁH-n kívülről
A52: 8.3. | B52: Egyéb felhalmozási célú átvett pénzeszköz
A53: 8.4. | B53: 8.3.-ból EU-s támogatás (közvetlen)
A54: 9. | B54: KÖLTSÉGVETÉSI BEVÉTELEK ÖSSZESEN: (1+…+8) | C54: =+C5+C6+C13+C20+C27+C38+C44+C49 -> 47874340 | D54: =+D5+D6+D13+D20+D27+D38+D44+D49 -> #REF! | E54: =+E5+E6+E13+E20+E27+E38+E44+E49 -> #REF! | F54: =+F5+F6+F13+F20+F27+F38+F44+F49 -> #REF! | G54: =+G5+G6+G13+G20+G27+G38+G44+G49 -> #REF!
A55: 10. | B55: Hitel-, kölcsönfelvétel államháztartáson kívülről (10.1.+10.3.) | C55: =SUM(C56:C58) -> 0 | D55: =SUM(D56:D58) -> 0 | E55: =SUM(E56:E58) -> 0 | F55: =SUM(F56:F58) -> 0 | G55: =SUM(G56:G58) -> 0
A56: 10.1. | B56: Hosszú lejáratú hitelek, kölcsönök felvétele
A57: 10.2. | B57: Likviditási célú hitelek, kölcsönök felvétele pénzügyi vállalkozástól
A58: 10.3. | B58: Rövid lejáratú hitelek, kölcsönök felvétele
A59: 11. | B59: Belföldi értékpapírok bevételei (11.1. +…+ 11.4.) | C59: =SUM(C60:C63) -> 0 | D59: =SUM(D60:D63) -> 0 | E59: =SUM(E60:E63) -> 0 | F59: =SUM(F60:F63) -> 0 | G59: =SUM(G60:G63) -> 0
A60: 11.1. | B60: Forgatási célú belföldi értékpapírok beváltása, értékesítése
A61: 11.2. | B61: Forgatási célú belföldi értékpapírok kibocsátása
A62: 11.3. | B62: Befektetési célú belföldi értékpapírok beváltása, értékesítése
A63: 11.4. | B63: Befektetési célú belföldi értékpapírok kibocsátása
A64: 12. | B64: Maradvány igénybevétele (12.1. + 12.2.) | C64: =SUM(C65:C66) -> 8041660 | D64: =SUM(D65:D66) -> 0 | E64: =SUM(E65:E66) -> 0 | F64: =SUM(F65:F66) -> 0 | G64: =SUM(G65:G66) -> 0
A65: 12.1. | B65: Előző év költségvetési maradványának igénybevétele | C65: 8041660
A66: 12.2. | B66: Előző év vállalkozási maradványának igénybevétele
A67: 13. | B67: Belföldi finanszírozás bevételei (13.1. + … + 13.3.) | C67: =SUM(C68:C70) -> 0 | D67: =SUM(D68:D70) -> 0 | E67: =SUM(E68:E70) -> 0 | F67: =SUM(F68:F70) -> 0 | G67: =SUM(G68:G70) -> 0
A68: 13.1. | B68: Államháztartáson belüli megelőlegezések
A69: 13.2. | B69: Államháztartáson belüli megelőlegezések törlesztése
A70: 13.3. | B70: Betétek megszüntetése
A71: 14. | B71: Külföldi finanszírozás bevételei (14.1.+…14.4.) | C71: =SUM(C72:C75) -> 0 | D71: =SUM(D72:D75) -> 0 | E71: =SUM(E72:E75) -> 0 | F71: =SUM(F72:F75) -> 0 | G71: =SUM(G72:G75) -> 0
A72: 14.1. | B72: Forgatási célú külföldi értékpapírok beváltása, értékesítése
A73: 14.2. | B73: Befektetési célú külföldi értékpapírok beváltása, értékesítése
A74: 14.3. | B74: Külföldi értékpapírok kibocsátása
A75: 14.4. | B75: Külföldi hitelek, kölcsönök felvétele
A76: 15. | B76: Adóssághoz nem kapcsolódó származékos ügyletek bevételei
A77: 16. | B77: FINANSZÍROZÁSI BEVÉTELEK ÖSSZESEN: (10. + … +15.) | C77: =+C55+C59+C64+C67+C71+C76 -> 8041660 | D77: =+D55+D59+D64+D67+D71+D76 -> 0 | E77: =+E55+E59+E64+E67+E71+E76 -> 0 | F77: =+F55+F59+F64+F67+F71+F76 -> 0 | G77: =+G55+G59+G64+G67+G71+G76 -> 0
A78: 17. | B78: KÖLTSÉGVETÉSI ÉS FINANSZÍROZÁSI BEVÉTELEK ÖSSZESEN: (9+16) | C78: =+C54+C77 -> 55916000 | D78: =+D54+D77 -> #REF! | E78: =+E54+E77 -> #REF! | F78: =+F54+F77 -> #REF! | G78: =+G54+G77 -> #REF!
A80: K I A D Á S O K
A81: 2. sz. táblázat | C81: Forintban | D81: Ezer forintban | E81: Ezer forintban | F81: Ezer forintban | G81: Ezer forintban
A82: Sor- szám | B82: Kiadási jogcímek | C82: 2018. évi előirányzat | D82: Javasolt módosítás | E82: Módosított előirányzat | F82: Társulási Tanács által javasolt módosítás | G82: Módosított előirányzat
A83: 1 | B83: 2 | C83: 3 | D83: 3 | E83: 3 | F83: 3 | G83: 3
A84: 1. | B84: Működési költségvetés kiadásai (1.1+…+1.5.) | C84: =SUM(C85:C89) -> 48061000 | D84: =SUM(D85:D89) -> 15361 | E84: =SUM(E85:E89) -> 15361 | F84: =SUM(F85:F89) -> 15361 | G84: =SUM(G85:G89) -> 15361
A85: 1.1. | B85: Személyi juttatások | C85: 25855000 | D85: 9288 | E85: 9288 | F85: 9288 | G85: 9288
A86: 1.2. | B86: Munkaadókat terhelő járulékok és szociális hozzájárulási adó | C86: 5558000 | D86: 1990 | E86: 1990 | F86: 1990 | G86: 1990
A87: 1.3. | B87: Dologi kiadások | C87: 9482000 | D87: 4083 | E87: 4083 | F87: 4083 | G87: 4083
A88: 1.4. | B88: Ellátottak pénzbeli juttatásai | C88: 0
A89: 1.5 | B89: Egyéb működési célú kiadások | C89: 7166000
A90: 2. | B90: Felhalmozási költségvetés kiadásai (2.1.+2.3.+2.5.) | C90: =+C91+C93+C95 -> 55000 | D90: =+D91+D93+D95 -> 43 | E90: =+E91+E93+E95 -> 43 | F90: =+F91+F93+F95 -> 43 | G90: =+G91+G93+G95 -> 43
A91: 2.1. | B91: Beruházások | C91: 55000 | D91: 43 | E91: 43 | F91: 43 | G91: 43
A92: 2.2. | B92: 2.1.-ből EU-s forrásból megvalósuló beruházás
A93: 2.3. | B93: Felújítások
A94: 2.4. | B94: 2.3.-ból EU-s forrásból megvalósuló felújítás
A95: 2.5. | B95: Egyéb felhalmozási kiadások
A96: 3. | B96: Tartalékok (3.1.+3.2.) | C96: =+C97+C98 -> 7800000 | D96: =+D97+D98 -> 0 | E96: =+E97+E98 -> 0 | F96: =+F97+F98 -> 0 | G96: =+G97+G98 -> 0
A97: 3.1. | B97: Általános tartalék
A98: 3.2. | B98: Céltartalék | C98: 7800000
A99: 4. | B99: KÖLTSÉGVETÉSI KIADÁSOK ÖSSZESEN (1+2+3) | C99: =+C84+C90+C96 -> 55916000 | D99: =+D84+D90+D96 -> 15404 | E99: =+E84+E90+E96 -> 15404 | F99: =+F84+F90+F96 -> 15404 | G99: =+G84+G90+G96 -> 15404
A100: 5. | B100: Hitel-, kölcsöntörlesztés államháztartáson kívülre (5.1. + … + 5.3.) | C100: =+C101+C102+C103 -> 0 | D100: =+D101+D102+D103 -> 0 | E100: =+E101+E102+E103 -> 0 | F100: =+F101+F102+F103 -> 0 | G100: =+G101+G102+G103 -> 0
A101: 5.1. | B101: Hosszú lejáratú hitelek, kölcsönök törlesztése
...

Sheet 1.4.sz.mell.
A1: B E V É T E L E K
A2: 1. sz. táblázat | C2: Forintban | D2: Ezer forintban | E2: Ezer forintban | F2: Ezer forintban | G2: Ezer forintban
A3: Sor- szám | B3: Bevételi jogcím | C3: 2018. évi előirányzat | D3: Javasolt módosítás | E3: Módosított előirányzat | F3: Társulási Tanács által javasolt módosítás | G3: Módosított előirányzat
A4: 1 | B4: 2 | C4: 3 | D4: 3 | E4: 3 | F4: 3 | G4: 3
A5: 1. | B5: Társulás működési támogatásai | D5: =+#REF!+#REF!+#REF!+#REF!+#REF!+#REF! -> #REF! | E5: =+#REF!+#REF!+#REF!+#REF!+#REF!+#REF! -> #REF! | F5: =+#REF!+#REF!+#REF!+#REF!+#REF!+#REF! -> #REF! | G5: =+#REF!+#REF!+#REF!+#REF!+#REF!+#REF! -> #REF!
A6: 2. | B6: Működési célú támogatások államháztartáson belülről (2.1.+…+.2.5.) | C6: =+C7+C8+C9+C10+C11 -> 0 | D6: =+D7+D8+D9+D10+D11 -> 0 | E6: =+E7+E8+E9+E10+E11 -> 0 | F6: =+F7+F8+F9+F10+F11 -> 0 | G6: =+G7+G8+G9+G10+G11 -> 0
A7: 2.1. | B7: Elvonások és befizetések bevételei
A8: 2.2. | B8: Működési célú garancia- és kezességvállalásból megtérülések
A9: 2.3. | B9: Működési célú visszatérítendő támogatások, kölcsönök visszatérülése
A10: 2.4. | B10: Működési célú visszatérítendő támogatások, kölcsönök igénybevétele
A11: 2.5. | B11: Egyéb működési célú támogatások bevételei
A12: 2.6. | B12: 2.5.-ből EU-s támogatás
A13: 3. | B13: Felhalmozási célú támogatások államháztartáson belülről (3.1.+…+3.5.) | C13: =+C14+C15+C16+C17+C18 -> 0 | D13: =+D14+D15+D16+D17+D18 -> 0 | E13: =+E14+E15+E16+E17+E18 -> 0 | F13: =+F14+F15+F16+F17+F18 -> 0 | G13: =+G14+G15+G16+G17+G18 -> 0
A14: 3.1. | B14: Felhalmozási célú önkormányzati támogatások
A15: 3.2. | B15: Felhalmozási célú garancia- és kezességvállalásból megtérülések
A16: 3.3. | B16: Felhalmozási célú visszatérítendő támogatások, kölcsönök visszatérülése
A17: 3.4. | B17: Felhalmozási célú visszatérítendő támogatások, kölcsönök igénybevétele
A18: 3.5. | B18: Egyéb felhalmozási célú támogatások bevételei
A19: 3.6. | B19: 3.5.-ből EU-s támogatás
A20: 4. | B20: Közhatalmi bevételek | C20: =+C21+C24+C25+C26 -> 0 | D20: =+D21+D24+D25+D26 -> 0 | E20: =+E21+E24+E25+E26 -> 0 | F20: =+F21+F24+F25+F26 -> 0 | G20: =+G21+G24+G25+G26 -> 0
A21: 4.1. | B21: Helyi adók (4.1.1.+4.1.2.) | C21: =+C22+C23 -> 0 | D21: =+D22+D23 -> 0 | E21: =+E22+E23 -> 0 | F21: =+F22+F23 -> 0 | G21: =+G22+G23 -> 0
A22: 4.1.1. | B22: - Vagyoni típusú adók
A23: 4.1.2. | B23: - Termékek és szolgáltatások adói
A24: 4.2. | B24: Gépjárműadó
A25: 4.3. | B25: Egyéb áruhasználati és szolgáltatási adók
A26: 4.4. | B26: Egyéb közhatalmi bevételek
A27: 5. | B27: Működési bevételek (5.1.+…+ 5.10.) | C27: =SUM(C28:C37) -> 0 | D27: =SUM(D28:D37) -> 0 | E27: =SUM(E28:E37) -> 0 | F27: =SUM(F28:F37) -> 0 | G27: =SUM(G28:G37) -> 0
A28: 5.1. | B28: Készletértékesítés ellenértéke
A29: 5.2. | B29: Szolgáltatások ellenértéke
A30: 5.3. | B30: Közvetített szolgáltatások értéke
A31: 5.4. | B31: Tulajdonosi bevételek
A32: 5.5. | B32: Ellátási díjak
A33: 5.6. | B33: Kiszámlázott általános forgalmi adó
A34: 5.7. | B34: Általános forgalmi adó visszatérítése
A35: 5.8. | B35: Kamatbevételek
A36: 5.9. | B36: Egyéb pénzügyi műveletek bevételei
A37: 5.10. | B37: Egyéb működési bevételek
A38: 6. | B38: Felhalmozási bevételek (6.1.+…+6.5.) | C38: =SUM(C39:C43) -> 0 | D38: =SUM(D39:D43) -> 0 | E38: =SUM(E39:E43) -> 0 | F38: =SUM(F39:F43) -> 0 | G38: =SUM(G39:G43) -> 0
A39: 6.1. | B39: Immateriális javak értékesítése
A40: 6.2. | B40: Ingatlanok értékesítése
A41: 6.3. | B41: Egyéb tárgyi eszközök értékesítése
A42: 6.4. | B42: Részesedések értékesítése
A43: 6.5. | B43: Részesedések megszűnéséhez kapcsolódó bevételek
A44: 7. | B44: Működési célú átvett pénzeszközök (7.1. + … + 7.3.) | C44: =SUM(C45:C47) -> 0 | D44: =SUM(D45:D47) -> 0 | E44: =SUM(E45:E47) -> 0 | F44: =SUM(F45:F47) -> 0 | G44: =SUM(G45:G47) -> 0
A45: 7.1. | B45: Működési célú garancia- és kezességvállalásból megtérülések ÁH-n kívülről
A46: 7.2. | B46: Működési célú visszatérítendő támogatások, kölcsönök visszatér. ÁH-n kívülről
A47: 7.3. | B47: Egyéb működési célú átvett pénzeszköz
A48: 7.4. | B48: 7.3.-ból EU-s támogatás (közvetlen)
A49: 8. | B49: Felhalmozási célú átvett pénzeszközök (8.1.+8.2.+8.3.) | C49: =SUM(C50:C52) -> 0 | D49: =SUM(D50:D52) -> 0 | E49: =SUM(E50:E52) -> 0 | F49: =SUM(F50:F52) -> 0 | G49: =SUM(G50:G52) -> 0
A50: 8.1. | B50: Felhalm. célú garancia- és kezességvállalásból megtérülések ÁH-n kívülről
A51: 8.2. | B51: Felhalm. célú visszatérítendő támogatások, kölcsönök visszatér. ÁH-n kívülről
A52: 8.3. | B52: Egyéb felhalmozási célú átvett pénzeszköz
A53: 8.4. | B53: 8.3.-ból EU-s támogatás (közvetlen)
A54: 9. | B54: KÖLTSÉGVETÉSI BEVÉTELEK ÖSSZESEN: (1+…+8) | C54: =+C5+C6+C13+C20+C27+C38+C44+C49 -> 0 | D54: =+D5+D6+D13+D20+D27+D38+D44+D49 -> #REF! | E54: =+E5+E6+E13+E20+E27+E38+E44+E49 -> #REF! | F54: =+F5+F6+F13+F20+F27+F38+F44+F49 -> #REF! | G54: =+G5+G6+G13+G20+G27+G38+G44+G49 -> #REF!
A55: 10. | B55: Hitel-, kölcsönfelvétel államháztartáson kívülről (10.1.+10.3.) | C55: =SUM(C56:C58) -> 0 | D55: =SUM(D56:D58) -> 0 | E55: =SUM(E56:E58) -> 0 | F55: =SUM(F56:F58) -> 0 | G55: =SUM(G56:G58) -> 0
A56: 10.1. | B56: Hosszú lejáratú hitelek, kölcsönök felvétele
A57: 10.2. | B57: Likviditási célú hitelek, kölcsönök felvétele pénzügyi vállalkozástól
A58: 10.3. | B58: Rövid lejáratú hitelek, kölcsönök felvétele
A59: 11. | B59: Belföldi értékpapírok bevételei (11.1. +…+ 11.4.) | C59: =SUM(C60:C63) -> 0 | D59: =SUM(D60:D63) -> 0 | E59: =SUM(E60:E63) -> 0 | F59: =SUM(F60:F63) -> 0 | G59: =SUM(G60:G63) -> 0
A60: 11.1. | B60: Forgatási célú belföldi értékpapírok beváltása, értékesítése
A61: 11.2. | B61: Forgatási célú belföldi értékpapírok kibocsátása
A62: 11.3. | B62: Befektetési célú belföldi értékpapírok beváltása, értékesítése
A63: 11.4. | B63: Befektetési célú belföldi értékpapírok kibocsátása
A64: 12. | B64: Maradvány igénybevétele (12.1. + 12.2.) | C64: =SUM(C65:C66) -> 0 | D64: =SUM(D65:D66) -> 0 | E64: =SUM(E65:E66) -> 0 | F64: =SUM(F65:F66) -> 0 | G64: =SUM(G65:G66) -> 0
A65: 12.1. | B65: Előző év költségvetési maradványának igénybevétele
A66: 12.2. | B66: Előző év vállalkozási maradványának igénybevétele
A67: 13. | B67: Belföldi finanszírozás bevételei (13.1. + … + 13.3.) | C67: =SUM(C68:C70) -> 0 | D67: =SUM(D68:D70) -> 0 | E67: =SUM(E68:E70) -> 0 | F67: =SUM(F68:F70) -> 0 | G67: =SUM(G68:G70) -> 0
A68: 13.1. | B68: Államháztartáson belüli megelőlegezések
A69: 13.2. | B69: Államháztartáson belüli megelőlegezések törlesztése
A70: 13.3. | B70: Betétek megszüntetése
A71: 14. | B71: Külföldi finanszírozás bevételei (14.1.+…14.4.) | C71: =SUM(C72:C75) -> 0 | D71: =SUM(D72:D75) -> 0 | E71: =SUM(E72:E75) -> 0 | F71: =SUM(F72:F75) -> 0 | G71: =SUM(G72:G75) -> 0
A72: 14.1. | B72: Forgatási célú külföldi értékpapírok beváltása, értékesítése
A73: 14.2. | B73: Befektetési célú külföldi értékpapírok beváltása, értékesítése
A74: 14.3. | B74: Külföldi értékpapírok kibocsátása
A75: 14.4. | B75: Külföldi hitelek, kölcsönök felvétele
A76: 15. | B76: Adóssághoz nem kapcsolódó származékos ügyletek bevételei
A77: 16. | B77: FINANSZÍROZÁSI BEVÉTELEK ÖSSZESEN: (10. + … +15.) | C77: =+C55+C59+C64+C67+C71+C76 -> 0 | D77: =+D55+D59+D64+D67+D71+D76 -> 0 | E77: =+E55+E59+E64+E67+E71+E76 -> 0 | F77: =+F55+F59+F64+F67+F71+F76 -> 0 | G77: =+G55+G59+G64+G67+G71+G76 -> 0
A78: 17. | B78: KÖLTSÉGVETÉSI ÉS FINANSZÍROZÁSI BEVÉTELEK ÖSSZESEN: (9+16) | C78: =+C54+C77 -> 0 | D78: =+D54+D77 -> #REF! | E78: =+E54+E77 -> #REF! | F78: =+F54+F77 -> #REF! | G78: =+G54+G77 -> #REF!
A80: K I A D Á S O K
A81: 2. sz. táblázat | C81: Forintban | D81: Ezer forintban | E81: Ezer forintban | F81: Ezer forintban | G81: Ezer forintban
A82: Sor- szám | B82: Kiadási jogcímek | C82: 2018. évi előirányzat | D82: Javasolt módosítás | E82: Módosított előirányzat | F82: Társulási Tanács által javasolt módosítás | G82: Módosított előirányzat
A83: 1 | B83: 2 | C83: 3 | D83: 3 | E83: 3 | F83: 3 | G83: 3
A84: 1. | B84: Működési költségvetés kiadásai (1.1+…+1.5.) | C84: =SUM(C85:C89) -> 0 | D84: =SUM(D85:D89) -> 0 | E84: =SUM(E85:E89) -> 0 | F84: =SUM(F85:F89) -> 0 | G84: =SUM(G85:G89) -> 0
A85: 1.1. | B85: Személyi juttatások
A86: 1.2. | B86: Munkaadókat terhelő járulékok és szociális hozzájárulási adó
A87: 1.3. | B87: Dologi kiadások
A88: 1.4. | B88: Ellátottak pénzbeli juttatásai
A89: 1.5 | B89: Egyéb működési célú kiadások
A90: 2. | B90: Felhalmozási költségvetés kiadásai (2.1.+2.3.+2.5.) | C90: =+C91+C93+C95 -> 0 | D90: =+D91+D93+D95 -> 0 | E90: =+E91+E93+E95 -> 0 | F90: =+F91+F93+F95 -> 0 | G90: =+G91+G93+G95 -> 0
A91: 2.1. | B91: Beruházások
A92: 2.2. | B92: 2.1.-ből EU-s forrásból megvalósuló beruházás
A93: 2.3. | B93: Felújítások
A94: 2.4. | B94: 2.3.-ból EU-s forrásból megvalósuló felújítás
A95: 2.5. | B95: Egyéb felhalmozási kiadások
A96: 3. | B96: Tartalékok (3.1.+3.2.) | C96: =+C97+C98 -> 0 | D96: =+D97+D98 -> 0 | E96: =+E97+E98 -> 0 | F96: =+F97+F98 -> 0 | G96: =+G97+G98 -> 0
A97: 3.1. | B97: Általános tartalék
A98: 3.2. | B98: Céltartalék
A99: 4. | B99: KÖLTSÉGVETÉSI KIADÁSOK ÖSSZESEN (1+2+3) | C99: =+C84+C90+C96 -> 0 | D99: =+D84+D90+D96 -> 0 | E99: =+E84+E90+E96 -> 0 | F99: =+F84+F90+F96 -> 0 | G99: =+G84+G90+G96 -> 0
A100: 5. | B100: Hitel-, kölcsöntörlesztés államháztartáson kívülre (5.1. + … + 5.3.) | C100: =+C101+C102+C103 -> 0 | D100: =+D101+D102+D103 -> 0 | E100: =+E101+E102+E103 -> 0 | F100: =+F101+F102+F103 -> 0 | G100: =+G101+G102+G103 -> 0
A101: 5.1. | B101: Hosszú lejáratú hitelek, kölcsönök törlesztése
...

Sheet 2.sz.mell  
B1: I. Működési célú bevételek és kiadások mérlege (Társulási szinten)
I2: Forintban | J2: Ezer forintban ! | K2: Ezer forintban ! | L2: Ezer forintban ! | M2: Ezer forintban !
A3: Sor- szám | B3: Bevételek | H3: Kiadások
B4: Megnevezés | C4: 2018. évi előirányzat | D4: Javasolt módosítás | E4: Módosított előirányzat | F4: Társulási Tanács által javasolt módosítás | G4: Módosított előirányzat | H4: Megnevezés | I4: 2018. évi előirányzat | J4: Javasolt módosítás | K4: Módosított előirányzat | L4: Társulási Tanács által javasolt módosítás | M4: Módosított előirányzat
A5: 1 | B5: 2 | C5: 3. | D5: 3. | E5: 3. | F5: 3. | G5: 3. | H5: 4. | I5: 5. | J5: 5. | K5: 5. | L5: 5. | M5: 5.
A6: 1. | B6: Önkormányzatok működési támogatásai | C6: ='1.1.sz.mell.'!C5 -> 0 | D6: ='1.1.sz.mell.'!D5 -> #REF! | E6: ='1.1.sz.mell.'!E5 -> #REF! | F6: ='1.1.sz.mell.'!F5 -> #REF! | G6: ='1.1.sz.mell.'!G5 -> #REF! | H6: Személyi juttatások | I6: ='1.1.sz.mell.'!C85 -> 141314000 | J6: ='1.1.sz.mell.'!D85 -> 0 | K6: ='1.1.sz.mell.'!E85 -> 0 | L6: ='1.1.sz.mell.'!F85 -> 0 | M6: ='1.1.sz.mell.'!G85 -> 0
A7: 2. | B7: Működési célú támogatások államháztartáson belülről | C7: ='1.1.sz.mell.'!C6 -> 129997340 | D7: ='1.1.sz.mell.'!D6 -> 0 | E7: ='1.1.sz.mell.'!E6 -> 0 | F7: ='1.1.sz.mell.'!F6 -> 0 | G7: ='1.1.sz.mell.'!G6 -> 0 | H7: Munkaadókat terhelő járulékok és szociális hozzájárulási adó | I7: ='1.1.sz.mell.'!C86 -> 31739000 | J7: ='1.1.sz.mell.'!D86 -> 0 | K7: ='1.1.sz.mell.'!E86 -> 0 | L7: ='1.1.sz.mell.'!F86 -> 0 | M7: ='1.1.sz.mell.'!G86 -> 0
A8: 3. | B8: 2.-ból EU-s támogatás | H8: Dologi kiadások | I8: ='1.1.sz.mell.'!C87 -> 59658000 | J8: ='1.1.sz.mell.'!D87 -> 0 | K8: ='1.1.sz.mell.'!E87 -> 0 | L8: ='1.1.sz.mell.'!F87 -> 0 | M8: ='1.1.sz.mell.'!G87 -> 0
A9: 4. | B9: Közhatalmi bevételek | C9: ='1.1.sz.mell.'!C20 -> 0 | D9: ='1.1.sz.mell.'!D20 -> 0 | E9: ='1.1.sz.mell.'!E20 -> 0 | F9: ='1.1.sz.mell.'!F20 -> 0 | G9: ='1.1.sz.mell.'!G20 -> 0 | H9: Ellátottak pénzbeli juttatásai | I9: ='1.1.sz.mell.'!C88 -> 0 | J9: ='1.1.sz.mell.'!D88 -> 0 | K9: ='1.1.sz.mell.'!E88 -> 0 | L9: ='1.1.sz.mell.'!F88 -> 0 | M9: ='1.1.sz.mell.'!G88 -> 0
A10: 5. | B10: Működési célú átvett pénzeszközök | C10: ='1.1.sz.mell.'!C44 -> 0 | D10: ='1.1.sz.mell.'!D44 -> 0 | E10: ='1.1.sz.mell.'!E44 -> 0 | F10: ='1.1.sz.mell.'!F44 -> 0 | G10: ='1.1.sz.mell.'!G44 -> 0 | H10: Egyéb működési célú kiadások | I10: ='1.1.sz.mell.'!C89 -> 8033722 | J10: ='1.1.sz.mell.'!D89 -> 0 | K10: ='1.1.sz.mell.'!E89 -> 0 | L10: ='1.1.sz.mell.'!F89 -> 0 | M10: ='1.1.sz.mell.'!G89 -> 0
A11: 6. | B11: 4.-ből EU-s támogatás | H11: Tartalékok | I11: ='1.1.sz.mell.'!C96 -> 8168364
A12: 7. | B12: Egyéb működési bevételek | C12: ='1.1.sz.mell.'!C27 -> 96580000 | D12: ='1.1.sz.mell.'!D27 -> 0 | E12: ='1.1.sz.mell.'!E27 -> 0 | F12: ='1.1.sz.mell.'!F27 -> 0 | G12: ='1.1.sz.mell.'!G27 -> 0
A13: 8.
A14: 9.
A15: 10.
A16: 11.
A17: 12.
A18: 13. | B18: Költségvetési bevételek összesen (1.+2.+4.+5.+7.+…+12.) | C18: =+C6+C7+C9+C10+C12+C13+C14+C15+C16+C17 -> 226577340 | D18: =+D6+D7+D9+D10+D12+D13+D14+D15+D16+D17 -> #REF! | E18: =+E6+E7+E9+E10+E12+E13+E14+E15+E16+E17 -> #REF! | F18: =+F6+F7+F9+F10+F12+F13+F14+F15+F16+F17 -> #REF! | G18: =+G6+G7+G9+G10+G12+G13+G14+G15+G16+G17 -> #REF! | H18: Költségvetési kiadások összesen (1.+...+12.) | I18: =SUM(I6:I17) -> 248913086 | J18: =SUM(J6:J17) -> 0 | K18: =SUM(K6:K17) -> 0 | L18: =SUM(L6:L17) -> 0 | M18: =SUM(M6:M17) -> 0
A19: 14. | B19: Hiány belső finanszírozásának bevételei (15.+…+18. ) | C19: =+C20+C21+C22+C23 -> 22335746 | D19: =+D20+D21+D22+D23 -> 2001 | E19: =+E20+E21+E22+E23 -> 2001 | F19: =+F20+F21+F22+F23 -> 2001 | G19: =+G20+G21+G22+G23 -> 2001 | H19: Értékpapír vásárlása, visszavásárlása
A20: 15. | B20: Költségvetési maradvány igénybevétele | C20: 22335746 | D20: 2001 | E20: 2001 | F20: 2001 | G20: 2001 | H20: Likviditási célú hitelek törlesztése
A21: 16. | B21: Vállalkozási maradvány igénybevétele | H21: Rövid lejáratú hitelek törlesztése
A22: 17. | B22: Betét visszavonásából származó bevétel | H22: Hosszú lejáratú hitelek törlesztése
A23: 18. | B23: Egyéb belső finanszírozási bevételek | H23: Kölcsön törlesztése
A24: 19. | B24: Hiány külső finanszírozásának bevételei (20.+…+21.) | C24: =+C25+C26 -> 0 | D24: =+D25+D26 -> 0 | E24: =+E25+E26 -> 0 | F24: =+F25+F26 -> 0 | G24: =+G25+G26 -> 0 | H24: Forgatási célú belföldi, külföldi értékpapírok vásárlása
A25: 20. | B25: Likviditási célú hitelek, kölcsönök felvétele | H25: Betét elhelyezése
A26: 21. | B26: Értékpapírok bevételei
A27: 22. | B27: Működési célú finanszírozási bevételek összesen (14.+19.) | C27: =+C19+C24 -> 22335746 | D27: =+D19+D24 -> 2001 | E27: =+E19+E24 -> 2001 | F27: =+F19+F24 -> 2001 | G27: =+G19+G24 -> 2001 | H27: Működési célú finanszírozási kiadások összesen (14.+...+21.) | I27: =SUM(I19:I26) -> 0 | J27: =SUM(J19:J26) -> 0 | K27: =SUM(K19:K26) -> 0 | L27: =SUM(L19:L26) -> 0 | M27: =SUM(M19:M26) -> 0
A28: 23. | B28: BEVÉTEL ÖSSZESEN (13.+22.) | C28: =+C18+C27 -> 248913086 | D28: =+D18+D27 -> #REF! | E28: =+E18+E27 -> #REF! | F28: =+F18+F27 -> #REF! | G28: =+G18+G27 -> #REF! | H28: KIADÁSOK ÖSSZESEN (13.+22.) | I28: =+I18+I27 -> 248913086 | J28: =+J18+J27 -> 0 | K28: =+K18+K27 -> 0 | L28: =+L18+L27 -> 0 | M28: =+M18+M27 -> 0
A29: 24. | B29: Költségvetési hiány: | C29: =IF(C18-I18<0,I18-C18,"-") -> 22335746 | D29: =IF(D18-N18<0,N18-D18,"-") -> #REF! | E29: =IF(E18-O18<0,O18-E18,"-") -> #REF! | F29: =IF(F18-P18<0,P18-F18,"-") -> #REF! | G29: =IF(G18-Q18<0,Q18-G18,"-") -> #REF! | H29: Költségvetési többlet: | I29: =IF(C18-I18>0,C18-I18,"-") -> - | J29: =IF(D18-J18>0,D18-J18,"-") -> #REF! | K29: =IF(E18-K18>0,E18-K18,"-") -> #REF! | L29: =IF(F18-L18>0,F18-L18,"-") -> #REF! | M29: =IF(G18-M18>0,G18-M18,"-") -> #REF!
A30: 25. | B30: Tárgyévi hiány: | C30: =IF(C18+C19-I28<0,I28-(C18+C19),"-") -> - | D30: =IF(D18+D19-N28<0,N28-(D18+D19),"-") -> #REF! | E30: =IF(E18+E19-O28<0,O28-(E18+E19),"-") -> #REF! | F30: =IF(F18+F19-P28<0,P28-(F18+F19),"-") -> #REF! | G30: =IF(G18+G19-Q28<0,Q28-(G18+G19),"-") -> #REF! | H30: Tárgyévi többlet: | I30: =IF(C18+C19-I28>0,C18+C19-I28,"-") -> - | J30: =IF(D18+D19-J28>0,D18+D19-J28,"-") -> #REF! | K30: =IF(E18+E19-K28>0,E18+E19-K28,"-") -> #REF! | L30: =IF(F18+F19-L28>0,F18+F19-L28,"-") -> #REF! | M30: =IF(G18+G19-M28>0,G18+G19-M28,"-") -> #REF!
B32: II. Felhalmozási célú bevételek és kiadások mérlege (Társulási szinten)
I33: Forintban | J33: Ezer forintban ! | K33: Ezer forintban ! | L33: Ezer forintban ! | M33: Ezer forintban !
A34: Sor- szám | B34: Bevételek | H34: Kiadások
B35: Megnevezés | C35: 2018. évi előirányzat | D35: Javasolt módosítás | E35: Módosított előirányzat | F35: Társulási Tanács által javasolt módosítás | G35: Módosított előirányzat | H35: Megnevezés | I35: 2018. évi előirányzat | J35: Javasolt módosítás | K35: Módosított előirányzat | L35: Társulási Tanács által javasolt módosítás | M35: Módosított előirányzat
A36: 1 | B36: 2 | C36: 3 | D36: 3 | E36: 3 | F36: 3 | G36: 3 | H36: 4 | I36: 5 | J36: 5 | K36: 5 | L36: 5 | M36: 5
A37: 1. | B37: Felhalmozási célú támogatások államháztartáson belülről | C37: ='1.1.sz.mell.'!C13 -> 0 | D37: ='1.1.sz.mell.'!D13 -> 0 | E37: ='1.1.sz.mell.'!E13 -> 0 | F37: ='1.1.sz.mell.'!F13 -> 0 | G37: ='1.1.sz.mell.'!G13 -> 0 | H37: Beruházások | I37: ='1.1.sz.mell.'!C91 -> 1805000 | J37: ='1.1.sz.mell.'!D91 -> 0 | K37: ='1.1.sz.mell.'!E91 -> 0 | L37: ='1.1.sz.mell.'!F91 -> 0 | M37: ='1.1.sz.mell.'!G91 -> 0
A38: 2. | B38: 1.-ből EU-s támogatás | H38: 1.-ből EU-s forrásból megvalósuló beruházás
A39: 3. | B39: Felhalmozási bevételek | C39: ='1.1.sz.mell.'!C38 -> 0 | D39: ='1.1.sz.mell.'!D38 -> 0 | E39: ='1.1.sz.mell.'!E38 -> 0 | F39: ='1.1.sz.mell.'!F38 -> 0 | G39: ='1.1.sz.mell.'!G38 -> 0 | H39: Felújítások
A40: 4. | B40: Felhalmozási célú átvett pénzeszközök átvétele | H40: 3.-ból EU-s forrásból megvalósuló felújítás
A41: 5. | B41: 4.-ből EU-s támogatás (közvetlen) | H41: Egyéb felhalmozási kiadások | I41: ='1.1.sz.mell.'!C95 -> 0 | J41: ='1.1.sz.mell.'!D95 -> 0 | K41: ='1.1.sz.mell.'!E95 -> 0 | L41: ='1.1.sz.mell.'!F95 -> 0 | M41: ='1.1.sz.mell.'!G95 -> 0
A42: 6. | B42: Egyéb felhalmozási célú bevételek
A43: 7.
A44: 8.
A45: 9.
A46: 10.
A47: 11. | H47: Tartalékok
A48: 12. | B48: Költségvetési bevételek összesen: (1.+3.+4.+6.+…+11.) | C48: =+C37+C39+C40+C42+C43+C44+C45+C46+C47 -> 0 | D48: =+D37+D39+D40+D42+D43+D44+D45+D46+D47 -> 0 | E48: =+E37+E39+E40+E42+E43+E44+E45+E46+E47 -> 0 | F48: =+F37+F39+F40+F42+F43+F44+F45+F46+F47 -> 0 | G48: =+G37+G39+G40+G42+G43+G44+G45+G46+G47 -> 0 | H48: Költségvetési kiadások összesen: (1.+3.+5.+...+11.) | I48: =+I37+I39+I41+I42+I43+I44+I45+I46+I47 -> 1805000 | J48: =+J37+J39+J41+J42+J43+J44+J45+J46+J47 -> 0 | K48: =+K37+K39+K41+K42+K43+K44+K45+K46+K47 -> 0 | L48: =+L37+L39+L41+L42+L43+L44+L45+L46+L47 -> 0 | M48: =+M37+M39+M41+M42+M43+M44+M45+M46+M47 -> 0
A49: 13. | B49: Hiány belső finanszírozás bevételei ( 14+…+18) | C49: =+C50+C51+C52+C53+C54 -> 1805000 | D49: =+D50+D51+D52+D53+D54 -> 920 | E49: =+E50+E51+E52+E53+E54 -> 920 | F49: =+F50+F51+F52+F53+F54 -> 920 | G49: =+G50+G51+G52+G53+G54 -> 920 | H49: Értékpapír vásárlása, visszavásárlása
A50: 14. | B50: Költségvetési maradvány igénybevétele | C50: 1805000 | D50: 920 | E50: 920 | F50: 920 | G50: 920 | H50: Hitelek törlesztése
A51: 15. | B51: Vállalkozási maradvány igénybevétele | H51: Rövid lejáratú hitelek törlesztése
A52: 16. | B52: Betét visszavonásából származó bevétel | H52: Hosszú lejáratú hitelek törlesztése
A53: 17. | B53: Értékpapír értékesítése | H53: Kölcsön törlesztése
A54: 18. | B54: Egyéb belső finanszírozási bevételek | H54: Befektetési célú belföldi, külföldi értékpapírok vásárlása
A55: 19. | B55: Hiány külső finanszírozásának bevételei (20+…+24 ) | C55: =+C56+C57+C58+C59+C60 -> 0 | D55: =+D56+D57+D58+D59+D60 -> 0 | E55: =+E56+E57+E58+E59+E60 -> 0 | F55: =+F56+F57+F58+F59+F60 -> 0 | G55: =+G56+G57+G58+G59+G60 -> 0 | H55: Betét elhelyezése
A56: 20. | B56: Hosszú lejáratú hitelek, kölcsönök felvétele | H56: Pénzügyi lízing kiadásai
A57: 21. | B57: Likviditási célú hitelek, kölcsönök felvétele
A58: 22. | B58: Rövid lejáratú hitelek, kölcsönök felvétele
A59: 23. | B59: Értékpapírok kibocsátása
A60: 24. | B60: Egyéb külső finanszírozási bevételek
A61: 25. | B61: Felhalmozási célú finanszírozási bevételek összesen (13.+19.) | C61: =+C49+C55 -> 1805000 | D61: =+D49+D55 -> 920 | E61: =+E49+E55 -> 920 | F61: =+F49+F55 -> 920 | G61: =+G49+G55 -> 920 | H61: Felhalmozási célú finanszírozási kiadások összesen (13.+...+24.) | I61: =SUM(I49:I60) -> 0 | J61: =SUM(J49:J60) -> 0 | K61: =SUM(K49:K60) -> 0 | L61: =SUM(L49:L60) -> 0 | M61: =SUM(M49:M60) -> 0
A62: 26. | B62: BEVÉTEL ÖSSZESEN (12+25) | C62: =+C48+C61 -> 1805000 | D62: =+D48+D61 -> 920 | E62: =+E48+E61 -> 920 | F62: =+F48+F61 -> 920 | G62: =+G48+G61 -> 920 | H62: KIADÁSOK ÖSSZESEN (12+25) | I62: =+I48+I61 -> 1805000 | J62: =+J48+J61 -> 0 | K62: =+K48+K61 -> 0 | L62: =+L48+L61 -> 0 | M62: =+M48+M61 -> 0
A63: 27. | B63: Költségvetési hiány: | C63: =IF(C48-I48<0,I48-C48,"-") -> 1805000 | D63: =IF(D48-N48<0,N48-D48,"-") -> - | E63: =IF(E48-O48<0,O48-E48,"-") -> - | F63: =IF(F48-P48<0,P48-F48,"-") -> - | G63: =IF(G48-Q48<0,Q48-G48,"-") -> - | H63: Költségvetési többlet: | I63: =IF(C48-I48>0,C48-I48,"-") -> - | J63: =IF(D48-J48>0,D48-J48,"-") -> - | K63: =IF(E48-K48>0,E48-K48,"-") -> - | L63: =IF(F48-L48>0,F48-L48,"-") -> - | M63: =IF(G48-M48>0,G48-M48,"-") -> -
A64: 28. | B64: Tárgyévi hiány: | C64: =IF(C48+C49-I62<0,I62-(C48+C49),"-") -> - | D64: =IF(D48+D49-N62<0,N62-(D48+D49),"-") -> - | E64: =IF(E48+E49-O62<0,O62-(E48+E49),"-") -> - | F64: =IF(F48+F49-P62<0,P62-(F48+F49),"-") -> - | G64: =IF(G48+G49-Q62<0,Q62-(G48+G49),"-") -> - | H64: Tárgyévi többlet: | I64: =IF(C48+C49-I62>0,C48+C49-I62,"-") -> - | J64: =IF(D48+D49-J62>0,D48+D49-J62,"-") -> 920 | K64: =IF(E48+E49-K62>0,E48+E49-K62,"-") -> 920 | L64: =IF(F48+F49-L62>0,F48+F49-L62,"-") -> 920 | M64: =IF(G48+G49-M62>0,G48+G49-M62,"-") -> 920
A65: 29. | B65: BEVÉTEL MINDÖSSZESEN | C65: =SUM(C62,C28) -> 250718086 | D65: =SUM(D62,D28) -> #REF! | E65: =SUM(E62,E28) -> #REF! | F65: =SUM(F62,F28) -> #REF! | G65: =SUM(G62,G28) -> #REF! | H65: KIADÁSOK MINDÖSSZESEN | I65: =SUM(I62,I28) -> 250718086 | J65: =SUM(J62,J28) -> 0 | K65: =SUM(K62,K28) -> 0 | L65: =SUM(L62,L28) -> 0 | M65: =SUM(M62,M28) -> 0

Sheet 3.sz.mell.
R2: Forintban
A3: Száma | B3: Előirányzat-csoport, kiemelt előirányzat megnevezése | C3: Előirányzat
A4: 1 | B4: 2 | C4: Kötelező | D4: Javasolt módosítás | E4: Módosított előirányzat | F4: Társulási Tanács által javasolt módosítás | G4: Módosított előirányzat | H4: Önként vállalt | I4: Javasolt módosítás | J4: Módosított előirányzat | K4: Társulási Tanács által javasolt módosítás | L4: Módosított előirányzat | M4: Államigazgatási | N4: Javasolt módosítás | O4: Módosított előirányzat | P4: Társulási Tanács által javasolt módosítás | Q4: Módosított előirányzat | R4: Összesen
B5: Bevételek | C5: Feladat
A6: 1. | B6: Működési bevételek | C6: 35588000 | H6: 10213000 | R6: =C6+H6+M6 -> 45801000
A7: 2. | B7: Működési célú támogatások államháztartáson belülről (2.1.+…+2.3.) | C7: =SUM(C8:C10) -> 95053000 | D7: =SUM(D8:D10) -> 0 | E7: =SUM(E8:E10) -> 0 | F7: =SUM(F8:F10) -> 0 | G7: =SUM(G8:G10) -> 0 | H7: =SUM(H8:H10) -> 28056000 | I7: =SUM(I8:I10) -> 0 | J7: =SUM(J8:J10) -> 0 | ... Q7: =SUM(Q8:Q10) -> 0 | R7: =C7+H7+M7 -> 123109000
A8: 2.1. | B8: Elvonások és befizetések bevételei | R8: =C8+H8+M8 -> 0
A9: 2.2. | B9: Visszatérítendő támogatások, kölcsönök visszatérülése ÁH-n belülről | R9: =C9+H9+M9 -> 0
A10: 2.3. | B10: Egyéb működési célú támogatások bevételei államháztartáson belülről | C10: 95053000 | D10: 0 | E10: 0 | F10: 0 | G10: 0 | H10: 28056000 | R10: =C10+H10+M10 -> 123109000
A11: 2.4. | B11: - ebből EU támogatás | R11: =C11+H11+M11 -> 0
A12: 3. | B12: Közhatalmi bevételek | R12: =C12+H12+M12 -> 0
A13: 4. | B13: Felhalmozási célú támogatások államháztartáson belülről (4.1.+4.2.) | C13: =+C14+C15 -> 0 | D13: =+D14+D15 -> 0 | E13: =+E14+E15 -> 0 | F13: =+F14+F15 -> 0 | G13: =+G14+G15 -> 0 | H13: =+H14+H15 -> 0 | I13: =+I14+I15 -> 0 | J13: =+J14+J15 -> 0 | ... Q13: =+Q14+Q15 -> 0 | R13: =C13+H13+M13 -> 0
A14: 4.1. | B14: Visszatérítendő támogatások, kölcsönök visszatérülése ÁH-n belülről | R14: =C14+H14+M14 -> 0
A15: 4.2. | B15: Egyéb felhalmozási célú támogatások bevételei államháztartáson belülről | R15: =C15+H15+M15 -> 0
A16: 4.3. | B16: - ebből EU-s támogatás | R16: =C16+H16+M16 -> 0
A17: 5. | B17: Felhalmozási bevételek (5.1.+…+5.3.) | C17: =+C18+C19+C20 -> 0 | D17: =+D18+D19+D20 -> 0 | E17: =+E18+E19+E20 -> 0 | F17: =+F18+F19+F20 -> 0 | G17: =+G18+G19+G20 -> 0 | H17: =+H18+H19+H20 -> 0 | I17: =+I18+I19+I20 -> 0 | J17: =+J18+J19+J20 -> 0 | ... Q17: =+Q18+Q19+Q20 -> 0 | R17: =C17+H17+M17 -> 0
A18: 5.1. | B18: Immateriális javak értékesítése | R18: =C18+H18+M18 -> 0
A19: 5.2. | B19: Ingatlanok értékesítése | R19: =C19+H19+M19 -> 0
A20: 5.3. | B20: Egyéb tárgyi eszközök értékesítése | R20: =C20+H20+M20 -> 0
A21: 6. | B21: Működési célú átvett pénzeszközök | R21: =C21+H21+M21 -> 0
A22: 7. | B22: Felhalmozási célú átvett pénzeszközök | R22: =C22+H22+M22 -> 0
A23: 8. | B23: Költségvetési bevételek összesen (1.+…+7.) | C23: =+C6+C7+C12+C13+C17+C21+C22 -> 130641000 | D23: =+D6+D7+D12+D13+D17+D21+D22 -> 0 | E23: =+E6+E7+E12+E13+E17+E21+E22 -> 0 | F23: =+F6+F7+F12+F13+F17+F21+F22 -> 0 | G23: =+G6+G7+G12+G13+G17+G21+G22 -> 0 | H23: =+H6+H7+H12+H13+H17+H21+H22 -> 38269000 | I23: =+I6+I7+I12+I13+I17+I21+I22 -> 0 | J23: =+J6+J7+J12+J13+J17+J21+J22 -> 0 | ... Q23: =+Q6+Q7+Q12+Q13+Q17+Q21+Q22 -> 0 | R23: =C23+H23+M23 -> 168910000
A24: 9. | B24: Finanszírozási bevételek (9.1.+…+9.3.) | C24: =+C25+C26+C27 -> 11105364 | D24: =+D25+D26+D27 -> 0 | E24: =+E25+E26+E27 -> 0 | F24: =+F25+F26+F27 -> 0 | G24: =+G25+G26+G27 -> 0 | H24: =+H25+H26+H27 -> 0 | I24: =+I25+I26+I27 -> 0 | J24: =+J25+J26+J27 -> 0 | ... Q24: =+Q25+Q26+Q27 -> 0 | R24: =C24+H24+M24 -> 11105364
A25: 9.1. | B25: Költségvetési maradvány igénybevétele | C25: 11105364 | R25: =C25+H25+M25 -> 11105364
A26: 9.2. | B26: Vállalkozási maradvány igénybevétele | R26: =C26+H26+M26 -> 0
A27: 9.3. | B27: Irányító szervi (önkormányzati) támogatás (intézményfinanszírozás) | R27: =C27+H27+M27 -> 0
A28: 10. | B28: BEVÉTELEK ÖSSZESEN: (8.+9.) | C28: =+C23+C24 -> 141746364 | D28: =+D23+D24 -> 0 | E28: =+E23+E24 -> 0 | F28: =+F23+F24 -> 0 | G28: =+G23+G24 -> 0 | H28: =+H23+H24 -> 38269000 | I28: =+I23+I24 -> 0 | J28: =+J23+J24 -> 0 | ... Q28: =+Q23+Q24 -> 0 | R28: =C28+H28+M28 -> 180015364
B31: Kiadások | C31: Kötelező | D31: Javasolt módosítás | E31: Módosított előirányzat | F31: Társulási Tanács által javasolt módosítás | G31: Módosított előirányzat | H31: Önként vállalt | I31: Javasolt módosítás | J31: Módosított előirányzat | K31: Társulási Tanács által javasolt módosítás | L31: Módosított előirányzat | M31: Államigazgatási | R31: Összesen:
A32: 1. | B32: Működési költségvetés kiadásai (1.1+…+1.6.) | C32: =SUM(C33:C38) -> 6083364 | D32: =SUM(D33:D37) -> 0 | E32: =SUM(E33:E37) -> 0 | F32: =SUM(F33:F37) -> 0 | G32: =SUM(G33:G37) -> 0 | H32: =SUM(H33:H38) -> 19950000 | I32: =SUM(I33:I38) -> 0 | J32: =SUM(J33:J38) -> 0 | K32: =SUM(K33:K38) -> 0 | L32: =SUM(L33:L38) -> 0 | M32: =SUM(M33:M38) -> 0 | N32: =SUM(N33:N37) -> 0 | O32: =SUM(O33:O37) -> 0 | P32: =SUM(P33:P37) -> 0 | Q32: =SUM(Q33:Q37) -> 0 | R32: =C32+H32+M32 -> 26033364
A33: 1.1. | B33: Személyi juttatások | H33: 150000 | R33: =C33+H33+M33 -> 150000 | V33: =H33+'4. sz. mell'!H32 -> 25855000 | AB33: =I33+'4. sz. mell'!I32 -> 0 | AC33: =J33+'4. sz. mell'!J32 -> 0 | AD33: =K33+'4. sz. mell'!K32 -> 0 | AE33: =L33+'4. sz. mell'!L32 -> 0 | AF33: =M33+'4. sz. mell'!M32 -> 0 | AG33: =N33+'4. sz. mell'!N32 -> 0 | AH33: =O33+'4. sz. mell'!O32 -> 0 | AI33: =P33+'4. sz. mell'!P32 -> 0 | AJ33: =Q33+'4. sz. mell'!Q32 -> 0
A34: 1.2. | B34: Munkaadókat terhelő járulékok és szociális hozzájárulási adó | H34: 98000 | R34: =C34+H34+M34 -> 98000 | V34: =H34+'4. sz. mell'!H33 -> 5558000
A35: 1.3. | B35: Dologi kiadások | C35: 5715000 | H35: 4736000 | R35: =C35+H35+M35 -> 10451000 | V35: =H35+'4. sz. mell'!H34 -> 9482000
A36: 1.4. | B36: Ellátottak pénzbeli juttatásai | R36: =C36+H36+M36 -> 0 | V36: =H36+'4. sz. mell'!H35 -> 0
A37: 1.5. | B37: Egyéb működési célú kiadások | H37: 7166000 | R37: =C37+H37+M37 -> 7166000 | V37: =H37+'4. sz. mell'!H36 -> 7166000
A38: 1.6. | B38: Tartalékok | C38: 368364 | H38: 7800000 | R38: =C38+H38+M38 -> 8168364 | V38: =H38+'4. sz. mell'!H37 -> 7855000
A39: 2. | B39: Felhalmozási költségvetés kiadásai (2.1.+…+2.3.) | C39: =SUM(C40:C42) -> 0 | D39: =SUM(D40:D42) -> 0 | E39: =SUM(E40:E42) -> 0 | F39: =SUM(F40:F42) -> 0 | G39: =SUM(G40:G42) -> 0 | H39: =SUM(H40:H42) -> 0 | I39: =SUM(I40:I42) -> 0 | J39: =SUM(J40:J42) -> 0 | ... Q39: =SUM(Q40:Q42) -> 0 | R39: =C39+H39+M39 -> 0
A40: 2.1. | B40: Beruházások | R40: =C40+H40+M40 -> 0
A41: 2.2. | B41: Felújítások | R41: =C41+H41+M41 -> 0
A42: 2.3. | B42: Egyéb fejlesztési célú kiadások | R42: =C42+H42+M42 -> 0
A43: 2.4. | B43: - ebből EU-s forrásból tám. megvalósuló programok, projektek kiadásai | R43: =C43+H43+M43 -> 0
A44: 4. | B44: KÖLTSÉGVETÉSI KIADÁSOK ÖSSZESEN (1+2+3) | C44: =SUM(C39,C32) -> 6083364 | D44: =SUM(D39,D32) -> 0 | E44: =SUM(E39,E32) -> 0 | F44: =SUM(F39,F32) -> 0 | G44: =SUM(G39,G32) -> 0 | H44: =SUM(H39,H32) -> 19950000 | I44: =SUM(I39,I32) -> 0 | J44: =SUM(J39,J32) -> 0 | ... Q44: =SUM(Q39,Q32) -> 0 | R44: =C44+H44+M44 -> 26033364
A45: 5. | B45: Hitel-, kölcsöntörlesztés államháztartáson kívülre (5.1. + … + 5.3.) | C45: =+C46+C47+C48 -> 0 | D45: =+D46+D47+D48 -> 0 | E45: =+E46+E47+E48 -> 0 | F45: =+F46+F47+F48 -> 0 | G45: =+G46+G47+G48 -> 0 | H45: =+H46+H47+H48 -> 0 | I45: =+I46+I47+I48 -> 0 | J45: =+J46+J47+J48 -> 0 | ... Q45: =+Q46+Q47+Q48 -> 0 | R45: =C45+H45+M45 -> 0
A46: 5.1. | B46: Hosszú lejáratú hitelek, kölcsönök törlesztése | R46: =C46+H46+M46 -> 0
A47: 5.2. | B47: Likviditási célú hitelek, kölcsönök törlesztése pénzügyi vállalkozásnak | R47: =C47+H47+M47 -> 0
A48: 5.3. | B48: Rövid lejáratú hitelek, kölcsönök törlesztése | R48: =C48+H48+M48 -> 0
A49: 6. | B49: Belföldi értékpapírok kiadásai (6.1. + … + 6.4.) | C49: =+C50+C51+C52+C53 -> 0 | D49: =+D50+D51+D52+D53 -> 0 | E49: =+E50+E51+E52+E53 -> 0 | F49: =+F50+F51+F52+F53 -> 0 | G49: =+G50+G51+G52+G53 -> 0 | H49: =+H50+H51+H52+H53 -> 0 | I49: =+I50+I51+I52+I53 -> 0 | J49: =+J50+J51+J52+J53 -> 0 | ... Q49: =+Q50+Q51+Q52+Q53 -> 0 | R49: =C49+H49+M49 -> 0
A50: 6.1. | B50: Forgatási célú belföldi értékpapírok vásárlása | R50: =C50+H50+M50 -> 0
A51: 6.2. | B51: Forgatási célú belföldi értékpapírok beváltása | R51: =C51+H51+M51 -> 0
A52: 6.3. | B52: Befektetési célú belföldi értékpapírok vásárlása | R52: =C52+H52+M52 -> 0
A53: 6.4. | B53: Befektetési célú belföldi értékpapírok beváltása | R53: =C53+H53+M53 -> 0
A54: 7. | B54: Belföldi finanszírozás kiadásai (7.1. + … + 7.5.) | C54: =+C55+C56+C58+C59+C57 -> 135663000 | D54: =+D55+D56+D58+D59+D57 -> 0 | E54: =+E55+E56+E58+E59+E57 -> 0 | F54: =+F55+F56+F58+F59+F57 -> 0 | G54: =+G55+G56+G58+G59+G57 -> 0 | H54: =+H55+H56+H58+H59+H57 -> 18319000 | I54: =+I55+I56+I58+I59+I57 -> 0 | J54: =+J55+J56+J58+J59+J57 -> 0 | ... Q54: =+Q55+Q56+Q58+Q59+Q57 -> 0 | R54: =C54+H54+M54 -> 153982000
A55: 7.1. | B55: Államháztartáson belüli megelőlegezések folyósítása | R55: =C55+H55+M55 -> 0
A56: 7.2. | B56: Államháztartáson belüli megelőlegezések visszafizetése | R56: =C56+H56+M56 -> 0
A57: 7.3. | B57: Központi, irányítószervi támogatás folyósítása | C57: 135663000 | D57: 0 | E57: 0 | F57: 0 | G57: 0 | H57: 18319000 | R57: =C57+H57+M57 -> 153982000
A58: 7.4. | B58: Pénzeszközök betétként elhelyezése | R58: =C58+H58+M58 -> 0
A59: 7.5. | B59: Pénzügyi lízing kiadásai | R59: =C59+H59+M59 -> 0
A60: 8. | B60: Külföldi finanszírozás kiadásai (6.1. + … + 6.4.) | C60: =+C61+C62+C63+C64 -> 0 | D60: =+D61+D62+D63+D64 -> 0 | E60: =+E61+E62+E63+E64 -> 0 | F60: =+F61+F62+F63+F64 -> 0 | G60: =+G61+G62+G63+G64 -> 0 | H60: =+H61+H62+H63+H64 -> 0 | I60: =+I61+I62+I63+I64 -> 0 | J60: =+J61+J62+J63+J64 -> 0 | ... Q60: =+Q61+Q62+Q63+Q64 -> 0 | R60: =C60+H60+M60 -> 0
A61: 8.1. | B61: Forgatási célú külföldi értékpapírok vásárlása | R61: =C61+H61+M61 -> 0
A62: 8.2. | B62: Befektetési célú külföldi értékpapírok beváltása | R62: =C62+H62+M62 -> 0
A63: 8.3. | B63: Külföldi értékpapírok beváltása | R63: =C63+H63+M63 -> 0
A64: 8.4. | B64: Külföldi hitelek, kölcsönök törlesztése | R64: =C64+H64+M64 -> 0
A65: 9. | B65: FINANSZÍROZÁSI KIADÁSOK ÖSSZESEN: (5.+…+8.) | C65: =SUM(C60,C54,C49,C45) -> 135663000 | D65: =SUM(D60,D54,D49,D45) -> 0 | E65: =SUM(E60,E54,E49,E45) -> 0 | F65: =SUM(F60,F54,F49,F45) -> 0 | G65: =SUM(G60,G54,G49,G45) -> 0 | H65: =SUM(H60,H54,H49,H45) -> 18319000 | I65: =SUM(I60,I54,I49,I45) -> 0 | J65: =SUM(J60,J54,J49,J45) -> 0 | ... Q65: =SUM(Q60,Q54,Q49,Q45) -> 0 | R65: =C65+H65+M65 -> 153982000
A66: 3. | B66: KIADÁSOK ÖSSZESEN: (1.+2.) | C66: =SUM(C65,C44) -> 141746364 | D66: =SUM(D65,D44) -> 0 | E66: =SUM(E65,E44) -> 0 | F66: =SUM(F65,F44) -> 0 | G66: =SUM(G65,G44) -> 0 | H66: =SUM(H65,H44) -> 38269000 | I66: =SUM(I65,I44) -> 0 | J66: =SUM(J65,J44) -> 0 | ... Q66: =SUM(Q65,Q44) -> 0 | R66: =C66+H66+M66 -> 180015364
A68: Éves engedélyezett létszám előirányzat (fő)
A69: Közfoglalkoztatottak létszáma (fő)
C71: =C66-C28 -> 0 | D71: =D66-D28 -> 0 | E71: =E66-E28 -> 0 | F71: =F66-F28 -> 0 | G71: =G66-G28 -> 0 | H71: =H66-H28 -> 0
C73: =C71+C10 -> 95053000 | D73: =D71+D10 -> 0 | E73: =E71+E10 -> 0 | F73: =F71+F10 -> 0 | G73: =G71+G10 -> 0 | H73: =H71+H10 -> 28056000

Sheet 4. sz. mell
R2: Forintban
A3: Száma | B3: Előirányzat-csoport, kiemelt előirányzat megnevezése | C3: Előirányzat
A4: 1 | B4: 2 | C4: Kötelező feladat | H4: Önként vállalt feladat | M4: Állami feladat | R4: Összesen
B5: Bevételek
A6: 1. | B6: Működési bevételek | C6: 48062000 | D6: 0 | E6: 0 | F6: 0 | G6: 0 | H6: 2717000 | I6: =J6-H6 -> -2717000 | L6: =SUM(J6:K6) -> 0 | N6: =O6-M6 -> 0 | Q6: =SUM(O6:P6) -> 0 | R6: =C6+H6+M6 -> 50779000
A7: 2. | B7: Működési célú támogatások államháztartáson belülről (2.1.+…+2.3.) | C7: =SUM(C8:C10) -> 0 | D7: =E7-C7 -> 0 | E7: =SUM(E8:E10) -> 0 | F7: =SUM(F8:F10) -> 0 | G7: =SUM(E7:F7) -> 0 | H7: =SUM(H8:H10) -> 6888340 | I7: =J7-H7 -> -6888340 | J7: =SUM(J8:J10) -> 0 | K7: =SUM(K8:K10) -> 0 | L7: =SUM(J7:K7) -> 0 | M7: =SUM(M8:M10) -> 0 | N7: =O7-M7 -> 0 | O7: =SUM(O8:O10) -> 0 | P7: =SUM(P8:P10) -> 0 | Q7: =SUM(O7:P7) -> 0 | R7: =C7+H7+M7 -> 6888340
A8: 2.1. | B8: Elvonások és befizetések bevételei | D8: =E8-C8 -> 0 | G8: =SUM(E8:F8) -> 0 | I8: =J8-H8 -> 0 | L8: =SUM(J8:K8) -> 0 | N8: =O8-M8 -> 0 | Q8: =SUM(O8:P8) -> 0 | R8: =C8+H8+M8 -> 0
A9: 2.2. | B9: Visszatérítendő támogatások, kölcsönök visszatérülése ÁH-n belülről | D9: =E9-C9 -> 0 | G9: =SUM(E9:F9) -> 0 | I9: =J9-H9 -> 0 | L9: =SUM(J9:K9) -> 0 | N9: =O9-M9 -> 0 | Q9: =SUM(O9:P9) -> 0 | R9: =C9+H9+M9 -> 0
A10: 2.3. | B10: Egyéb működési célú támogatások bevételei államháztartáson belülről | C10: 0 | D10: 0 | E10: 0 | F10: 0 | G10: 0 | H10: 6888340 | I10: =J10-H10 -> -6888340 | L10: =SUM(J10:K10) -> 0 | N10: =O10-M10 -> 0 | Q10: =SUM(O10:P10) -> 0 | R10: =C10+H10+M10 -> 6888340
A11: 2.4. | B11: - 2.3.-ból EU-s támogatás | D11: =E11-C11 -> 0 | G11: =SUM(E11:F11) -> 0 | H11: 5594340 | I11: =J11-H11 -> -5594340 | L11: =SUM(J11:K11) -> 0 | N11: =O11-M11 -> 0 | Q11: =SUM(O11:P11) -> 0 | R11: =C11+H11+M11 -> 5594340
A12: 3. | B12: Közhatalmi bevételek | D12: =E12-C12 -> 0 | G12: =SUM(E12:F12) -> 0 | I12: =J12-H12 -> 0 | L12: =SUM(J12:K12) -> 0 | N12: =O12-M12 -> 0 | Q12: =SUM(O12:P12) -> 0 | R12: =C12+H12+M12 -> 0
A13: 4. | B13: Felhalmozási célú támogatások államháztartáson belülről (4.1.+4.2.) | C13: =+C14+C15 -> 0 | D13: =E13-C13 -> 0 | E13: =+E14+E15 -> 0 | F13: =+F14+F15 -> 0 | G13: =SUM(E13:F13) -> 0 | H13: =+H14+H15 -> 0 | I13: =J13-H13 -> 0 | J13: =+J14+J15 -> 0 | K13: =+K14+K15 -> 0 | L13: =SUM(J13:K13) -> 0 | M13: =+M14+M15 -> 0 | N13: =O13-M13 -> 0 | O13: =+O14+O15 -> 0 | P13: =+P14+P15 -> 0 | Q13: =SUM(O13:P13) -> 0 | R13: =C13+H13+M13 -> 0
A14: 4.1. | B14: Visszatérítendő támogatások, kölcsönök visszatérülése ÁH-n belülről | D14: =E14-C14 -> 0 | G14: =SUM(E14:F14) -> 0 | I14: =J14-H14 -> 0 | L14: =SUM(J14:K14) -> 0 | N14: =O14-M14 -> 0 | Q14: =SUM(O14:P14) -> 0 | R14: =C14+H14+M14 -> 0
A15: 4.2. | B15: Egyéb felhalmozási célú támogatások bevételei államháztartáson belülről | D15: =E15-C15 -> 0 | G15: =SUM(E15:F15) -> 0 | I15: =J15-H15 -> 0 | L15: =SUM(J15:K15) -> 0 | N15: =O15-M15 -> 0 | Q15: =SUM(O15:P15) -> 0 | R15: =C15+H15+M15 -> 0
A16: 4.3. | B16: - 4.2.-ből EU-s támogatás | D16: =E16-C16 -> 0 | G16: =SUM(E16:F16) -> 0 | I16: =J16-H16 -> 0 | L16: =SUM(J16:K16) -> 0 | N16: =O16-M16 -> 0 | Q16: =SUM(O16:P16) -> 0 | R16: =C16+H16+M16 -> 0
A17: 5. | B17: Felhalmozási bevételek (5.1.+…+5.3.) | C17: =+C18+C19+C20 -> 0 | D17: =E17-C17 -> 0 | E17: =+E18+E19+E20 -> 0 | F17: =+F18+F19+F20 -> 0 | G17: =SUM(E17:F17) -> 0 | H17: =+H18+H19+H20 -> 0 | I17: =J17-H17 -> 0 | J17: =+J18+J19+J20 -> 0 | K17: =+K18+K19+K20 -> 0 | L17: =SUM(J17:K17) -> 0 | M17: =+M18+M19+M20 -> 0 | N17: =O17-M17 -> 0 | O17: =+O18+O19+O20 -> 0 | P17: =+P18+P19+P20 -> 0 | Q17: =SUM(O17:P17) -> 0 | R17: =C17+H17+M17 -> 0
A18: 5.1. | B18: Immateriális javak értékesítése | D18: =E18-C18 -> 0 | G18: =SUM(E18:F18) -> 0 | I18: =J18-H18 -> 0 | L18: =SUM(J18:K18) -> 0 | N18: =O18-M18 -> 0 | Q18: =SUM(O18:P18) -> 0 | R18: =C18+H18+M18 -> 0
A19: 5.2. | B19: Ingatlanok értékesítése | D19: =E19-C19 -> 0 | G19: =SUM(E19:F19) -> 0 | I19: =J19-H19 -> 0 | L19: =SUM(J19:K19) -> 0 | N19: =O19-M19 -> 0 | Q19: =SUM(O19:P19) -> 0 | R19: =C19+H19+M19 -> 0
A20: 5.3. | B20: Egyéb tárgyi eszközök értékesítése | D20: =E20-C20 -> 0 | G20: =SUM(E20:F20) -> 0 | I20: =J20-H20 -> 0 | L20: =SUM(J20:K20) -> 0 | N20: =O20-M20 -> 0 | Q20: =SUM(O20:P20) -> 0 | R20: =C20+H20+M20 -> 0
A21: 6. | B21: Működési célú átvett pénzeszközök | D21: =E21-C21 -> 0 | G21: =SUM(E21:F21) -> 0 | I21: =J21-H21 -> 0 | L21: =SUM(J21:K21) -> 0 | N21: =O21-M21 -> 0 | Q21: =SUM(O21:P21) -> 0 | R21: =C21+H21+M21 -> 0
A22: 7. | B22: Felhalmozási célú átvett pénzeszközök | D22: =E22-C22 -> 0 | G22: =SUM(E22:F22) -> 0 | I22: =J22-H22 -> 0 | L22: =SUM(J22:K22) -> 0 | N22: =O22-M22 -> 0 | Q22: =SUM(O22:P22) -> 0 | R22: =C22+H22+M22 -> 0
A23: 8. | B23: Költségvetési bevételek összesen (1.+…+7.) | C23: =+C6+C7+C12+C13+C17+C21+C22 -> 48062000 | E23: =+E6+E7+E12+E13+E17+E21+E22 -> 0 | F23: =+F6+F7+F12+F13+F17+F21+F22 -> 0 | G23: =SUM(E23:F23) -> 0 | H23: =+H6+H7+H12+H13+H17+H21+H22 -> 9605340 | I23: =J23-H23 -> -9605340 | J23: =+J6+J7+J12+J13+J17+J21+J22 -> 0 | K23: =+K6+K7+K12+K13+K17+K21+K22 -> 0 | L23: =SUM(J23:K23) -> 0 | M23: =+M6+M7+M12+M13+M17+M21+M22 -> 0 | N23: =O23-M23 -> 0 | O23: =+O6+O7+O12+O13+O17+O21+O22 -> 0 | P23: =+P6+P7+P12+P13+P17+P21+P22 -> 0 | Q23: =SUM(O23:P23) -> 0 | R23: =C23+H23+M23 -> 57667340
A24: 9. | B24: Finanszírozási bevételek (9.1.+…+9.3.) | C24: =+C25+C26+C27 -> 140656722 | E24: =+E25+E26+E27 -> 0 | F24: =+F25+F26+F27 -> 0 | G24: =SUM(E24:F24) -> 0 | H24: =+H25+H26+H27 -> 26360660 | I24: =J24-H24 -> -26360660 | J24: =+J25+J26+J27 -> 0 | K24: =+K25+K26+K27 -> 0 | L24: =SUM(J24:K24) -> 0 | M24: =+M25+M26+M27 -> 0 | N24: =O24-M24 -> 0 | O24: =+O25+O26+O27 -> 0 | P24: =+P25+P26+P27 -> 0 | Q24: =SUM(O24:P24) -> 0 | R24: =C24+H24+M24 -> 167017382
A25: 9.1. | B25: Költségvetési maradvány igénybevétele | C25: 4993722 | G25: =SUM(E25:F25) -> 0 | H25: 8041660 | I25: =J25-H25 -> -8041660 | L25: =SUM(J25:K25) -> 0 | Q25: =SUM(O25:P25) -> 0 | R25: =C25+H25+M25 -> 13035382
A26: 9.2. | B26: Vállalkozási maradvány igénybevétele | G26: =SUM(E26:F26) -> 0 | I26: =J26-H26 -> 0 | L26: =SUM(J26:K26) -> 0 | N26: =O26-M26 -> 0 | Q26: =SUM(O26:P26) -> 0 | R26: =C26+H26+M26 -> 0
A27: 9.3. | B27: Irányító szervi (önkormányzati) támogatás (intézményfinanszírozás) | C27: 135663000 | D27: 0 | E27: 0 | F27: 0 | G27: 0 | H27: 18319000 | I27: =J27-H27 -> -18319000 | J27: =J42-(J23+J25+J26) -> 0 | K27: =K42-(K23+K25+K26) -> 0 | L27: =SUM(J27:K27) -> 0 | M27: =M42-(M23+M25+M26) -> 0 | N27: =O27-M27 -> 0 | O27: =O42-(O23+O25+O26) -> 0 | P27: =P42-(P23+P25+P26) -> 0 | Q27: =SUM(O27:P27) -> 0 | R27: =C27+H27+M27 -> 153982000
A28: 10. | B28: BEVÉTELEK ÖSSZESEN: (8.+9.) | C28: =+C23+C24 -> 188718722 | E28: =+E23+E24 -> 0 | F28: =+F23+F24 -> 0 | G28: =SUM(E28:F28) -> 0 | H28: =+H23+H24 -> 35966000 | I28: =J28-H28 -> -35966000 | J28: =+J23+J24 -> 0 | K28: =+K23+K24 -> 0 | L28: =SUM(J28:K28) -> 0 | M28: =+M23+M24 -> 0 | N28: =O28-M28 -> 0 | O28: =+O23+O24 -> 0 | P28: =+P23+P24 -> 0 | Q28: =SUM(O28:P28) -> 0 | R28: =C28+H28+M28 -> 224684722
B30: Kiadások
A31: 1. | B31: Működési költségvetés kiadásai (1.1+…+1.5.) | C31: =SUM(C32:C36) -> 186968722 | E31: =SUM(E32:E36) -> 0 | F31: =SUM(F32:F36) -> 0 | G31: =SUM(E31:F31) -> 0 | H31: =SUM(H32:H36) -> 35911000 | I31: =J31-H31 -> -35911000 | J31: =SUM(J32:J36) -> 0 | K31: =SUM(K32:K36) -> 0 | L31: =SUM(J31:K31) -> 0 | M31: =SUM(M32:M36) -> 0 | N31: =O31-M31 -> 0 | O31: =SUM(O32:O36) -> 0 | P31: =SUM(P32:P36) -> 0 | Q31: =SUM(O31:P31) -> 0 | R31: =C31+H31+M31 -> 222879722
A32: 1.1. | B32: Személyi juttatások | C32: 115459000 | H32: 25705000 | L32: =SUM(J32:K32) -> 0 | N32: =O32-M32 -> 0 | Q32: =SUM(O32:P32) -> 0 | R32: =C32+H32+M32 -> 141164000
A33: 1.2. | B33: Munkaadókat terhelő járulékok és szociális hozzájárulási adó | C33: 26181000 | H33: 5460000 | L33: =SUM(J33:K33) -> 0 | N33: =O33-M33 -> 0 | Q33: =SUM(O33:P33) -> 0 | R33: =C33+H33+M33 -> 31641000
A34: 1.3. | B34: Dologi kiadások | C34: 44461000 | H34: 4746000 | L34: =SUM(J34:K34) -> 0 | N34: =O34-M34 -> 0 | Q34: =SUM(O34:P34) -> 0 | R34: =C34+H34+M34 -> 49207000
A35: 1.4. | B35: Ellátottak pénzbeli juttatásai | L35: =SUM(J35:K35) -> 0 | N35: =O35-M35 -> 0 | Q35: =SUM(O35:P35) -> 0 | R35: =C35+H35+M35 -> 0
A36: 1.5. | B36: Egyéb működési célú kiadások | C36: 867722 | L36: =SUM(J36:K36) -> 0 | N36: =O36-M36 -> 0 | Q36: =SUM(O36:P36) -> 0 | R36: =C36+H36+M36 -> 867722
A37: 2. | B37: Felhalmozási költségvetés kiadásai (2.1.+…+2.3.) | C37: =SUM(C38:C40) -> 1750000 | E37: =SUM(E38:E40) -> 0 | F37: =SUM(F38:F40) -> 0 | G37: =SUM(E37:F37) -> 0 | H37: =SUM(H38:H40) -> 55000 | I37: =J37-H37 -> -55000 | J37: =SUM(J38:J40) -> 0 | K37: =SUM(K38:K40) -> 0 | L37: =SUM(J37:K37) -> 0 | M37: =SUM(M38:M40) -> 0 | N37: =O37-M37 -> 0 | O37: =SUM(O38:O40) -> 0 | P37: =SUM(P38:P40) -> 0 | Q37: =SUM(O37:P37) -> 0 | R37: =C37+H37+M37 -> 1805000
A38: 2.1. | B38: Beruházások | C38: 1750000 | H38: 55000
A39: 2.2. | B39: Felújítások | D39: =E39-C39 -> 0 | G39: =SUM(E39:F39) -> 0 | I39: =J39-H39 -> 0 | L39: =SUM(J39:K39) -> 0 | N39: =O39-M39 -> 0 | Q39: =SUM(O39:P39) -> 0 | R39: =C39+H39+M39 -> 0
A40: 2.3. | B40: Egyéb fejlesztési célú kiadások | D40: =E40-C40 -> 0 | G40: =SUM(E40:F40) -> 0 | I40: =J40-H40 -> 0 | L40: =SUM(J40:K40) -> 0 | N40: =O40-M40 -> 0 | Q40: =SUM(O40:P40) -> 0 | R40: =C40+H40+M40 -> 0
A41: 2.4. | B41: - ebből EU-s forrásból tám. megvalósuló programok, projektek kiadásai | D41: =E41-C41 -> 0 | G41: =SUM(E41:F41) -> 0 | I41: =J41-H41 -> 0 | L41: =SUM(J41:K41) -> 0 | N41: =O41-M41 -> 0 | Q41: =SUM(O41:P41) -> 0 | R41: =C41+H41+M41 -> 0
A42: 3. | B42: KIADÁSOK ÖSSZESEN: (1.+2.) | C42: =+C31+C37 -> 188718722 | E42: =+E31+E37 -> 0 | F42: =+F31+F37 -> 0 | G42: =SUM(E42:F42) -> 0 | H42: =+H31+H37 -> 35966000 | I42: =J42-H42 -> -35966000 | J42: =+J31+J37 -> 0 | K42: =+K31+K37 -> 0 | L42: =SUM(J42:K42) -> 0 | M42: =+M31+M37 -> 0 | N42: =O42-M42 -> 0 | O42: =+O31+O37 -> 0 | P42: =+P31+P37 -> 0 | Q42: =SUM(O42:P42) -> 0 | R42: =C42+H42+M42 -> 224684722
A44: Éves engedélyezett létszám előirányzat (fő) | C44: 45.05 | D44: 4.7 | E44: 45.05 | F44: 4.7 | G44: 45.05 | H44: 4.7 | R44: =C44+H44+M44 -> 49.75
A45: Közfoglalkoztatottak létszáma (fő)
C47: =C42-C28 -> 0 | D47: =D42-D28 -> 0 | E47: =E42-E28 -> 0 | F47: =F42-F28 -> 0 | G47: =G42-G28 -> 0 | H47: =H42-H28 -> 0

Sheet 5. sz. mell
A1: B E V É T E L E K
E2: Forintban
A3: Sor- szám | B3: Bevételi jogcím | C3: 2019. évi | D3: 2020. évi | E3: 2021. évi
A4: 1 | B4: 2 | C4: 3 | D4: 4 | E4: 5
A5: 1. | B5: Társulási működési támogatásai | C5: 1.3129731e+08 | D5: 1.3261029e+08 | E5: 1.3393639e+08 | G5: ='1.1.sz.mell.'!C5 -> 0
A6: 2. | B6: Működési célú támogatások államháztartáson belülről | C6: 0 | D6: 0 | E6: 0 | G6: ='1.1.sz.mell.'!C6 -> 129997340 | H6: =G6*1.01 -> 1.3129731e+08 | I6: =H6*1.01 -> 1.3261029e+08 | J6: =I6*1.01 -> 1.3393639e+08
A7: 3. | B7: Felhalmozási célú támogatások államháztartáson belülről | C7: 97545800 | D7: 98521258 | E7: 99506471 | G7: ='1.1.sz.mell.'!C13 -> 0 | H7: =G7*1.01 -> 0 | I7: =H7*1.01 -> 0 | J7: =I7*1.01 -> 0
A8: 4. | B8: Működési bevételek | G8: ='1.1.sz.mell.'!C27 -> 96580000 | H8: =G8*1.01 -> 97545800 | I8: =H8*1.01 -> 98521258 | J8: =I8*1.01 -> 99506471
A9: 5. | B9: Felhalmozási bevételek | G9: ='1.1.sz.mell.'!C38 -> 0 | H9: =G9*1.01 -> 0 | I9: =H9*1.01 -> 0 | J9: =I9*1.01 -> 0
A10: 6. | B10: Működési célú átvett pénzeszközök | G10: ='1.1.sz.mell.'!C44 -> 0 | H10: =G10*1.01 -> 0 | I10: =H10*1.01 -> 0 | J10: =I10*1.01 -> 0
A11: 7. | B11: Felhalmozási célú átvett pénzeszközök | G11: ='1.1.sz.mell.'!C49 -> 0 | H11: =G11*1.01 -> 0 | I11: =H11*1.01 -> 0 | J11: =I11*1.01 -> 0
A12: 8. | B12: KÖLTSÉGVETÉSI BEVÉTELEK ÖSSZESEN: (1+…+7) | C12: =+C5+C6+C7+C8+C9+C10+C11 -> 2.2884311e+08 | D12: =+D5+D6+D7+D8+D9+D10+D11 -> 2.3113154e+08 | E12: =+E5+E6+E7+E8+E9+E10+E11 -> 2.3344286e+08 | H12: =G12*1.01 -> 0 | I12: =H12*1.01 -> 0 | J12: =I12*1.01 -> 0
A13: 9. | B13: FINANSZÍROZÁSI BEVÉTELEK ÖSSZESEN: | C13: 21314688 | D13: 21527833 | E13: 21743110 | G13: ='1.1.sz.mell.'!C77 -> 24140746 | H13: =G13*1.01 -> 24382153 | I13: =H13*1.01 -> 24625975 | J13: =I13*1.01 -> 24872235
A14: 10. | B14: KÖLTSÉGVETÉSI ÉS FINANSZÍROZÁSI BEVÉTELEK ÖSSZESEN: (8+9) | C14: =+C12+C13 -> 2.501578e+08 | D14: =+D12+D13 -> 2.5265938e+08 | E14: =+E12+E13 -> 2.5518597e+08
H15: =C27-C14 -> 0 | I15: =D27-D14 -> 0 | J15: =E27-E14 -> 0
A16: K I A D Á S O K
A17: 2. sz. táblázat | E17: Forintban
A18: Sor-szám | B18: Kiadási jogcímek | C18: =+C3 -> 2019. évi | D18: =+D3 -> 2020. évi | E18: =+E3 -> 2021. évi
A19: 1 | B19: 2 | C19: 3 | D19: 4 | E19: 5
A20: 1. | B20: Működési költségvetés kiadásai | C20: 2.5015765e+08 | D20: 2.5265923e+08 | E20: 2.5518582e+08 | G20: ='1.1.sz.mell.'!C84+'1.1.sz.mell.'!C96 -> 248913086 | H20: =G20*1.005 -> 2.5015765e+08 | I20: =H20*1.01 -> 2.5265923e+08 | J20: =I20*1.01 -> 2.5518582e+08
A21: 2. | B21: Felhalmozási költségvetés kiadásai (2.1.+2.2.+2.3.) | C21: =+C22+C23+C24 -> 150 | D21: =+D22+D23+D24 -> 150 | E21: =+E22+E23+E24 -> 150 | H21: =G21*1.01 -> 0 | I21: =H21*1.01 -> 0 | J21: =I21*1.01 -> 0
A22: 2.1. | B22: Beruházások | C22: 150 | D22: 150 | E22: 150 | G22: ='1.1.sz.mell.'!C91 -> 1805000 | H22: =G22*1.01 -> 1823050 | I22: =H22*1.01 -> 1841280.5 | J22: =I22*1.01 -> 1859693.3
A23: 2.2. | B23: Felújítások
A24: 2.3. | B24: Egyéb felhalmozási kiadások
A25: 3. | B25: KÖLTSÉGVETÉSI KIADÁSOK ÖSSZESEN (1+2) | C25: =+C20+C21 -> 2.501578e+08 | D25: =+D20+D21 -> 2.5265938e+08 | E25: =+E20+E21 -> 2.5518597e+08
A26: 4. | B26: FINANSZÍROZÁSI KIADÁSOK ÖSSZESEN: | G26: ='1.1.sz.mell.'!C121 -> 0
A27: 5. | B27: KIADÁSOK ÖSSZESEN: (3.+4.) | C27: =+C25+C26 -> 2.501578e+08 | D27: =+D25+D26 -> 2.5265938e+08 | E27: =+E25+E26 -> 2.5518597e+08

Sheet 6. sz. mell.
A1: Előirányzat-felhasználási terv 2018. évre
O2: ='[1]1. sz tájékoztató tábla'!E3 -> Forintban!
A3: Sor-szám | B3: Megnevezés | C3: Január | D3: Február | E3: Március | F3: Április | G3: Május | H3: Június | I3: Július | J3: Auguszt. | K3: Szept. | L3: Okt. | M3: Nov. | N3: Dec. | O3: Összesen:
A4: 1. | B4: Bevételek
A5: 2. | B5: Társulás működési támogatásai | O5: =SUM(C5:N5) -> 0
A6: 3. | B6: Működési célú tám. ÁH-n belül | C6: 8048333 | D6: 8048333 | E6: 8048333 | F6: 8048333 | G6: 8048333 | H6: 8048333 | I6: 8048333 | J6: 8048333 | K6: 8048333 | L6: 8048333 | M6: 8048333 | N6: 8048329 | O6: =SUM(C6:N6) -> 96579992 | Q6: ='1.1.sz.mell.'!C27 -> 96580000 | S6: =ROUND(Q6/12,0) -> 8048333
A7: 4. | B7: Felhalmozási célú tám. ÁH-n belül | C7: 0 | D7: 0 | E7: 0 | F7: 0 | G7: 0 | H7: 0 | I7: 0 | J7: 0 | K7: 0 | L7: 0 | M7: 0 | N7: 0 | O7: =SUM(C7:N7) -> 0 | S7: =ROUND(Q7/12,0) -> 0
A8: 5. | B8: Működési bevételek | C8: 10833112 | D8: 10833112 | E8: 10833112 | F8: 10833112 | G8: 10833112 | H8: 10833112 | I8: 10833112 | J8: 10833112 | K8: 10833112 | L8: 10833112 | M8: 10833112 | N8: 10833108 | O8: =SUM(C8:N8) -> 129997340 | Q8: ='1.1.sz.mell.'!C6 -> 129997340 | S8: =ROUND(Q8/12,0) -> 10833112
A9: 6. | B9: Felhalmozási bevételek | O9: =SUM(C9:N9) -> 0
A10: 7. | B10: Működési célú átvett pénzeszk. | O10: =SUM(C10:N10) -> 0
A11: 8. | B11: Felhalm. célú átvett pénzeszk. | O11: =SUM(C11:N11) -> 0
A12: 9. | B12: Finanszírozási bevételek | G12: 24140746 | O12: =SUM(C12:N12) -> 24140746 | Q12: ='1.1.sz.mell.'!C65 -> 24140746
A13: 10. | B13: Bevételek összesen: | C13: =SUM(C5:C12) -> 18881445 | D13: =SUM(D5:D12) -> 18881445 | E13: =SUM(E5:E12) -> 18881445 | F13: =SUM(F5:F12) -> 18881445 | G13: =SUM(G5:G12) -> 43022191 | H13: =SUM(H5:H12) -> 18881445 | I13: =SUM(I5:I12) -> 18881445 | J13: =SUM(J5:J12) -> 18881445 | ... N13: =SUM(N5:N12) -> 18881437 | O13: =SUM(C13:N13) -> 250718078
A14: 11. | B14: Kiadások
A15: 12. | B15: Személyi juttatások | C15: 11776167 | D15: 11776167 | E15: 11776167 | F15: 11776167 | G15: 11776167 | H15: 11776167 | I15: 11776167 | J15: 11776167 | K15: 11776167 | L15: 11776167 | M15: 11776167 | N15: 11776163 | O15: =SUM(C15:N15) -> 141314000 | Q15: ='1.1.sz.mell.'!C85 -> 141314000 | S15: =ROUND(Q15/12,0) -> 11776167
A16: 13. | B16: Munkaadókat terhelő járulékok és szociális hozzájárulási adó | C16: 2644917 | D16: 2644917 | E16: 2644917 | F16: 2644917 | G16: 2644917 | H16: 2644917 | I16: 2644917 | J16: 2644917 | K16: 2644917 | L16: 2644917 | M16: 2644917 | N16: 2644913 | O16: =SUM(C16:N16) -> 31739000 | Q16: ='1.1.sz.mell.'!C86 -> 31739000 | S16: =ROUND(Q16/12,0) -> 2644917
A17: 14. | B17: Dologi kiadások | C17: 4971500 | D17: 4971500 | E17: 4971500 | F17: 4971500 | G17: 4971500 | H17: 4971500 | I17: 4971500 | J17: 4971500 | K17: 4971500 | L17: 4971500 | M17: 4971500 | N17: 4971500 | O17: =SUM(C17:N17) -> 59658000 | Q17: ='1.1.sz.mell.'!C87 -> 59658000 | S17: =ROUND(Q17/12,0) -> 4971500
A18: 15. | B18: Ellátottak pénzbeli juttatásai | O18: =SUM(C18:N18) -> 0 | Q18: ='1.1.sz.mell.'!C88 -> 0
A19: 16. | B19: Egyéb működési célú kiadások | E19: 867722 | F19: 1217000 | G19: 2300000 | I19: 1217000 | L19: 1217000 | N19: 1215000 | O19: =SUM(C19:N19) -> 8033722 | Q19: ='1.1.sz.mell.'!C89 -> 8033722
A20: 17. | B20: Beruházások | E20: 1805000 | O20: =SUM(C20:N20) -> 1805000 | Q20: ='1.1.sz.mell.'!C91 -> 1805000
A21: 18. | B21: Felújítások | O21: =SUM(C21:N21) -> 0
A22: 19. | B22: Egyéb felhalmozási kiadások | O22: =SUM(C22:N22) -> 0
A23: 20. | B23: Tartalékok | G23: 8168364 | O23: =SUM(C23:N23) -> 8168364 | Q23: ='1.1.sz.mell.'!C96 -> 8168364
A24: 21. | B24: Kölcsön nyújtása | O24: =SUM(C24:N24) -> 0
A25: 22. | B25: Finanszírozási kiadások | O25: =SUM(C25:N25) -> 0
A26: 23. | B26: Kiadások összesen: | C26: =SUM(C15:C25) -> 19392584 | D26: =SUM(D15:D25) -> 19392584 | E26: =SUM(E15:E25) -> 22065306 | F26: =SUM(F15:F25) -> 20609584 | G26: =SUM(G15:G25) -> 29860948 | H26: =SUM(H15:H25) -> 19392584 | I26: =SUM(I15:I25) -> 20609584 | J26: =SUM(J15:J25) -> 19392584 | ... N26: =SUM(N15:N25) -> 20607576 | O26: =SUM(C26:N26) -> 250718086 | Q26: =SUM(Q15:Q25) -> 250718086
A27: 24. | B27: Egyenleg | C27: =C13-C26 -> -511139 | D27: =D13-D26 -> -511139 | E27: =E13-E26 -> -3183861 | F27: =F13-F26 -> -1728139 | G27: =G13-G26 -> 13161243 | H27: =H13-H26 -> -511139 | I27: =I13-I26 -> -1728139 | J27: =J13-J26 -> -511139 | ... O27: =O13-O26 -> -8

Sheet 7.m
A1: Megnevezés | B1: Engedélyezett létszám | F1: Létszámváltozás | J1: Engedélyezett létszám
B2: 43101 | F2: 43132 | J2: 42767
B3: Kötelező | C3: Önként vállalt | D3: Államig. | E3: Összesen | F3: Kötelező | G3: Önként vállalt | H3: Államig. | I3: Összesen | J3: Kötelező | K3: Önként vállalt | L3: Államig. | M3: Összesen
A5: Gondozási Központ | B5: 45.8 | C5: 4.7 | D5: 0 | E5: =B5+C5+D5 -> 50.5 | F5: 1 | I5: =SUM(F5:H5) -> 1 | J5: =B5+F5 -> 46.8 | K5: =C5+G5 -> 4.7 | L5: =D5+H5 -> 0 | M5: =J5+K5+L5 -> 51.5
A7: Összesen | B7: =SUM(B5:B6) -> 45.8 | C7: =SUM(C5:C6) -> 4.7 | D7: =SUM(D5:D6) -> 0 | E7: =SUM(E5:E6) -> 50.5 | F7: =SUM(F5:F6) -> 1 | G7: =SUM(G5:G6) -> 0 | H7: =SUM(H5:H6) -> 0 | I7: =SUM(I5:I6) -> 1 | ... M7: =SUM(M5:M6) -> 51.5

Sheet 8.m
A1: VÖLGYSÉGI ÖNKORMÁNYZATOK TÁRSULÁSA 2018. ÉVI KÖLTSÉGVETÉSÉNEK PÉNZÜGYI MÉRLEGE
A2: B E V É T E L E K
E3: ='[1]11.sz.mell'!F7 -> Forintban!
A4: Sor- szám | B4: Bevételi jogcím | C4: 2016. évi tény | D4: 2017. évi várható | E4: 2018. évi előirányzat
A5: 1 | B5: 2 | C5: 3 | D5: 4 | E5: 5
A6: 1. | B6: Társulás működési támogatásai | E6: ='1.1.sz.mell.'!C5 -> 0
A7: 2. | B7: Működési célú támogatások államháztartáson belülről | C7: 136847952 | D7: 166608841 | E7: ='1.1.sz.mell.'!C6 -> 129997340
A8: 3. | B8: Felhalmozási célú támogatások államháztartáson belülről | E8: ='1.1.sz.mell.'!C13 -> 0
A9: 4. | B9: Működési bevételek (5.1.+…+ 5.10.) | C9: =SUM(C10:C19) -> 86959421 | D9: =SUM(D10:D19) -> 105933440 | E9: =SUM(E10:E19) -> 96580000
A10: 4.1 | B10: Készletértékesítés ellenértéke | C10: 26186 | E10: ='1.1.sz.mell.'!C28 -> 0
A11: 4.2 | B11: Szolgáltatások ellenértéke | C11: 44637916 | D11: 60552985 | E11: ='1.1.sz.mell.'!C29 -> 0
A12: 4.3 | B12: Közvetített szolgáltatások értéke | C12: 119040 | D12: 43035 | E12: ='1.1.sz.mell.'!C30 -> 0
A13: 4.4 | B13: Tulajdonosi bevételek | E13: ='1.1.sz.mell.'!C31 -> 0
A14: 4.5 | B14: Ellátási díjak | C14: 38440754 | D14: 41373809 | E14: ='1.1.sz.mell.'!C32 -> 0
A15: 4.6 | B15: Kiszámlázott általános forgalmi adó | C15: 3172658 | D15: 3650871 | E15: ='1.1.sz.mell.'!C33 -> 0
A16: 4.7 | B16: Általános forgalmi adó visszatérítése | C16: 0 | D16: 304000 | E16: ='1.1.sz.mell.'!C34 -> 0
A17: 4.8 | B17: Kamatbevételek | C17: 17276 | D17: 3740 | E17: ='1.1.sz.mell.'!C35 -> 0
A18: 4.9 | B18: Egyéb pénzügyi műveletek bevételei | C18: 535748 | E18: ='1.1.sz.mell.'!C36 -> 0
A19: 4.10 | B19: Egyéb működési bevételek | C19: 9843 | D19: 5000 | E19: ='1.1.sz.mell.'!C37 -> 96580000
A20: 5. | B20: Felhalmozási bevételek (5.1.+…+5.5.) | C20: =SUM(C21:C25) -> 0 | D20: =SUM(D21:D25) -> 0 | E20: =SUM(E21:E25) -> 0
A21: 5.1. | B21: Immateriális javak értékesítése | E21: ='1.1.sz.mell.'!C39 -> 0
A22: 5.2. | B22: Ingatlanok értékesítése | E22: ='1.1.sz.mell.'!C40 -> 0
A23: 5.3. | B23: Egyéb tárgyi eszköz értékesítése | E23: ='1.1.sz.mell.'!C41 -> 0
A24: 5.4. | B24: Részesedések értékesítése | E24: ='1.1.sz.mell.'!C42 -> 0
A25: 5.5. | B25: Részesedések megszűnéséhez kapcsolódó bevételek | E25: ='1.1.sz.mell.'!C43 -> 0
A26: 6. | B26: Működési célú átvett pénzeszközök | E26: ='1.1.sz.mell.'!C44 -> 0
A27: 7. | B27: Felhalmozási célú átvett pénzeszközök | E27: ='1.1.sz.mell.'!C49 -> 0
A28: 8. | B28: KÖLTSÉGVETÉSI BEVÉTELEK ÖSSZESEN: (1+…+7) | C28: =+C6+C7+C8+C9+C20+C26+C27 -> 223807373 | D28: =+D6+D7+D8+D9+D20+D26+D27 -> 272542281 | E28: =+E6+E7+E8+E9+E20+E26+E27 -> 226577340
A29: 9. | B29: Hitel-, kölcsönfelvétel államháztartáson kívülről (9.1.+…+9.3.) | C29: =SUM(C30:C32) -> 0 | D29: =SUM(D30:D32) -> 0 | E29: =SUM(E30:E32) -> 0
A30: 9.1. | B30: Hosszú lejáratú hitelek, kölcsönök felvétele
A31: 9.2. | B31: Likviditási célú hitelek, kölcsönök felvétele pénzügyi vállalkozástól
A32: 9.3. | B32: Rövid lejáratú hitelek, kölcsönök felvétele
A33: 10. | B33: Belföldi értékpapírok bevételei
A34: 11. | B34: Maradvány igénybevétele (11.1.+11.2.) | C34: =SUM(C35:C36) -> 7496587 | D34: =SUM(D35:D36) -> 17321444 | E34: =SUM(E35:E36) -> 24140746
A35: 11.1. | B35: Előző év költségvetési maradványának igénybevétele | C35: 7496587 | D35: 17321444 | E35: ='1.1.sz.mell.'!C65 -> 24140746
A36: 11.2. | B36: Előző év vállalkozási maradványának igénybevétele | E36: ='1.1.sz.mell.'!C66 -> 0
A37: 12. | B37: Belföldi finanszírozás bevételei (12.1.+…+12.3.) | C37: =SUM(C38:C40) -> 0 | D37: =SUM(D38:D40) -> 0 | E37: =SUM(E38:E40) -> 0
A38: 12.1. | B38: Államháztartáson belüli megelőlegezések
A39: 12.2. | B39: Államháztartáson belüli megelőlegezések törlesztése
A40: 12.3. | B40: Betétek megszüntetése
A41: 13. | B41: Külföldi finanszírozás bevételei
A42: 14. | B42: Adóssághoz nem kapcsolódó származékos ügyletek bevételei
A43: 15. | B43: FINANSZÍROZÁSI BEVÉTELEK ÖSSZESEN (9.+…+14.) | C43: =+C29+C33+C34+C37+C41+C42 -> 7496587 | D43: =+D29+D33+D34+D37+D41+D42 -> 17321444 | E43: =+E29+E33+E34+E37+E41+E42 -> 24140746
A44: 16. | B44: BEVÉTELEK ÖSSZESEN: (8.+15.) | C44: =+C28+C43 -> 231303960 | D44: =+D28+D43 -> 289863725 | E44: =+E28+E43 -> 250718086
A46: K I A D Á S O K
E47: =E3 -> Forintban!
A48: Sor-szám | B48: Kiadási jogcímek | C48: =+C4 -> 2016. évi tény | D48: =+D4 -> 2017. évi várható | E48: =+E4 -> 2018. évi előirányzat
A49: 1 | B49: 2 | C49: 3 | D49: 4 | E49: 5
A50: 1. | B50: Működési költségvetés kiadásai (1.1+…+1.5.+1.6.) | C50: =+C51+C52+C53+C54+C55+C56 -> 212784252 | D50: =+D51+D52+D53+D54+D55+D56 -> 263804938 | E50: =+E51+E52+E53+E54+E55+E56 -> 248913086
A51: 1.1. | B51: Személyi juttatások | C51: 114974023 | D51: 136726485 | E51: ='1.1.sz.mell.'!C85 -> 141314000
A52: 1.2. | B52: Munkaadókat terhelő járulékok és szociális hozzájárulási adó | C52: 34048549 | D52: 33762411 | E52: ='1.1.sz.mell.'!C86 -> 31739000
A53: 1.3. | B53: Dologi kiadások | C53: 47143151 | D53: 61426332 | E53: ='1.1.sz.mell.'!C87 -> 59658000
A54: 1.4. | B54: Ellátottak pénzbeli juttatásai | E54: ='1.1.sz.mell.'!C88 -> 0
A55: 1.5. | B55: Egyéb működési célú kiadások | C55: 16618529 | D55: 31889710 | E55: ='1.1.sz.mell.'!C89 -> 8033722
A56: 1.6. | B56: Tartalékok | E56: ='1.1.sz.mell.'!C96 -> 8168364
A57: 2. | B57: II. Felhalmozási költségvetés kiadásai (2.1+…+2.5) | C57: =+C58+C60+C62 -> 1198266 | D57: =+D58+D60+D62 -> 1663780 | E57: =+E58+E60+E62 -> 1805000
A58: 2.1. | B58: Beruházások | C58: 1198266 | D58: 1663780 | E58: ='1.1.sz.mell.'!C91 -> 1805000
A59: 2.2. | B59: 2.1.-ból EU-s forrásból megvalósuló beruházás
A60: 2.3. | B60: Felújítások
A61: 2.4. | B61: 2.3.-ból EU-s forrásból megvalósuló felújítás
A62: 2.5. | B62: Egyéb felhalmozási kiadások
A63: 3. | B63: KÖLTSÉGVETÉSI KIADÁSOK ÖSSZESEN: (1.+2.) | C63: =+C50+C57 -> 213982518 | D63: =+D50+D57 -> 265468718 | E63: =+E50+E57 -> 250718086
A64: 4. | B64: Hitel-, kölcsöntörlesztés államháztartáson kívülre (4.1.+…+4.3.) | C64: =SUM(C65:C67) -> 0 | D64: =SUM(D65:D67) -> 0 | E64: =SUM(E65:E67) -> 0
A65: 4.1. | B65: Hosszú lejáratú hitelek, kölcsönök törlesztése
A66: 4.2. | B66: Likviditási célú hitelek, kölcsönök törlesztése pénzügyi vállalkozásnak
A67: 4.3. | B67: Rövid lejáratú hitelek, kölcsönök törlesztése
A68: 5. | B68: Belföldi értékpapírok kiadásai (5.1.+…+5.4.) | C68: =SUM(C69:C72) -> 0 | D68: =SUM(D69:D72) -> 0 | E68: =SUM(E69:E72) -> 0
A69: 5.1. | B69: Forgatási célú belföldi értékpapírok vásárlása
A70: 5.2. | B70: Forgatási célú belföldi értékpapírok beváltása
A71: 5.3. | B71: Befektetési célú belföldi értékpapírok vásárlása
A72: 5.4. | B72: Befektetési célú belföldi értékpapírok beváltása
A73: 6. | B73: Belföldi finanszírozás kiadásai (6.1.+…+6.4.) | C73: =SUM(C74:C77) -> 0 | D73: =SUM(D74:D77) -> 0 | E73: =SUM(E74:E77) -> 0
A74: 6.1. | B74: Államháztartáson belüli megelőlegezések folyósítása
A75: 6.2. | B75: Államháztartáson belüli megelőlegezések visszafizetése
A76: 6.3. | B76: Pénzeszközök betétként elhelyezése
A77: 6.4. | B77: Pénzügyi lízing kiadásai
A78: 7. | B78: Külföldi finanszírozás kiadásai
A79: 8. | B79: Adóssághoz nem kapcsolódó származékos ügyletek kiadásai
A80: 9. | B80: FINANSZÍROZÁSI KIADÁSOK ÖSSZESEN (4.+…+8.) | C80: =+C64+C68+C73+C78+C79 -> 0 | D80: =+D64+D68+D73+D78+D79 -> 0 | E80: =+E64+E68+E73+E78+E79 -> 0
A81: 10. | B81: KIADÁSOK ÖSSZESEN: (3.+9.) | C81: =+C63+C80 -> 213982518 | D81: =+D63+D80 -> 265468718 | E81: =+E63+E80 -> 250718086

Sheet 9.m
A1: EU-s projekt neve, azonosítója: | B1: TOP-5.1.2-15-TL1-2016-00001 Foglalkoztatási paktum
D2: Forintban!
A3: Források | B3: 2017. | C3: 2018. | D3: 2018. után | E3: Összesen
A4: Saját erő | E4: =SUM(B4:D4) -> 0
A5: - saját erőből központi támogatás | E5: =SUM(B5:D5) -> 0
A6: EU-s forrás | B6: 29015617 | E6: =SUM(B6:D6) -> 29015617
A7: Társfinanszírozás | E7: =SUM(B7:D7) -> 0
A8: Hitel | E8: =SUM(B8:D8) -> 0
A9: Egyéb forrás
A10: Források összesen: | B10: =B4+SUM(B6:B9) -> 29015617 | C10: =C4+SUM(C6:C9) -> 0 | D10: =D4+SUM(D6:D9) -> 0 | E10: =E4+SUM(E6:E9) -> 29015617
A12: Kiadások, költségek | B12: 2017. | C12: 2018. | D12: 2018. után | E12: Összesen
A13: Személyi jellegű | B13: 1746660 | C13: 11353000 | D13: 11353230 | E13: =SUM(B13:D13) -> 24452890
A14: Beruházások, beszerzések | C14: 55000 | D14: 412258 | E14: =SUM(B14:D14) -> 467258
A15: Szolgáltatások igénybe vétele | C15: 2228000 | D15: 1867469 | E15: =SUM(B15:D15) -> 4095469
A16: Adminisztratív költségek | E16: =SUM(B16:D16) -> 0
E17: =SUM(B17:D17) -> 0
E18: =SUM(B18:D18) -> 0
E19: =SUM(B19:D19) -> 0
A20: Összesen: | B20: =SUM(B13:B19) -> 1746660 | C20: =SUM(C13:C19) -> 13636000 | D20: =SUM(D13:D19) -> 13632957 | E20: =SUM(E13:E19) -> 29015617
