Workbook

Sheet 1.1.sz.mell.
A1: B E V É T E L E K
A2: 1. sz. táblázat | C2: Forintban | D2: Ezer forintban | E2: Ezer forintban | F2: Ezer forintban | G2: Ezer forintban
A3: Sor- szám | B3: Bevételi jogcím | C3: 2018. évi előirányzat | D3: Javasolt módosítás | E3: Módosított előirányzat | F3: Társulási Tanács által javasolt módosítás | G3: Módosított előirányzat
A4: 1 | B4: 2 | C4: 3 | D4: 3 | E4: 3 | F4: 3 | G4: 3
A5: 1. | B5: Társulás működési támogatásai | D5: =+#REF!+#REF!+#REF!+#REF!+#REF!+#REF! -> #REF! | E5: =+#REF!+#REF!+#REF!+#REF!+#REF!+#REF! -> #REF! | F5: =+#REF!+#REF!+#REF!+#REF!+#REF!+#REF! -> #REF! | G5: =+#REF!+#REF!+#REF!+#REF!+#REF!+#REF! -> #REF!
A6: 2. | B6: Működési célú támogatások államháztartáson belülről (2.1.+…+.2.5.) | C6: =+C7+C8+C9+C10+C11 -> 129997340 | D6: =+D7+D8+D9+D10+D11 -> 0 | E6: =+E7+E8+E9+E10+E11 -> 0 | F6: =+F7+F8+F9+F10+F11 -> 0 | G6: =+G7+G8+G9+G10+G11 -> 0
A7: 2.1. | B7: Elvonások és befizetések bevételei | C7: ='1.2.sz.mell.'!C7+'1.3.sz.mell.'!C7+'1.4.sz.mell.'!C7 -> 0 | D7: ='1.2.sz.mell.'!H7+'1.3.sz.mell.'!H7+'1.4.sz.mell.'!H7 -> 0 | E7: ='1.2.sz.mell.'!I7+'1.3.sz.mell.'!I7+'1.4.sz.mell.'!I7 -> 0 | F7: ='1.2.sz.mell.'!J7+'1.3.sz.mell.'!J7+'1.4.sz.mell.'!J7 -> 0 | G7: ='1.2.sz.mell.'!K7+'1.3.sz.mell.'!K7+'1.4.sz.mell.'!K7 -> 0
A8: 2.2. | B8: Működési célú garancia- és kezességvállalásból megtérülések | C8: ='1.2.sz.mell.'!C8+'1.3.sz.mell.'!C8+'1.4.sz.mell.'!C8 -> 0 | D8: ='1.2.sz.mell.'!H8+'1.3.sz.mell.'!H8+'1.4.sz.mell.'!H8 -> 0 | E8: ='1.2.sz.mell.'!I8+'1.3.sz.mell.'!I8+'1.4.sz.mell.'!I8 -> 0 | F8: ='1.2.sz.mell.'!J8+'1.3.sz.mell.'!J8+'1.4.sz.mell.'!J8 -> 0 | G8: ='1.2.sz.mell.'!K8+'1.3.sz.mell.'!K8+'1.4.sz.mell.'!K8 -> 0
A9: 2.3. | B9: Működési célú visszatérítendő támogatások, kölcsönök visszatérülése | C9: ='1.2.sz.mell.'!C9+'1.3.sz.mell.'!C9+'1.4.sz.mell.'!C9 -> 0 | D9: ='1.2.sz.mell.'!H9+'1.3.sz.mell.'!H9+'1.4.sz.mell.'!H9 -> 0 | E9: ='1.2.sz.mell.'!I9+'1.3.sz.mell.'!I9+'1.4.sz.mell.'!I9 -> 0 | F9: ='1.2.sz.mell.'!J9+'1.3.sz.mell.'!J9+'1.4.sz.mell.'!J9 -> 0 | G9: ='1.2.sz.mell.'!K9+'1.3.sz.mell.'!K9+'1.4.sz.mell.'!K9 -> 0
A10: 2.4. | B10: Működési célú visszatérítendő támogatások, kölcsönök igénybevétele | C10: ='1.2.sz.mell.'!C10+'1.3.sz.mell.'!C10+'1.4.sz.mell.'!C10 -> 0 | D10: ='1.2.sz.mell.'!H10+'1.3.sz.mell.'!H10+'1.4.sz.mell.'!H10 -> 0 | E10: ='1.2.sz.mell.'!I10+'1.3.sz.mell.'!I10+'1.4.sz.mell.'!I10 -> 0 | F10: ='1.2.sz.mell.'!J10+'1.3.sz.mell.'!J10+'1.4.sz.mell.'!J10 -> 0 | G10: ='1.2.sz.mell.'!K10+'1.3.sz.mell.'!K10+'1.4.sz.mell.'!K10 -> 0
A11: 2.5. | B11: Egyéb működési célú támogatások bevételei | C11: ='1.2.sz.mell.'!C11+'1.3.sz.mell.'!C11+'1.4.sz.mell.'!C11 -> 129997340 | D11: ='1.2.sz.mell.'!H11+'1.3.sz.mell.'!H11+'1.4.sz.mell.'!H11 -> 0 | E11: ='1.2.sz.mell.'!I11+'1.3.sz.mell.'!I11+'1.4.sz.mell.'!I11 -> 0 | F11: ='1.2.sz.mell.'!J11+'1.3.sz.mell.'!J11+'1.4.sz.mell.'!J11 -> 0 | G11: ='1.2.sz.mell.'!K11+'1.3.sz.mell.'!K11+'1.4.sz.mell.'!K11 -> 0
A12: 2.6. | B12: 2.5.-ből EU-s támogatás | C12: ='1.2.sz.mell.'!C12+'1.3.sz.mell.'!C12+'1.4.sz.mell.'!C12 -> 5594340 | D12: ='1.2.sz.mell.'!H12+'1.3.sz.mell.'!H12+'1.4.sz.mell.'!H12 -> 0 | E12: ='1.2.sz.mell.'!I12+'1.3.sz.mell.'!I12+'1.4.sz.mell.'!I12 -> 0 | F12: ='1.2.sz.mell.'!J12+'1.3.sz.mell.'!J12+'1.4.sz.mell.'!J12 -> 0 | G12: ='1.2.sz.mell.'!K12+'1.3.sz.mell.'!K12+'1.4.sz.mell.'!K12 -> 0
A13: 3. | B13: Felhalmozási célú támogatások államháztartáson belülről (3.1.+…+3.5.) | C13: =+C14+C15+C16+C17+C18 -> 0 | D13: =+D14+D15+D16+D17+D18 -> 0 | E13: =+E14+E15+E16+E17+E18 -> 0 | F13: =+F14+F15+F16+F17+F18 -> 0 | G13: =+G14+G15+G16+G17+G18 -> 0
A14: 3.1. | B14: Felhalmozási célú önkormányzati támogatások | C14: ='1.2.sz.mell.'!C14+'1.3.sz.mell.'!C14+'1.4.sz.mell.'!C14 -> 0 | D14: ='1.2.sz.mell.'!H14+'1.3.sz.mell.'!H14+'1.4.sz.mell.'!H14 -> 0 | E14: ='1.2.sz.mell.'!I14+'1.3.sz.mell.'!I14+'1.4.sz.mell.'!I14 -> 0 | F14: ='1.2.sz.mell.'!J14+'1.3.sz.mell.'!J14+'1.4.sz.mell.'!J14 -> 0 | G14: ='1.2.sz.mell.'!K14+'1.3.sz.mell.'!K14+'1.4.sz.mell.'!K14 -> 0
A15: 3.2. | B15: Felhalmozási célú garancia- és kezességvállalásból megtérülések | C15: ='1.2.sz.mell.'!C15+'1.3.sz.mell.'!C15+'1.4.sz.mell.'!C15 -> 0 | D15: ='1.2.sz.mell.'!H15+'1.3.sz.mell.'!H15+'1.4.sz.mell.'!H15 -> 0 | E15: ='1.2.sz.mell.'!I15+'1.3.sz.mell.'!I15+'1.4.sz.mell.'!I15 -> 0 | F15: ='1.2.sz.mell.'!J15+'1.3.sz.mell.'!J15+'1.4.sz.mell.'!J15 -> 0 | G15: ='1.2.sz.mell.'!K15+'1.3.sz.mell.'!K15+'1.4.sz.mell.'!K15 -> 0
A16: 3.3. | B16: Felhalmozási célú visszatérítendő támogatások, kölcsönök visszatérülése | C16: ='1.2.sz.mell.'!C16+'1.3.sz.mell.'!C16+'1.4.sz.mell.'!C16 -> 0 | D16: ='1.2.sz.mell.'!H16+'1.3.sz.mell.'!H16+'1.4.sz.mell.'!H16 -> 0 | E16: ='1.2.sz.mell.'!I16+'1.3.sz.mell.'!I16+'1.4.sz.mell.'!I16 -> 0 | F16: ='1.2.sz.mell.'!J16+'1.3.sz.mell.'!J16+'1.4.sz.mell.'!J16 -> 0 | G16: ='1.2.sz.mell.'!K16+'1.3.sz.mell.'!K16+'1.4.sz.mell.'!K16 -> 0
A17: 3.4. | B17: Felhalmozási célú visszatérítendő támogatások, kölcsönök igénybevétele | C17: ='1.2.sz.mell.'!C17+'1.3.sz.mell.'!C17+'1.4.sz.mell.'!C17 -> 0 | D17: ='1.2.sz.mell.'!H17+'1.3.sz.mell.'!H17+'1.4.sz.mell.'!H17 -> 0 | E17: ='1.2.sz.mell.'!I17+'1.3.sz.mell.'!I17+'1.4.sz.mell.'!I17 -> 0 | F17: ='1.2.sz.mell.'!J17+'1.3.sz.mell.'!J17+'1.4.sz.mell.'!J17 -> 0 | G17: ='1.2.sz.mell.'!K17+'1.3.sz.mell.'!K17+'1.4.sz.mell.'!K17 -> 0
A18: 3.5. | B18: Egyéb felhalmozási célú támogatások bevételei | C18: ='1.2.sz.mell.'!C18+'1.3.sz.mell.'!C18+'1.4.sz.mell.'!C18 -> 0 | D18: ='1.2.sz.mell.'!H18+'1.3.sz.mell.'!H18+'1.4.sz.mell.'!H18 -> 0 | E18: ='1.2.sz.mell.'!I18+'1.3.sz.mell.'!I18+'1.4.sz.mell.'!I18 -> 0 | F18: ='1.2.sz.mell.'!J18+'1.3.sz.mell.'!J18+'1.4.sz.mell.'!J18 -> 0 | G18: ='1.2.sz.mell.'!K18+'1.3.sz.mell.'!K18+'1.4.sz.mell.'!K18 -> 0
A19: 3.6. | B19: 3.5.-ből EU-s támogatás | C19: ='1.2.sz.mell.'!C19+'1.3.sz.mell.'!C19+'1.4.sz.mell.'!C19 -> 0 | D19: ='1.2.sz.mell.'!H19+'1.3.sz.mell.'!H19+'1.4.sz.mell.'!H19 -> 0 | E19: ='1.2.sz.mell.'!I19+'1.3.sz.mell.'!I19+'1.4.sz.mell.'!I19 -> 0 | F19: ='1.2.sz.mell.'!J19+'1.3.sz.mell.'!J19+'1.4.sz.mell.'!J19 -> 0 | G19: ='1.2.sz.mell.'!K19+'1.3.sz.mell.'!K19+'1.4.sz.mell.'!K19 -> 0
A20: 4. | B20: Közhatalmi bevételek | C20: =+C21+C24+C25+C26 -> 0 | D20: =+D21+D24+D25+D26 -> 0 | E20: =+E21+E24+E25+E26 -> 0 | F20: =+F21+F24+F25+F26 -> 0 | G20: =+G21+G24+G25+G26 -> 0
A21: 4.1. | B21: Helyi adók (4.1.1.+4.1.2.) | C21: ='1.2.sz.mell.'!C21+'1.3.sz.mell.'!C21+'1.4.sz.mell.'!C21 -> 0 | D21: ='1.2.sz.mell.'!H21+'1.3.sz.mell.'!H21+'1.4.sz.mell.'!H21 -> 0 | E21: ='1.2.sz.mell.'!I21+'1.3.sz.mell.'!I21+'1.4.sz.mell.'!I21 -> 0 | F21: ='1.2.sz.mell.'!J21+'1.3.sz.mell.'!J21+'1.4.sz.mell.'!J21 -> 0 | G21: ='1.2.sz.mell.'!K21+'1.3.sz.mell.'!K21+'1.4.sz.mell.'!K21 -> 0
A22: 4.1.1. | B22: - Vagyoni típusú adók | C22: ='1.2.sz.mell.'!C22+'1.3.sz.mell.'!C22+'1.4.sz.mell.'!C22 -> 0 | D22: ='1.2.sz.mell.'!H22+'1.3.sz.mell.'!H22+'1.4.sz.mell.'!H22 -> 0 | E22: ='1.2.sz.mell.'!I22+'1.3.sz.mell.'!I22+'1.4.sz.mell.'!I22 -> 0 | F22: ='1.2.sz.mell.'!J22+'1.3.sz.mell.'!J22+'1.4.sz.mell.'!J22 -> 0 | G22: ='1.2.sz.mell.'!K22+'1.3.sz.mell.'!K22+'1.4.sz.mell.'!K22 -> 0
A23: 4.1.2. | B23: - Termékek és szolgáltatások adói | C23: ='1.2.sz.mell.'!C23+'1.3.sz.mell.'!C23+'1.4.sz.mell.'!C23 -> 0 | D23: ='1.2.sz.mell.'!H23+'1.3.sz.mell.'!H23+'1.4.sz.mell.'!H23 -> 0 | E23: ='1.2.sz.mell.'!I23+'1.3.sz.mell.'!I23+'1.4.sz.mell.'!I23 -> 0 | F23: ='1.2.sz.mell.'!J23+'1.3.sz.mell.'!J23+'1.4.sz.mell.'!J23 -> 0 | G23: ='1.2.sz.mell.'!K23+'1.3.sz.mell.'!K23+'1.4.sz.mell.'!K23 -> 0
A24: 4.2. | B24: Gépjárműadó | C24: ='1.2.sz.mell.'!C24+'1.3.sz.mell.'!C24+'1.4.sz.mell.'!C24 -> 0 | D24: ='1.2.sz.mell.'!H24+'1.3.sz.mell.'!H24+'1.4.sz.mell.'!H24 -> 0 | E24: ='1.2.sz.mell.'!I24+'1.3.sz.mell.'!I24+'1.4.sz.mell.'!I24 -> 0 | F24: ='1.2.sz.mell.'!J24+'1.3.sz.mell.'!J24+'1.4.sz.mell.'!J24 -> 0 | G24: ='1.2.sz.mell.'!K24+'1.3.sz.mell.'!K24+'1.4.sz.mell.'!K24 -> 0
A25: 4.3. | B25: Egyéb áruhasználati és szolgáltatási adók | C25: ='1.2.sz.mell.'!C25+'1.3.sz.mell.'!C25+'1.4.sz.mell.'!C25 -> 0 | D25: ='1.2.sz.mell.'!H25+'1.3.sz.mell.'!H25+'1.4.sz.mell.'!H25 -> 0 | E25: ='1.2.sz.mell.'!I25+'1.3.sz.mell.'!I25+'1.4.sz.mell.'!I25 -> 0 | F25: ='1.2.sz.mell.'!J25+'1.3.sz.mell.'!J25+'1.4.sz.mell.'!J25 -> 0 | G25: ='1.2.sz.mell.'!K25+'1.3.sz.mell.'!K25+'1.4.sz.mell.'!K25 -> 0
A26: 4.4. | B26: Egyéb közhatalmi bevételek | C26: ='1.2.sz.mell.'!C26+'1.3.sz.mell.'!C26+'1.4.sz.mell.'!C26 -> 0 | D26: ='1.2.sz.mell.'!H26+'1.3.sz.mell.'!H26+'1.4.sz.mell.'!H26 -> 0 | E26: ='1.2.sz.mell.'!I26+'1.3.sz.mell.'!I26+'1.4.sz.mell.'!I26 -> 0 | F26: ='1.2.sz.mell.'!J26+'1.3.sz.mell.'!J26+'1.4.sz.mell.'!J26 -> 0 | G26: ='1.2.sz.mell.'!K26+'1.3.sz.mell.'!K26+'1.4.sz.mell.'!K26 -> 0
A27: 5. | B27: Működési bevételek (5.1.+…+ 5.10.) | C27: =SUM(C28:C37) -> 96580000 | D27: =SUM(D28:D37) -> 0 | E27: =SUM(E28:E37) -> 0 | F27: =SUM(F28:F37) -> 0 | G27: =SUM(G28:G37) -> 0
A28: 5.1. | B28: Készletértékesítés ellenértéke | C28: ='1.2.sz.mell.'!C28+'1.3.sz.mell.'!C28+'1.4.sz.mell.'!C28 -> 0 | D28: ='1.2.sz.mell.'!H28+'1.3.sz.mell.'!H28+'1.4.sz.mell.'!H28 -> 0 | E28: ='1.2.sz.mell.'!I28+'1.3.sz.mell.'!I28+'1.4.sz.mell.'!I28 -> 0 | F28: ='1.2.sz.mell.'!J28+'1.3.sz.mell.'!J28+'1.4.sz.mell.'!J28 -> 0 | G28: ='1.2.sz.mell.'!K28+'1.3.sz.mell.'!K28+'1.4.sz.mell.'!K28 -> 0
A29: 5.2. | B29: Szolgáltatások ellenértéke | C29: ='1.2.sz.mell.'!C29+'1.3.sz.mell.'!C29+'1.4.sz.mell.'!C29 -> 0 | D29: ='1.2.sz.mell.'!H29+'1.3.sz.mell.'!H29+'1.4.sz.mell.'!H29 -> 0 | E29: ='1.2.sz.mell.'!I29+'1.3.sz.mell.'!I29+'1.4.sz.mell.'!I29 -> 0 | F29: ='1.2.sz.mell.'!J29+'1.3.sz.mell.'!J29+'1.4.sz.mell.'!J29 -> 0 | G29: ='1.2.sz.mell.'!K29+'1.3.sz.mell.'!K29+'1.4.sz.mell.'!K29 -> 0
A30: 5.3. | B30: Közvetített szolgáltatások értéke | C30: ='1.2.sz.mell.'!C30+'1.3.sz.mell.'!C30+'1.4.sz.mell.'!C30 -> 0 | D30: ='1.2.sz.mell.'!H30+'1.3.sz.mell.'!H30+'1.4.sz.mell.'!H30 -> 0 | E30: ='1.2.sz.mell.'!I30+'1.3.sz.mell.'!I30+'1.4.sz.mell.'!I30 -> 0 | F30: ='1.2.sz.mell.'!J30+'1.3.sz.mell.'!J30+'1.4.sz.mell.'!J30 -> 0 | G30: ='1.2.sz.mell.'!K30+'1.3.sz.mell.'!K30+'1.4.sz.mell.'!K30 -> 0
A31: 5.4. | B31: Tulajdonosi bevételek | C31: ='1.2.sz.mell.'!C31+'1.3.sz.mell.'!C31+'1.4.sz.mell.'!C31 -> 0 | D31: ='1.2.sz.mell.'!H31+'1.3.sz.mell.'!H31+'1.4.sz.mell.'!H31 -> 0 | E31: ='1.2.sz.mell.'!I31+'1.3.sz.mell.'!I31+'1.4.sz.mell.'!I31 -> 0 | F31: ='1.2.sz.mell.'!J31+'1.3.sz.mell.'!J31+'1.4.sz.mell.'!J31 -> 0 | G31: ='1.2.sz.mell.'!K31+'1.3.sz.mell.'!K31+'1.4.sz.mell.'!K31 -> 0
A32: 5.5. | B32: Ellátási díjak | C32: ='1.2.sz.mell.'!C32+'1.3.sz.mell.'!C32+'1.4.sz.mell.'!C32 -> 0 | D32: ='1.2.sz.mell.'!H32+'1.3.sz.mell.'!H32+'1.4.sz.mell.'!H32 -> 0 | E32: ='1.2.sz.mell.'!I32+'1.3.sz.mell.'!I32+'1.4.sz.mell.'!I32 -> 0 | F32: ='1.2.sz.mell.'!J32+'1.3.sz.mell.'!J32+'1.4.sz.mell.'!J32 -> 0 | G32: ='1.2.sz.mell.'!K32+'1.3.sz.mell.'!K32+'1.4.sz.mell.'!K32 -> 0
A33: 5.6. | B33: Kiszámlázott általános forgalmi adó | C33: ='1.2.sz.mell.'!C33+'1.3.sz.mell.'!C33+'1.4.sz.mell.'!C33 -> 0 | D33: ='1.2.sz.mell.'!H33+'1.3.sz.mell.'!H33+'1.4.sz.mell.'!H33 -> 0 | E33: ='1.2.sz.mell.'!I33+'1.3.sz.mell.'!I33+'1.4.sz.mell.'!I33 -> 0 | F33: ='1.2.sz.mell.'!J33+'1.3.sz.mell.'!J33+'1.4.sz.mell.'!J33 -> 0 | G33: ='1.2.sz.mell.'!K33+'1.3.sz.mell.'!K33+'1.4.sz.mell.'!K33 -> 0
A34: 5.7. | B34: Általános forgalmi adó visszatérítése | C34: ='1.2.sz.mell.'!C34+'1.3.sz.mell.'!C34+'1.4.sz.mell.'!C34 -> 0 | D34: ='1.2.sz.mell.'!H34+'1.3.sz.mell.'!H34+'1.4.sz.mell.'!H34 -> 0 | E34: ='1.2.sz.mell.'!I34+'1.3.sz.mell.'!I34+'1.4.sz.mell.'!I34 -> 0 | F34: ='1.2.sz.mell.'!J34+'1.3.sz.mell.'!J34+'1.4.sz.mell.'!J34 -> 0 | G34: ='1.2.sz.mell.'!K34+'1.3.sz.mell.'!K34+'1.4.sz.mell.'!K34 -> 0
A35: 5.8. | B35: Kamatbevételek | C35: ='1.2.sz.mell.'!C35+'1.3.sz.mell.'!C35+'1.4.sz.mell.'!C35 -> 0 | D35: ='1.2.sz.mell.'!H35+'1.3.sz.mell.'!H35+'1.4.sz.mell.'!H35 -> 0 | E35: ='1.2.sz.mell.'!I35+'1.3.sz.mell.'!I35+'1.4.sz.mell.'!I35 -> 0 | F35: ='1.2.sz.mell.'!J35+'1.3.sz.mell.'!J35+'1.4.sz.mell.'!J35 -> 0 | G35: ='1.2.sz.mell.'!K35+'1.3.sz.mell.'!K35+'1.4.sz.mell.'!K35 -> 0
A36: 5.9. | B36: Egyéb pénzügyi műveletek bevételei | C36: ='1.2.sz.mell.'!C36+'1.3.sz.mell.'!C36+'1.4.sz.mell.'!C36 -> 0 | D36: ='1.2.sz.mell.'!H36+'1.3.sz.mell.'!H36+'1.4.sz.mell.'!H36 -> 0 | E36: ='1.2.sz.mell.'!I36+'1.3.sz.mell.'!I36+'1.4.sz.mell.'!I36 -> 0 | F36: ='1.2.sz.mell.'!J36+'1.3.sz.mell.'!J36+'1.4.sz.mell.'!J36 -> 0 | G36: ='1.2.sz.mell.'!K36+'1.3.sz.mell.'!K36+'1.4.sz.mell.'!K36 -> 0
A37: 5.10. | B37: Egyéb működési bevételek | C37: ='1.2.sz.mell.'!C37+'1.3.sz.mell.'!C37+'1.4.sz.mell.'!C37 -> 96580000 | D37: ='1.2.sz.mell.'!H37+'1.3.sz.mell.'!H37+'1.4.sz.mell.'!H37 -> 0 | E37: ='1.2.sz.mell.'!I37+'1.3.sz.mell.'!I37+'1.4.sz.mell.'!I37 -> 0 | F37: ='1.2.sz.mell.'!J37+'1.3.sz.mell.'!J37+'1.4.sz.mell.'!J37 -> 0 | G37: ='1.2.sz.mell.'!K37+'1.3.sz.mell.'!K37+'1.4.sz.mell.'!K37 -> 0
A38: 6. | B38: Felhalmozási bevételek (6.1.+…+6.5.) | C38: =SUM(C39:C43) -> 0 | D38: =SUM(D39:D43) -> 0 | E38: =SUM(E39:E43) -> 0 | F38: =SUM(F39:F43) -> 0 | G38: =SUM(G39:G43) -> 0
A39: 6.1. | B39: Immateriális javak értékesítése | C39: ='1.2.sz.mell.'!C39+'1.3.sz.mell.'!C39+'1.4.sz.mell.'!C39 -> 0 | D39: ='1.2.sz.mell.'!H39+'1.3.sz.mell.'!H39+'1.4.sz.mell.'!H39 -> 0 | E39: ='1.2.sz.mell.'!I39+'1.3.sz.mell.'!I39+'1.4.sz.mell.'!I39 -> 0 | F39: ='1.2.sz.mell.'!J39+'1.3.sz.mell.'!J39+'1.4.sz.mell.'!J39 -> 0 | G39: ='1.2.sz.mell.'!K39+'1.3.sz.mell.'!K39+'1.4.sz.mell.'!K39 -> 0
A40: 6.2. | B40: Ingatlanok értékesítése | C40: ='1.2.sz.mell.'!C40+'1.3.sz.mell.'!C40+'1.4.sz.mell.'!C40 -> 0 | D40: ='1.2.sz.mell.'!H40+'1.3.sz.mell.'!H40+'1.4.sz.mell.'!H40 -> 0 | E40: ='1.2.sz.mell.'!I40+'1.3.sz.mell.'!I40+'1.4.sz.mell.'!I40 -> 0 | F40: ='1.2.sz.mell.'!J40+'1.3.sz.mell.'!J40+'1.4.sz.mell.'!J40 -> 0 | G40: ='1.2.sz.mell.'!K40+'1.3.sz.mell.'!K40+'1.4.sz.mell.'!K40 -> 0
...

Sheet 1.2.sz.mell.
A1: B E V É T E L E K
A2: 1. sz. táblázat | C2: Forintban | D2: Ezer forintban | E2: Ezer forintban | F2: Ezer forintban | G2: Ezer forintban
A3: Sor- szám | B3: Bevételi jogcím | C3: 2018. évi előirányzat | D3: Javasolt módosítás | E3: Módosított előirányzat | F3: Társulási Tanács által javasolt módosítás | G3: Módosított előirányzat
A4: 1 | B4: 2 | C4: 3 | D4: 3 | E4: 3 | F4: 3 | G4: 3
A5: 1. | B5: Társulás működési támogatásai | D5: =+#REF!+#REF!+#REF!+#REF!+#REF!+#REF! -> #REF! | E5: =+#REF!+#REF!+#REF!+#REF!+#REF!+#REF! -> #REF! | F5: =+#REF!+#REF!+#REF!+#REF!+#REF!+#REF! -> #REF! | G5: =+#REF!+#REF!+#REF!+#REF!+#REF!+#REF! -> #REF!
A6: 2. | B6: Működési célú támogatások államháztartáson belülről (2.1.+…+.2.5.) | C6: =+C7+C8+C9+C10+C11 -> 95053000 | D6: =+D7+D8+D9+D10+D11 -> 103445 | E6: =+E7+E8+E9+E10+E11 -> 103445 | F6: =+F7+F8+F9+F10+F11 -> 103445 | G6: =+G7+G8+G9+G10+G11 -> 103445
A7: 2.1. | B7: Elvonások és befizetések bevételei
A8: 2.2. | B8: Működési célú garancia- és kezességvállalásból megtérülések
A9: 2.3. | B9: Működési célú visszatérítendő támogatások, kölcsönök visszatérülése
A10: 2.4. | B10: Működési célú visszatérítendő támogatások, kölcsönök igénybevétele
A11: 2.5. | B11: Egyéb működési célú támogatások bevételei | C11: 95053000 | D11: 103445 | E11: 103445 | F11: 103445 | G11: 103445
A12: 2.6. | B12: 2.5.-ből EU-s támogatás
A13: 3. | B13: Felhalmozási célú támogatások államháztartáson belülről (3.1.+…+3.5.) | C13: =+C14+C15+C16+C17+C18 -> 0 | D13: =+D14+D15+D16+D17+D18 -> 0 | E13: =+E14+E15+E16+E17+E18 -> 0 | F13: =+F14+F15+F16+F17+F18 -> 0 | G13: =+G14+G15+G16+G17+G18 -> 0
A14: 3.1. | B14: Felhalmozási célú önkormányzati támogatások
A15: 3.2. | B15: Felhalmozási célú garancia- és kezességvállalásból megtérülések
A16: 3.3. | B16: Felhalmozási célú visszatérítendő támogatások, kölcsönök visszatérülése
A17: 3.4. | B17: Felhalmozási célú visszatérítendő támogatások, kölcsönök igénybevétele
A18: 3.5. | B18: Egyéb felhalmozási célú támogatások bevételei
A19: 3.6. | B19: 3.5.-ből EU-s támogatás
A20: 4. | B20: Közhatalmi bevételek | C20: =+C21+C24+C25+C26 -> 0 | D20: =+D21+D24+D25+D26 -> 0 | E20: =+E21+E24+E25+E26 -> 0 | F20: =+F21+F24+F25+F26 -> 0 | G20: =+G21+G24+G25+G26 -> 0
A21: 4.1. | B21: Helyi adók (4.1.1.+4.1.2.) | C21: =+C22+C23 -> 0 | D21: =+D22+D23 -> 0 | E21: =+E22+E23 -> 0 | F21: =+F22+F23 -> 0 | G21: =+G22+G23 -> 0
A22: 4.1.1. | B22: - Vagyoni típusú adók
A23: 4.1.2. | B23: - Termékek és szolgáltatások adói
A24: 4.2. | B24: Gépjárműadó
A25: 4.3. | B25: Egyéb áruhasználati és szolgáltatási adók
A26: 4.4. | B26: Egyéb közhatalmi bevételek
A27: 5. | B27: Működési bevételek (5.1.+…+ 5.10.) | C27: =SUM(C28:C37) -> 83650000 | D27: =SUM(D28:D37) -> 37314 | E27: =SUM(E28:E37) -> 37314 | F27: =SUM(F28:F37) -> 37314 | G27: =SUM(G28:G37) -> 37314
A28: 5.1. | B28: Készletértékesítés ellenértéke
A29: 5.2. | B29: Szolgáltatások ellenértéke | D29: 37314 | E29: 37314 | F29: 37314 | G29: 37314
A30: 5.3. | B30: Közvetített szolgáltatások értéke
A31: 5.4. | B31: Tulajdonosi bevételek
A32: 5.5. | B32: Ellátási díjak
A33: 5.6. | B33: Kiszámlázott általános forgalmi adó
A34: 5.7. | B34: Általános forgalmi adó visszatérítése
A35: 5.8. | B35: Kamatbevételek
A36: 5.9. | B36: Egyéb pénzügyi műveletek bevételei
A37: 5.10. | B37: Egyéb működési bevételek | C37: 83650000
A38: 6. | B38: Felhalmozási bevételek (6.1.+…+6.5.) | C38: =SUM(C39:C43) -> 0 | D38: =SUM(D39:D43) -> 0 | E38: =SUM(E39:E43) -> 0 | F38: =SUM(F39:F43) -> 0 | G38: =SUM(G39:G43) -> 0
A39: 6.1. | B39: Immateriális javak értékesítése
A40: 6.2. | B40: Ingatlanok értékesítése
...

Sheet 1.3.sz.mell.
A1: B E V É T E L E K
A2: 1. sz. táblázat | C2: Forintban | D2: Ezer forintban | E2: Ezer forintban | F2: Ezer forintban | G2: Ezer forintban
A3: Sor- szám | B3: Bevételi jogcím | C3: 2018. évi előirányzat | D3: Javasolt módosítás | E3: Módosított előirányzat | F3: Társulási Tanács által javasolt módosítás | G3: Módosított előirányzat
A4: 1 | B4: 2 | C4: 3 | D4: 3 | E4: 3 | F4: 3 | G4: 3
A5: 1. | B5: Társulás működési támogatásai | D5: =+#REF!+#REF!+#REF!+#REF!+#REF!+#REF! -> #REF! | E5: =+#REF!+#REF!+#REF!+#REF!+#REF!+#REF! -> #REF! | F5: =+#REF!+#REF!+#REF!+#REF!+#REF!+#REF! -> #REF! | G5: =+#REF!+#REF!+#REF!+#REF!+#REF!+#REF! -> #REF!
A6: 2. | B6: Működési célú támogatások államháztartáson belülről (2.1.+…+.2.5.) | C6: =+C7+C8+C9+C10+C11 -> 34944340 | D6: =+D7+D8+D9+D10+D11 -> 6943 | E6: =+E7+E8+E9+E10+E11 -> 6943 | F6: =+F7+F8+F9+F10+F11 -> 6943 | G6: =+G7+G8+G9+G10+G11 -> 6943
A7: 2.1. | B7: Elvonások és befizetések bevételei
A8: 2.2. | B8: Működési célú garancia- és kezességvállalásból megtérülések
A9: 2.3. | B9: Működési célú visszatérítendő támogatások, kölcsönök visszatérülése
A10: 2.4. | B10: Működési célú visszatérítendő támogatások, kölcsönök igénybevétele
A11: 2.5. | B11: Egyéb működési célú támogatások bevételei | C11: 34944340 | D11: 6943 | E11: 6943 | F11: 6943 | G11: 6943
A12: 2.6. | B12: 2.5.-ből EU-s támogatás | C12: 5594340
A13: 3. | B13: Felhalmozási célú támogatások államháztartáson belülről (3.1.+…+3.5.) | C13: =+C14+C15+C16+C17+C18 -> 0 | D13: =+D14+D15+D16+D17+D18 -> 0 | E13: =+E14+E15+E16+E17+E18 -> 0 | F13: =+F14+F15+F16+F17+F18 -> 0 | G13: =+G14+G15+G16+G17+G18 -> 0
A14: 3.1. | B14: Felhalmozási célú önkormányzati támogatások
A15: 3.2. | B15: Felhalmozási célú garancia- és kezességvállalásból megtérülések
A16: 3.3. | B16: Felhalmozási célú visszatérítendő támogatások, kölcsönök visszatérülése
A17: 3.4. | B17: Felhalmozási célú visszatérítendő támogatások, kölcsönök igénybevétele
A18: 3.5. | B18: Egyéb felhalmozási célú támogatások bevételei
A19: 3.6. | B19: 3.5.-ből EU-s támogatás
A20: 4. | B20: Közhatalmi bevételek | C20: =+C21+C24+C25+C26 -> 0 | D20: =+D21+D24+D25+D26 -> 0 | E20: =+E21+E24+E25+E26 -> 0 | F20: =+F21+F24+F25+F26 -> 0 | G20: =+G21+G24+G25+G26 -> 0
A21: 4.1. | B21: Helyi adók (4.1.1.+4.1.2.) | C21: =+C22+C23 -> 0 | D21: =+D22+D23 -> 0 | E21: =+E22+E23 -> 0 | F21: =+F22+F23 -> 0 | G21: =+G22+G23 -> 0
A22: 4.1.1. | B22: - Vagyoni típusú adók
A23: 4.1.2. | B23: - Termékek és szolgáltatások adói
A24: 4.2. | B24: Gépjárműadó
A25: 4.3. | B25: Egyéb áruhasználati és szolgáltatási adók
A26: 4.4. | B26: Egyéb közhatalmi bevételek
A27: 5. | B27: Működési bevételek (5.1.+…+ 5.10.) | C27: =SUM(C28:C37) -> 12930000 | D27: =SUM(D28:D37) -> 8461 | E27: =SUM(E28:E37) -> 8461 | F27: =SUM(F28:F37) -> 8461 | G27: =SUM(G28:G37) -> 8461
A28: 5.1. | B28: Készletértékesítés ellenértéke
A29: 5.2. | B29: Szolgáltatások ellenértéke | D29: 8046 | E29: 8046 | F29: 8046 | G29: 8046
A30: 5.3. | B30: Közvetített szolgáltatások értéke
A31: 5.4. | B31: Tulajdonosi bevételek
A32: 5.5. | B32: Ellátási díjak
A33: 5.6. | B33: Kiszámlázott általános forgalmi adó
A34: 5.7. | B34: Általános forgalmi adó visszatérítése | D34: 415 | E34: 415 | F34: 415 | G34: 415
A35: 5.8. | B35: Kamatbevételek
A36: 5.9. | B36: Egyéb pénzügyi műveletek bevételei
A37: 5.10. | B37: Egyéb működési bevételek | C37: 12930000
A38: 6. | B38: Felhalmozási bevételek (6.1.+…+6.5.) | C38: =SUM(C39:C43) -> 0 | D38: =SUM(D39:D43) -> 0 | E38: =SUM(E39:E43) -> 0 | F38: =SUM(F39:F43) -> 0 | G38: =SUM(G39:G43) -> 0
A39: 6.1. | B39: Immateriális javak értékesítése
A40: 6.2. | B40: Ingatlanok értékesítése
...

Sheet 1.4.sz.mell.
A1: B E V É T E L E K
A2: 1. sz. táblázat | C2: Forintban | D2: Ezer forintban | E2: Ezer forintban | F2: Ezer forintban | G2: Ezer forintban
A3: Sor- szám | B3: Bevételi jogcím | C3: 2018. évi előirányzat | D3: Javasolt módosítás | E3: Módosított előirányzat | F3: Társulási Tanács által javasolt módosítás | G3: Módosított előirányzat
A4: 1 | B4: 2 | C4: 3 | D4: 3 | E4: 3 | F4: 3 | G4: 3
A5: 1. | B5: Társulás működési támogatásai | D5: =+#REF!+#REF!+#REF!+#REF!+#REF!+#REF! -> #REF! | E5: =+#REF!+#REF!+#REF!+#REF!+#REF!+#REF! -> #REF! | F5: =+#REF!+#REF!+#REF!+#REF!+#REF!+#REF! -> #REF! | G5: =+#REF!+#REF!+#REF!+#REF!+#REF!+#REF! -> #REF!
A6: 2. | B6: Működési célú támogatások államháztartáson belülről (2.1.+…+.2.5.) | C6: =+C7+C8+C9+C10+C11 -> 0 | D6: =+D7+D8+D9+D10+D11 -> 0 | E6: =+E7+E8+E9+E10+E11 -> 0 | F6: =+F7+F8+F9+F10+F11 -> 0 | G6: =+G7+G8+G9+G10+G11 -> 0
A7: 2.1. | B7: Elvonások és befizetések bevételei
A8: 2.2. | B8: Működési célú garancia- és kezességvállalásból megtérülések
A9: 2.3. | B9: Működési célú visszatérítendő támogatások, kölcsönök visszatérülése
A10: 2.4. | B10: Működési célú visszatérítendő támogatások, kölcsönök igénybevétele
A11: 2.5. | B11: Egyéb működési célú támogatások bevételei
A12: 2.6. | B12: 2.5.-ből EU-s támogatás
A13: 3. | B13: Felhalmozási célú támogatások államháztartáson belülről (3.1.+…+3.5.) | C13: =+C14+C15+C16+C17+C18 -> 0 | D13: =+D14+D15+D16+D17+D18 -> 0 | E13: =+E14+E15+E16+E17+E18 -> 0 | F13: =+F14+F15+F16+F17+F18 -> 0 | G13: =+G14+G15+G16+G17+G18 -> 0
A14: 3.1. | B14: Felhalmozási célú önkormányzati támogatások
A15: 3.2. | B15: Felhalmozási célú garancia- és kezességvállalásból megtérülések
A16: 3.3. | B16: Felhalmozási célú visszatérítendő támogatások, kölcsönök visszatérülése
A17: 3.4. | B17: Felhalmozási célú visszatérítendő támogatások, kölcsönök igénybevétele
A18: 3.5. | B18: Egyéb felhalmozási célú támogatások bevételei
A19: 3.6. | B19: 3.5.-ből EU-s támogatás
A20: 4. | B20: Közhatalmi bevételek | C20: =+C21+C24+C25+C26 -> 0 | D20: =+D21+D24+D25+D26 -> 0 | E20: =+E21+E24+E25+E26 -> 0 | F20: =+F21+F24+F25+F26 -> 0 | G20: =+G21+G24+G25+G26 -> 0
A21: 4.1. | B21: Helyi adók (4.1.1.+4.1.2.) | C21: =+C22+C23 -> 0 | D21: =+D22+D23 -> 0 | E21: =+E22+E23 -> 0 | F21: =+F22+F23 -> 0 | G21: =+G22+G23 -> 0
A22: 4.1.1. | B22: - Vagyoni típusú adók
A23: 4.1.2. | B23: - Termékek és szolgáltatások adói
A24: 4.2. | B24: Gépjárműadó
A25: 4.3. | B25: Egyéb áruhasználati és szolgáltatási adók
A26: 4.4. | B26: Egyéb közhatalmi bevételek
A27: 5. | B27: Működési bevételek (5.1.+…+ 5.10.) | C27: =SUM(C28:C37) -> 0 | D27: =SUM(D28:D37) -> 0 | E27: =SUM(E28:E37) -> 0 | F27: =SUM(F28:F37) -> 0 | G27: =SUM(G28:G37) -> 0
A28: 5.1. | B28: Készletértékesítés ellenértéke
A29: 5.2. | B29: Szolgáltatások ellenértéke
A30: 5.3. | B30: Közvetített szolgáltatások értéke
A31: 5.4. | B31: Tulajdonosi bevételek
A32: 5.5. | B32: Ellátási díjak
A33: 5.6. | B33: Kiszámlázott általános forgalmi adó
A34: 5.7. | B34: Általános forgalmi adó visszatérítése
A35: 5.8. | B35: Kamatbevételek
A36: 5.9. | B36: Egyéb pénzügyi műveletek bevételei
A37: 5.10. | B37: Egyéb működési bevételek
A38: 6. | B38: Felhalmozási bevételek (6.1.+…+6.5.) | C38: =SUM(C39:C43) -> 0 | D38: =SUM(D39:D43) -> 0 | E38: =SUM(E39:E43) -> 0 | F38: =SUM(F39:F43) -> 0 | G38: =SUM(G39:G43) -> 0
A39: 6.1. | B39: Immateriális javak értékesítése
A40: 6.2. | B40: Ingatlanok értékesítése
...

Sheet 2.sz.mell  
B1: I. Működési célú bevételek és kiadások mérlege (Társulási szinten)
I2: Forintban | J2: Ezer forintban ! | K2: Ezer forintban ! | L2: Ezer forintban ! | M2: Ezer forintban !
A3: Sor- szám | B3: Bevételek | H3: Kiadások
B4: Megnevezés | C4: 2018. évi előirányzat | D4: Javasolt módosítás | E4: Módosított előirányzat | F4: Társulási Tanács által javasolt módosítás | G4: Módosított előirányzat | H4: Megnevezés | I4: 2018. évi előirányzat | J4: Javasolt módosítás | K4: Módosított előirányzat | L4: Társulási Tanács által javasolt módosítás | M4: Módosított előirányzat
A5: 1 | B5: 2 | C5: 3. | D5: 3. | E5: 3. | F5: 3. | G5: 3. | H5: 4. | I5: 5. | J5: 5. | K5: 5. | L5: 5. | M5: 5.
A6: 1. | B6: Önkormányzatok működési támogatásai | C6: ='1.1.sz.mell.'!C5 -> 0 | D6: ='1.1.sz.mell.'!D5 -> #REF! | E6: ='1.1.sz.mell.'!E5 -> #REF! | F6: ='1.1.sz.mell.'!F5 -> #REF! | G6: ='1.1.sz.mell.'!G5 -> #REF! | H6: Személyi juttatások | I6: ='1.1.sz.mell.'!C85 -> 141314000 | J6: ='1.1.sz.mell.'!D85 -> 0 | K6: ='1.1.sz.mell.'!E85 -> 0 | L6: ='1.1.sz.mell.'!F85 -> 0 | M6: ='1.1.sz.mell.'!G85 -> 0
A7: 2. | B7: Működési célú támogatások államháztartáson belülről | C7: ='1.1.sz.mell.'!C6 -> 129997340 | D7: ='1.1.sz.mell.'!D6 -> 0 | E7: ='1.1.sz.mell.'!E6 -> 0 | F7: ='1.1.sz.mell.'!F6 -> 0 | G7: ='1.1.sz.mell.'!G6 -> 0 | H7: Munkaadókat terhelő járulékok és szociális hozzájárulási adó | I7: ='1.1.sz.mell.'!C86 -> 31739000 | J7: ='1.1.sz.mell.'!D86 -> 0 | K7: ='1.1.sz.mell.'!E86 -> 0 | L7: ='1.1.sz.mell.'!F86 -> 0 | M7: ='1.1.sz.mell.'!G86 -> 0
A8: 3. | B8: 2.-ból EU-s támogatás | H8: Dologi kiadások | I8: ='1.1.sz.mell.'!C87 -> 59658000 | J8: ='1.1.sz.mell.'!D87 -> 0 | K8: ='1.1.sz.mell.'!E87 -> 0 | L8: ='1.1.sz.mell.'!F87 -> 0 | M8: ='1.1.sz.mell.'!G87 -> 0
A9: 4. | B9: Közhatalmi bevételek | C9: ='1.1.sz.mell.'!C20 -> 0 | D9: ='1.1.sz.mell.'!D20 -> 0 | E9: ='1.1.sz.mell.'!E20 -> 0 | F9: ='1.1.sz.mell.'!F20 -> 0 | G9: ='1.1.sz.mell.'!G20 -> 0 | H9: Ellátottak pénzbeli juttatásai | I9: ='1.1.sz.mell.'!C88 -> 0 | J9: ='1.1.sz.mell.'!D88 -> 0 | K9: ='1.1.sz.mell.'!E88 -> 0 | L9: ='1.1.sz.mell.'!F88 -> 0 | M9: ='1.1.sz.mell.'!G88 -> 0
A10: 5. | B10: Működési célú átvett pénzeszközök | C10: ='1.1.sz.mell.'!C44 -> 0 | D10: ='1.1.sz.mell.'!D44 -> 0 | E10: ='1.1.sz.mell.'!E44 -> 0 | F10: ='1.1.sz.mell.'!F44 -> 0 | G10: ='1.1.sz.mell.'!G44 -> 0 | H10: Egyéb működési célú kiadások | I10: ='1.1.sz.mell.'!C89 -> 8033722 | J10: ='1.1.sz.mell.'!D89 -> 0 | K10: ='1.1.sz.mell.'!E89 -> 0 | L10: ='1.1.sz.mell.'!F89 -> 0 | M10: ='1.1.sz.mell.'!G89 -> 0
A11: 6. | B11: 4.-ből EU-s támogatás | H11: Tartalékok | I11: ='1.1.sz.mell.'!C96 -> 8168364
A12: 7. | B12: Egyéb működési bevételek | C12: ='1.1.sz.mell.'!C27 -> 96580000 | D12: ='1.1.sz.mell.'!D27 -> 0 | E12: ='1.1.sz.mell.'!E27 -> 0 | F12: ='1.1.sz.mell.'!F27 -> 0 | G12: ='1.1.sz.mell.'!G27 -> 0
A13: 8.
A14: 9.
A15: 10.
A16: 11.
A17: 12.
A18: 13. | B18: Költségvetési bevételek összesen (1.+2.+4.+5.+7.+…+12.) | C18: =+C6+C7+C9+C10+C12+C13+C14+C15+C16+C17 -> 226577340 | D18: =+D6+D7+D9+D10+D12+D13+D14+D15+D16+D17 -> #REF! | E18: =+E6+E7+E9+E10+E12+E13+E14+E15+E16+E17 -> #REF! | F18: =+F6+F7+F9+F10+F12+F13+F14+F15+F16+F17 -> #REF! | G18: =+G6+G7+G9+G10+G12+G13+G14+G15+G16+G17 -> #REF! | H18: Költségvetési kiadások összesen (1.+...+12.) | I18: =SUM(I6:I17) -> 248913086 | J18: =SUM(J6:J17) -> 0 | K18: =SUM(K6:K17) -> 0 | L18: =SUM(L6:L17) -> 0 | M18: =SUM(M6:M17) -> 0
A19: 14. | B19: Hiány belső finanszírozásának bevételei (15.+…+18. ) | C19: =+C20+C21+C22+C23 -> 22335746 | D19: =+D20+D21+D22+D23 -> 2001 | E19: =+E20+E21+E22+E23 -> 2001 | F19: =+F20+F21+F22+F23 -> 2001 | G19: =+G20+G21+G22+G23 -> 2001 | H19: Értékpapír vásárlása, visszavásárlása
A20: 15. | B20: Költségvetési maradvány igénybevétele | C20: 22335746 | D20: 2001 | E20: 2001 | F20: 2001 | G20: 2001 | H20: Likviditási célú hitelek törlesztése
A21: 16. | B21: Vállalkozási maradvány igénybevétele | H21: Rövid lejáratú hitelek törlesztése
A22: 17. | B22: Betét visszavonásából származó bevétel | H22: Hosszú lejáratú hitelek törlesztése
A23: 18. | B23: Egyéb belső finanszírozási bevételek | H23: Kölcsön törlesztése
A24: 19. | B24: Hiány külső finanszírozásának bevételei (20.+…+21.) | C24: =+C25+C26 -> 0 | D24: =+D25+D26 -> 0 | E24: =+E25+E26 -> 0 | F24: =+F25+F26 -> 0 | G24: =+G25+G26 -> 0 | H24: Forgatási célú belföldi, külföldi értékpapírok vásárlása
A25: 20. | B25: Likviditási célú hitelek, kölcsönök felvétele | H25: Betét elhelyezése
A26: 21. | B26: Értékpapírok bevételei
A27: 22. | B27: Működési célú finanszírozási bevételek összesen (14.+19.) | C27: =+C19+C24 -> 22335746 | D27: =+D19+D24 -> 2001 | E27: =+E19+E24 -> 2001 | F27: =+F19+F24 -> 2001 | G27: =+G19+G24 -> 2001 | H27: Működési célú finanszírozási kiadások összesen (14.+...+21.) | I27: =SUM(I19:I26) -> 0 | J27: =SUM(J19:J26) -> 0 | K27: =SUM(K19:K26) -> 0 | L27: =SUM(L19:L26) -> 0 | M27: =SUM(M19:M26) -> 0
A28: 23. | B28: BEVÉTEL ÖSSZESEN (13.+22.) | C28: =+C18+C27 -> 248913086 | D28: =+D18+D27 -> #REF! | E28: =+E18+E27 -> #REF! | F28: =+F18+F27 -> #REF! | G28: =+G18+G27 -> #REF! | H28: KIADÁSOK ÖSSZESEN (13.+22.) | I28: =+I18+I27 -> 248913086 | J28: =+J18+J27 -> 0 | K28: =+K18+K27 -> 0 | L28: =+L18+L27 -> 0 | M28: =+M18+M27 -> 0
A29: 24. | B29: Költségvetési hiány: | C29: =IF(C18-I18<0,I18-C18,"-") -> 22335746 | D29: =IF(D18-N18<0,N18-D18,"-") -> #REF! | E29: =IF(E18-O18<0,O18-E18,"-") -> #REF! | F29: =IF(F18-P18<0,P18-F18,"-") -> #REF! | G29: =IF(G18-Q18<0,Q18-G18,"-") -> #REF! | H29: Költségvetési többlet: | I29: =IF(C18-I18>0,C18-I18,"-") -> - | J29: =IF(D18-J18>0,D18-J18,"-") -> #REF! | K29: =IF(E18-K18>0,E18-K18,"-") -> #REF! | L29: =IF(F18-L18>0,F18-L18,"-") -> #REF! | M29: =IF(G18-M18>0,G18-M18,"-") -> #REF!
A30: 25. | B30: Tárgyévi hiány: | C30: =IF(C18+C19-I28<0,I28-(C18+C19),"-") -> - | D30: =IF(D18+D19-N28<0,N28-(D18+D19),"-") -> #REF! | E30: =IF(E18+E19-O28<0,O28-(E18+E19),"-") -> #REF! | F30: =IF(F18+F19-P28<0,P28-(F18+F19),"-") -> #REF! | G30: =IF(G18+G19-Q28<0,Q28-(G18+G19),"-") -> #REF! | H30: Tárgyévi többlet: | I30: =IF(C18+C19-I28>0,C18+C19-I28,"-") -> - | J30: =IF(D18+D19-J28>0,D18+D19-J28,"-") -> #REF! | K30: =IF(E18+E19-K28>0,E18+E19-K28,"-") -> #REF! | L30: =IF(F18+F19-L28>0,F18+F19-L28,"-") -> #REF! | M30: =IF(G18+G19-M28>0,G18+G19-M28,"-") -> #REF!
B32: II. Felhalmozási célú bevételek és kiadások mérlege (Társulási szinten)
I33: Forintban | J33: Ezer forintban ! | K33: Ezer forintban ! | L33: Ezer forintban ! | M33: Ezer forintban !
A34: Sor- szám | B34: Bevételek | H34: Kiadások
B35: Megnevezés | C35: 2018. évi előirányzat | D35: Javasolt módosítás | E35: Módosított előirányzat | F35: Társulási Tanács által javasolt módosítás | G35: Módosított előirányzat | H35: Megnevezés | I35: 2018. évi előirányzat | J35: Javasolt módosítás | K35: Módosított előirányzat | L35: Társulási Tanács által javasolt módosítás | M35: Módosított előirányzat
A36: 1 | B36: 2 | C36: 3 | D36: 3 | E36: 3 | F36: 3 | G36: 3 | H36: 4 | I36: 5 | J36: 5 | K36: 5 | L36: 5 | M36: 5
A37: 1. | B37: Felhalmozási célú támogatások államháztartáson belülről | C37: ='1.1.sz.mell.'!C13 -> 0 | D37: ='1.1.sz.mell.'!D13 -> 0 | E37: ='1.1.sz.mell.'!E13 -> 0 | F37: ='1.1.sz.mell.'!F13 -> 0 | G37: ='1.1.sz.mell.'!G13 -> 0 | H37: Beruházások | I37: ='1.1.sz.mell.'!C91 -> 1805000 | J37: ='1.1.sz.mell.'!D91 -> 0 | K37: ='1.1.sz.mell.'!E91 -> 0 | L37: ='1.1.sz.mell.'!F91 -> 0 | M37: ='1.1.sz.mell.'!G91 -> 0
A38: 2. | B38: 1.-ből EU-s támogatás | H38: 1.-ből EU-s forrásból megvalósuló beruházás
A39: 3. | B39: Felhalmozási bevételek | C39: ='1.1.sz.mell.'!C38 -> 0 | D39: ='1.1.sz.mell.'!D38 -> 0 | E39: ='1.1.sz.mell.'!E38 -> 0 | F39: ='1.1.sz.mell.'!F38 -> 0 | G39: ='1.1.sz.mell.'!G38 -> 0 | H39: Felújítások
A40: 4. | B40: Felhalmozási célú átvett pénzeszközök átvétele | H40: 3.-ból EU-s forrásból megvalósuló felújítás
A41: 5. | B41: 4.-ből EU-s támogatás (közvetlen) | H41: Egyéb felhalmozási kiadások | I41: ='1.1.sz.mell.'!C95 -> 0 | J41: ='1.1.sz.mell.'!D95 -> 0 | K41: ='1.1.sz.mell.'!E95 -> 0 | L41: ='1.1.sz.mell.'!F95 -> 0 | M41: ='1.1.sz.mell.'!G95 -> 0
...

Sheet 3.sz.mell.
R2: Forintban
A3: Száma | B3: Előirányzat-csoport, kiemelt előirányzat megnevezése | C3: Előirányzat
A4: 1 | B4: 2 | C4: Kötelező | D4: Javasolt módosítás | E4: Módosított előirányzat | F4: Társulási Tanács által javasolt módosítás | G4: Módosított előirányzat | H4: Önként vállalt | I4: Javasolt módosítás | J4: Módosított előirányzat | K4: Társulási Tanács által javasolt módosítás | L4: Módosított előirányzat | M4: Államigazgatási | N4: Javasolt módosítás | O4: Módosított előirányzat | P4: Társulási Tanács által javasolt módosítás | Q4: Módosított előirányzat | R4: Összesen
B5: Bevételek | C5: Feladat
A6: 1. | B6: Működési bevételek | C6: 35588000 | H6: 10213000 | R6: =C6+H6+M6 -> 45801000
A7: 2. | B7: Működési célú támogatások államháztartáson belülről (2.1.+…+2.3.) | C7: =SUM(C8:C10) -> 95053000 | D7: =SUM(D8:D10) -> 0 | E7: =SUM(E8:E10) -> 0 | F7: =SUM(F8:F10) -> 0 | G7: =SUM(G8:G10) -> 0 | H7: =SUM(H8:H10) -> 28056000 | I7: =SUM(I8:I10) -> 0 | J7: =SUM(J8:J10) -> 0 | ... Q7: =SUM(Q8:Q10) -> 0 | R7: =C7+H7+M7 -> 123109000
A8: 2.1. | B8: Elvonások és befizetések bevételei | R8: =C8+H8+M8 -> 0
A9: 2.2. | B9: Visszatérítendő támogatások, kölcsönök visszatérülése ÁH-n belülről | R9: =C9+H9+M9 -> 0
A10: 2.3. | B10: Egyéb működési célú támogatások bevételei államháztartáson belülről | C10: 95053000 | D10: 0 | E10: 0 | F10: 0 | G10: 0 | H10: 28056000 | R10: =C10+H10+M10 -> 123109000
A11: 2.4. | B11: - ebből EU támogatás | R11: =C11+H11+M11 -> 0
A12: 3. | B12: Közhatalmi bevételek | R12: =C12+H12+M12 -> 0
A13: 4. | B13: Felhalmozási célú támogatások államháztartáson belülről (4.1.+4.2.) | C13: =+C14+C15 -> 0 | D13: =+D14+D15 -> 0 | E13: =+E14+E15 -> 0 | F13: =+F14+F15 -> 0 | G13: =+G14+G15 -> 0 | H13: =+H14+H15 -> 0 | I13: =+I14+I15 -> 0 | J13: =+J14+J15 -> 0 | ... Q13: =+Q14+Q15 -> 0 | R13: =C13+H13+M13 -> 0
A14: 4.1. | B14: Visszatérítendő támogatások, kölcsönök visszatérülése ÁH-n belülről | R14: =C14+H14+M14 -> 0
A15: 4.2. | B15: Egyéb felhalmozási célú támogatások bevételei államháztartáson belülről | R15: =C15+H15+M15 -> 0
A16: 4.3. | B16: - ebből EU-s támogatás | R16: =C16+H16+M16 -> 0
A17: 5. | B17: Felhalmozási bevételek (5.1.+…+5.3.) | C17: =+C18+C19+C20 -> 0 | D17: =+D18+D19+D20 -> 0 | E17: =+E18+E19+E20 -> 0 | F17: =+F18+F19+F20 -> 0 | G17: =+G18+G19+G20 -> 0 | H17: =+H18+H19+H20 -> 0 | I17: =+I18+I19+I20 -> 0 | J17: =+J18+J19+J20 -> 0 | ... Q17: =+Q18+Q19+Q20 -> 0 | R17: =C17+H17+M17 -> 0
A18: 5.1. | B18: Immateriális javak értékesítése | R18: =C18+H18+M18 -> 0
A19: 5.2. | B19: Ingatlanok értékesítése | R19: =C19+H19+M19 -> 0
A20: 5.3. | B20: Egyéb tárgyi eszközök értékesítése | R20: =C20+H20+M20 -> 0
A21: 6. | B21: Működési célú átvett pénzeszközök | R21: =C21+H21+M21 -> 0
A22: 7. | B22: Felhalmozási célú átvett pénzeszközök | R22: =C22+H22+M22 -> 0
A23: 8. | B23: Költségvetési bevételek összesen (1.+…+7.) | C23: =+C6+C7+C12+C13+C17+C21+C22 -> 130641000 | D23: =+D6+D7+D12+D13+D17+D21+D22 -> 0 | E23: =+E6+E7+E12+E13+E17+E21+E22 -> 0 | F23: =+F6+F7+F12+F13+F17+F21+F22 -> 0 | G23: =+G6+G7+G12+G13+G17+G21+G22 -> 0 | H23: =+H6+H7+H12+H13+H17+H21+H22 -> 38269000 | I23: =+I6+I7+I12+I13+I17+I21+I22 -> 0 | J23: =+J6+J7+J12+J13+J17+J21+J22 -> 0 | ... Q23: =+Q6+Q7+Q12+Q13+Q17+Q21+Q22 -> 0 | R23: =C23+H23+M23 -> 168910000
A24: 9. | B24: Finanszírozási bevételek (9.1.+…+9.3.) | C24: =+C25+C26+C27 -> 11105364 | D24: =+D25+D26+D27 -> 0 | E24: =+E25+E26+E27 -> 0 | F24: =+F25+F26+F27 -> 0 | G24: =+G25+G26+G27 -> 0 | H24: =+H25+H26+H27 -> 0 | I24: =+I25+I26+I27 -> 0 | J24: =+J25+J26+J27 -> 0 | ... Q24: =+Q25+Q26+Q27 -> 0 | R24: =C24+H24+M24 -> 11105364
A25: 9.1. | B25: Költségvetési maradvány igénybevétele | C25: 11105364 | R25: =C25+H25+M25 -> 11105364
A26: 9.2. | B26: Vállalkozási maradvány igénybevétele | R26: =C26+H26+M26 -> 0
A27: 9.3. | B27: Irányító szervi (önkormányzati) támogatás (intézményfinanszírozás) | R27: =C27+H27+M27 -> 0
A28: 10. | B28: BEVÉTELEK ÖSSZESEN: (8.+9.) | C28: =+C23+C24 -> 141746364 | D28: =+D23+D24 -> 0 | E28: =+E23+E24 -> 0 | F28: =+F23+F24 -> 0 | G28: =+G23+G24 -> 0 | H28: =+H23+H24 -> 38269000 | I28: =+I23+I24 -> 0 | J28: =+J23+J24 -> 0 | ... Q28: =+Q23+Q24 -> 0 | R28: =C28+H28+M28 -> 180015364
B31: Kiadások | C31: Kötelező | D31: Javasolt módosítás | E31: Módosított előirányzat | F31: Társulási Tanács által javasolt módosítás | G31: Módosított előirányzat | H31: Önként vállalt | I31: Javasolt módosítás | J31: Módosított előirányzat | K31: Társulási Tanács által javasolt módosítás | L31: Módosított előirányzat | M31: Államigazgatási | R31: Összesen:
A32: 1. | B32: Működési költségvetés kiadásai (1.1+…+1.6.) | C32: =SUM(C33:C38) -> 6083364 | D32: =SUM(D33:D37) -> 0 | E32: =SUM(E33:E37) -> 0 | F32: =SUM(F33:F37) -> 0 | G32: =SUM(G33:G37) -> 0 | H32: =SUM(H33:H38) -> 19950000 | I32: =SUM(I33:I38) -> 0 | J32: =SUM(J33:J38) -> 0 | K32: =SUM(K33:K38) -> 0 | L32: =SUM(L33:L38) -> 0 | M32: =SUM(M33:M38) -> 0 | N32: =SUM(N33:N37) -> 0 | O32: =SUM(O33:O37) -> 0 | P32: =SUM(P33:P37) -> 0 | Q32: =SUM(Q33:Q37) -> 0 | R32: =C32+H32+M32 -> 26033364
A33: 1.1. | B33: Személyi juttatások | H33: 150000 | R33: =C33+H33+M33 -> 150000 | V33: =H33+'4. sz. mell'!H32 -> 25855000 | AB33: =I33+'4. sz. mell'!I32 -> 0 | AC33: =J33+'4. sz. mell'!J32 -> 0 | AD33: =K33+'4. sz. mell'!K32 -> 0 | AE33: =L33+'4. sz. mell'!L32 -> 0 | AF33: =M33+'4. sz. mell'!M32 -> 0 | AG33: =N33+'4. sz. mell'!N32 -> 0 | AH33: =O33+'4. sz. mell'!O32 -> 0 | AI33: =P33+'4. sz. mell'!P32 -> 0 | AJ33: =Q33+'4. sz. mell'!Q32 -> 0
A34: 1.2. | B34: Munkaadókat terhelő járulékok és szociális hozzájárulási adó | H34: 98000 | R34: =C34+H34+M34 -> 98000 | V34: =H34+'4. sz. mell'!H33 -> 5558000
A35: 1.3. | B35: Dologi kiadások | C35: 5715000 | H35: 4736000 | R35: =C35+H35+M35 -> 10451000 | V35: =H35+'4. sz. mell'!H34 -> 9482000
A36: 1.4. | B36: Ellátottak pénzbeli juttatásai | R36: =C36+H36+M36 -> 0 | V36: =H36+'4. sz. mell'!H35 -> 0
A37: 1.5. | B37: Egyéb működési célú kiadások | H37: 7166000 | R37: =C37+H37+M37 -> 7166000 | V37: =H37+'4. sz. mell'!H36 -> 7166000
A38: 1.6. | B38: Tartalékok | C38: 368364 | H38: 7800000 | R38: =C38+H38+M38 -> 8168364 | V38: =H38+'4. sz. mell'!H37 -> 7855000
A39: 2. | B39: Felhalmozási költségvetés kiadásai (2.1.+…+2.3.) | C39: =SUM(C40:C42) -> 0 | D39: =SUM(D40:D42) -> 0 | E39: =SUM(E40:E42) -> 0 | F39: =SUM(F40:F42) -> 0 | G39: =SUM(G40:G42) -> 0 | H39: =SUM(H40:H42) -> 0 | I39: =SUM(I40:I42) -> 0 | J39: =SUM(J40:J42) -> 0 | ... Q39: =SUM(Q40:Q42) -> 0 | R39: =C39+H39+M39 -> 0
A40: 2.1. | B40: Beruházások | R40: =C40+H40+M40 -> 0
A41: 2.2. | B41: Felújítások | R41: =C41+H41+M41 -> 0
A42: 2.3. | B42: Egyéb fejlesztési célú kiadások | R42: =C42+H42+M42 -> 0
A43: 2.4. | B43: - ebből EU-s forrásból tám. megvalósuló programok, projektek kiadásai | R43: =C43+H43+M43 -> 0
...

Sheet 4. sz. mell
R2: Forintban
A3: Száma | B3: Előirányzat-csoport, kiemelt előirányzat megnevezése | C3: Előirányzat
A4: 1 | B4: 2 | C4: Kötelező feladat | H4: Önként vállalt feladat | M4: Állami feladat | R4: Összesen
B5: Bevételek
A6: 1. | B6: Működési bevételek | C6: 48062000 | D6: 0 | E6: 0 | F6: 0 | G6: 0 | H6: 2717000 | I6: =J6-H6 -> -2717000 | L6: =SUM(J6:K6) -> 0 | N6: =O6-M6 -> 0 | Q6: =SUM(O6:P6) -> 0 | R6: =C6+H6+M6 -> 50779000
A7: 2. | B7: Működési célú támogatások államháztartáson belülről (2.1.+…+2.3.) | C7: =SUM(C8:C10) -> 0 | D7: =E7-C7 -> 0 | E7: =SUM(E8:E10) -> 0 | F7: =SUM(F8:F10) -> 0 | G7: =SUM(E7:F7) -> 0 | H7: =SUM(H8:H10) -> 6888340 | I7: =J7-H7 -> -6888340 | J7: =SUM(J8:J10) -> 0 | K7: =SUM(K8:K10) -> 0 | L7: =SUM(J7:K7) -> 0 | M7: =SUM(M8:M10) -> 0 | N7: =O7-M7 -> 0 | O7: =SUM(O8:O10) -> 0 | P7: =SUM(P8:P10) -> 0 | Q7: =SUM(O7:P7) -> 0 | R7: =C7+H7+M7 -> 6888340
A8: 2.1. | B8: Elvonások és befizetések bevételei | D8: =E8-C8 -> 0 | G8: =SUM(E8:F8) -> 0 | I8: =J8-H8 -> 0 | L8: =SUM(J8:K8) -> 0 | N8: =O8-M8 -> 0 | Q8: =SUM(O8:P8) -> 0 | R8: =C8+H8+M8 -> 0
A9: 2.2. | B9: Visszatérítendő támogatások, kölcsönök visszatérülése ÁH-n belülről | D9: =E9-C9 -> 0 | G9: =SUM(E9:F9) -> 0 | I9: =J9-H9 -> 0 | L9: =SUM(J9:K9) -> 0 | N9: =O9-M9 -> 0 | Q9: =SUM(O9:P9) -> 0 | R9: =C9+H9+M9 -> 0
A10: 2.3. | B10: Egyéb működési célú támogatások bevételei államháztartáson belülről | C10: 0 | D10: 0 | E10: 0 | F10: 0 | G10: 0 | H10: 6888340 | I10: =J10-H10 -> -6888340 | L10: =SUM(J10:K10) -> 0 | N10: =O10-M10 -> 0 | Q10: =SUM(O10:P10) -> 0 | R10: =C10+H10+M10 -> 6888340
A11: 2.4. | B11: - 2.3.-ból EU-s támogatás | D11: =E11-C11 -> 0 | G11: =SUM(E11:F11) -> 0 | H11: 5594340 | I11: =J11-H11 -> -5594340 | L11: =SUM(J11:K11) -> 0 | N11: =O11-M11 -> 0 | Q11: =SUM(O11:P11) -> 0 | R11: =C11+H11+M11 -> 5594340
A12: 3. | B12: Közhatalmi bevételek | D12: =E12-C12 -> 0 | G12: =SUM(E12:F12) -> 0 | I12: =J12-H12 -> 0 | L12: =SUM(J12:K12) -> 0 | N12: =O12-M12 -> 0 | Q12: =SUM(O12:P12) -> 0 | R12: =C12+H12+M12 -> 0
A13: 4. | B13: Felhalmozási célú támogatások államháztartáson belülről (4.1.+4.2.) | C13: =+C14+C15 -> 0 | D13: =E13-C13 -> 0 | E13: =+E14+E15 -> 0 | F13: =+F14+F15 -> 0 | G13: =SUM(E13:F13) -> 0 | H13: =+H14+H15 -> 0 | I13: =J13-H13 -> 0 | J13: =+J14+J15 -> 0 | K13: =+K14+K15 -> 0 | L13: =SUM(J13:K13) -> 0 | M13: =+M14+M15 -> 0 | N13: =O13-M13 -> 0 | O13: =+O14+O15 -> 0 | P13: =+P14+P15 -> 0 | Q13: =SUM(O13:P13) -> 0 | R13: =C13+H13+M13 -> 0
A14: 4.1. | B14: Visszatérítendő támogatások, kölcsönök visszatérülése ÁH-n belülről | D14: =E14-C14 -> 0 | G14: =SUM(E14:F14) -> 0 | I14: =J14-H14 -> 0 | L14: =SUM(J14:K14) -> 0 | N14: =O14-M14 -> 0 | Q14: =SUM(O14:P14) -> 0 | R14: =C14+H14+M14 -> 0
A15: 4.2. | B15: Egyéb felhalmozási célú támogatások bevételei államháztartáson belülről | D15: =E15-C15 -> 0 | G15: =SUM(E15:F15) -> 0 | I15: =J15-H15 -> 0 | L15: =SUM(J15:K15) -> 0 | N15: =O15-M15 -> 0 | Q15: =SUM(O15:P15) -> 0 | R15: =C15+H15+M15 -> 0
A16: 4.3. | B16: - 4.2.-ből EU-s támogatás | D16: =E16-C16 -> 0 | G16: =SUM(E16:F16) -> 0 | I16: =J16-H16 -> 0 | L16: =SUM(J16:K16) -> 0 | N16: =O16-M16 -> 0 | Q16: =SUM(O16:P16) -> 0 | R16: =C16+H16+M16 -> 0
A17: 5. | B17: Felhalmozási bevételek (5.1.+…+5.3.) | C17: =+C18+C19+C20 -> 0 | D17: =E17-C17 -> 0 | E17: =+E18+E19+E20 -> 0 | F17: =+F18+F19+F20 -> 0 | G17: =SUM(E17:F17) -> 0 | H17: =+H18+H19+H20 -> 0 | I17: =J17-H17 -> 0 | J17: =+J18+J19+J20 -> 0 | K17: =+K18+K19+K20 -> 0 | L17: =SUM(J17:K17) -> 0 | M17: =+M18+M19+M20 -> 0 | N17: =O17-M17 -> 0 | O17: =+O18+O19+O20 -> 0 | P17: =+P18+P19+P20 -> 0 | Q17: =SUM(O17:P17) -> 0 | R17: =C17+H17+M17 -> 0
A18: 5.1. | B18: Immateriális javak értékesítése | D18: =E18-C18 -> 0 | G18: =SUM(E18:F18) -> 0 | I18: =J18-H18 -> 0 | L18: =SUM(J18:K18) -> 0 | N18: =O18-M18 -> 0 | Q18: =SUM(O18:P18) -> 0 | R18: =C18+H18+M18 -> 0
A19: 5.2. | B19: Ingatlanok értékesítése | D19: =E19-C19 -> 0 | G19: =SUM(E19:F19) -> 0 | I19: =J19-H19 -> 0 | L19: =SUM(J19:K19) -> 0 | N19: =O19-M19 -> 0 | Q19: =SUM(O19:P19) -> 0 | R19: =C19+H19+M19 -> 0
A20: 5.3. | B20: Egyéb tárgyi eszközök értékesítése | D20: =E20-C20 -> 0 | G20: =SUM(E20:F20) -> 0 | I20: =J20-H20 -> 0 | L20: =SUM(J20:K20) -> 0 | N20: =O20-M20 -> 0 | Q20: =SUM(O20:P20) -> 0 | R20: =C20+H20+M20 -> 0
A21: 6. | B21: Működési célú átvett pénzeszközök | D21: =E21-C21 -> 0 | G21: =SUM(E21:F21) -> 0 | I21: =J21-H21 -> 0 | L21: =SUM(J21:K21) -> 0 | N21: =O21-M21 -> 0 | Q21: =SUM(O21:P21) -> 0 | R21: =C21+H21+M21 -> 0
A22: 7. | B22: Felhalmozási célú átvett pénzeszközök | D22: =E22-C22 -> 0 | G22: =SUM(E22:F22) -> 0 | I22: =J22-H22 -> 0 | L22: =SUM(J22:K22) -> 0 | N22: =O22-M22 -> 0 | Q22: =SUM(O22:P22) -> 0 | R22: =C22+H22+M22 -> 0
A23: 8. | B23: Költségvetési bevételek összesen (1.+…+7.) | C23: =+C6+C7+C12+C13+C17+C21+C22 -> 48062000 | E23: =+E6+E7+E12+E13+E17+E21+E22 -> 0 | F23: =+F6+F7+F12+F13+F17+F21+F22 -> 0 | G23: =SUM(E23:F23) -> 0 | H23: =+H6+H7+H12+H13+H17+H21+H22 -> 9605340 | I23: =J23-H23 -> -9605340 | J23: =+J6+J7+J12+J13+J17+J21+J22 -> 0 | K23: =+K6+K7+K12+K13+K17+K21+K22 -> 0 | L23: =SUM(J23:K23) -> 0 | M23: =+M6+M7+M12+M13+M17+M21+M22 -> 0 | N23: =O23-M23 -> 0 | O23: =+O6+O7+O12+O13+O17+O21+O22 -> 0 | P23: =+P6+P7+P12+P13+P17+P21+P22 -> 0 | Q23: =SUM(O23:P23) -> 0 | R23: =C23+H23+M23 -> 57667340
A24: 9. | B24: Finanszírozási bevételek (9.1.+…+9.3.) | C24: =+C25+C26+C27 -> 140656722 | E24: =+E25+E26+E27 -> 0 | F24: =+F25+F26+F27 -> 0 | G24: =SUM(E24:F24) -> 0 | H24: =+H25+H26+H27 -> 26360660 | I24: =J24-H24 -> -26360660 | J24: =+J25+J26+J27 -> 0 | K24: =+K25+K26+K27 -> 0 | L24: =SUM(J24:K24) -> 0 | M24: =+M25+M26+M27 -> 0 | N24: =O24-M24 -> 0 | O24: =+O25+O26+O27 -> 0 | P24: =+P25+P26+P27 -> 0 | Q24: =SUM(O24:P24) -> 0 | R24: =C24+H24+M24 -> 167017382
A25: 9.1. | B25: Költségvetési maradvány igénybevétele | C25: 4993722 | G25: =SUM(E25:F25) -> 0 | H25: 8041660 | I25: =J25-H25 -> -8041660 | L25: =SUM(J25:K25) -> 0 | Q25: =SUM(O25:P25) -> 0 | R25: =C25+H25+M25 -> 13035382
A26: 9.2. | B26: Vállalkozási maradvány igénybevétele | G26: =SUM(E26:F26) -> 0 | I26: =J26-H26 -> 0 | L26: =SUM(J26:K26) -> 0 | N26: =O26-M26 -> 0 | Q26: =SUM(O26:P26) -> 0 | R26: =C26+H26+M26 -> 0
A27: 9.3. | B27: Irányító szervi (önkormányzati) támogatás (intézményfinanszírozás) | C27: 135663000 | D27: 0 | E27: 0 | F27: 0 | G27: 0 | H27: 18319000 | I27: =J27-H27 -> -18319000 | J27: =J42-(J23+J25+J26) -> 0 | K27: =K42-(K23+K25+K26) -> 0 | L27: =SUM(J27:K27) -> 0 | M27: =M42-(M23+M25+M26) -> 0 | N27: =O27-M27 -> 0 | O27: =O42-(O23+O25+O26) -> 0 | P27: =P42-(P23+P25+P26) -> 0 | Q27: =SUM(O27:P27) -> 0 | R27: =C27+H27+M27 -> 153982000
A28: 10. | B28: BEVÉTELEK ÖSSZESEN: (8.+9.) | C28: =+C23+C24 -> 188718722 | E28: =+E23+E24 -> 0 | F28: =+F23+F24 -> 0 | G28: =SUM(E28:F28) -> 0 | H28: =+H23+H24 -> 35966000 | I28: =J28-H28 -> -35966000 | J28: =+J23+J24 -> 0 | K28: =+K23+K24 -> 0 | L28: =SUM(J28:K28) -> 0 | M28: =+M23+M24 -> 0 | N28: =O28-M28 -> 0 | O28: =+O23+O24 -> 0 | P28: =+P23+P24 -> 0 | Q28: =SUM(O28:P28) -> 0 | R28: =C28+H28+M28 -> 224684722
B30: Kiadások
A31: 1. | B31: Működési költségvetés kiadásai (1.1+…+1.5.) | C31: =SUM(C32:C36) -> 186968722 | E31: =SUM(E32:E36) -> 0 | F31: =SUM(F32:F36) -> 0 | G31: =SUM(E31:F31) -> 0 | H31: =SUM(H32:H36) -> 35911000 | I31: =J31-H31 -> -35911000 | J31: =SUM(J32:J36) -> 0 | K31: =SUM(K32:K36) -> 0 | L31: =SUM(J31:K31) -> 0 | M31: =SUM(M32:M36) -> 0 | N31: =O31-M31 -> 0 | O31: =SUM(O32:O36) -> 0 | P31: =SUM(P32:P36) -> 0 | Q31: =SUM(O31:P31) -> 0 | R31: =C31+H31+M31 -> 222879722
A32: 1.1. | B32: Személyi juttatások | C32: 115459000 | H32: 25705000 | L32: =SUM(J32:K32) -> 0 | N32: =O32-M32 -> 0 | Q32: =SUM(O32:P32) -> 0 | R32: =C32+H32+M32 -> 141164000
A33: 1.2. | B33: Munkaadókat terhelő járulékok és szociális hozzájárulási adó | C33: 26181000 | H33: 5460000 | L33: =SUM(J33:K33) -> 0 | N33: =O33-M33 -> 0 | Q33: =SUM(O33:P33) -> 0 | R33: =C33+H33+M33 -> 31641000
A34: 1.3. | B34: Dologi kiadások | C34: 44461000 | H34: 4746000 | L34: =SUM(J34:K34) -> 0 | N34: =O34-M34 -> 0 | Q34: =SUM(O34:P34) -> 0 | R34: =C34+H34+M34 -> 49207000
A35: 1.4. | B35: Ellátottak pénzbeli juttatásai | L35: =SUM(J35:K35) -> 0 | N35: =O35-M35 -> 0 | Q35: =SUM(O35:P35) -> 0 | R35: =C35+H35+M35 -> 0
A36: 1.5. | B36: Egyéb működési célú kiadások | C36: 867722 | L36: =SUM(J36:K36) -> 0 | N36: =O36-M36 -> 0 | Q36: =SUM(O36:P36) -> 0 | R36: =C36+H36+M36 -> 867722
A37: 2. | B37: Felhalmozási költségvetés kiadásai (2.1.+…+2.3.) | C37: =SUM(C38:C40) -> 1750000 | E37: =SUM(E38:E40) -> 0 | F37: =SUM(F38:F40) -> 0 | G37: =SUM(E37:F37) -> 0 | H37: =SUM(H38:H40) -> 55000 | I37: =J37-H37 -> -55000 | J37: =SUM(J38:J40) -> 0 | K37: =SUM(K38:K40) -> 0 | L37: =SUM(J37:K37) -> 0 | M37: =SUM(M38:M40) -> 0 | N37: =O37-M37 -> 0 | O37: =SUM(O38:O40) -> 0 | P37: =SUM(P38:P40) -> 0 | Q37: =SUM(O37:P37) -> 0 | R37: =C37+H37+M37 -> 1805000
A38: 2.1. | B38: Beruházások | C38: 1750000 | H38: 55000
A39: 2.2. | B39: Felújítások | D39: =E39-C39 -> 0 | G39: =SUM(E39:F39) -> 0 | I39: =J39-H39 -> 0 | L39: =SUM(J39:K39) -> 0 | N39: =O39-M39 -> 0 | Q39: =SUM(O39:P39) -> 0 | R39: =C39+H39+M39 -> 0
A40: 2.3. | B40: Egyéb fejlesztési célú kiadások | D40: =E40-C40 -> 0 | G40: =SUM(E40:F40) -> 0 | I40: =J40-H40 -> 0 | L40: =SUM(J40:K40) -> 0 | N40: =O40-M40 -> 0 | Q40: =SUM(O40:P40) -> 0 | R40: =C40+H40+M40 -> 0
A41: 2.4. | B41: - ebből EU-s forrásból tám. megvalósuló programok, projektek kiadásai | D41: =E41-C41 -> 0 | G41: =SUM(E41:F41) -> 0 | I41: =J41-H41 -> 0 | L41: =SUM(J41:K41) -> 0 | N41: =O41-M41 -> 0 | Q41: =SUM(O41:P41) -> 0 | R41: =C41+H41+M41 -> 0
A42: 3. | B42: KIADÁSOK ÖSSZESEN: (1.+2.) | C42: =+C31+C37 -> 188718722 | E42: =+E31+E37 -> 0 | F42: =+F31+F37 -> 0 | G42: =SUM(E42:F42) -> 0 | H42: =+H31+H37 -> 35966000 | I42: =J42-H42 -> -35966000 | J42: =+J31+J37 -> 0 | K42: =+K31+K37 -> 0 | L42: =SUM(J42:K42) -> 0 | M42: =+M31+M37 -> 0 | N42: =O42-M42 -> 0 | O42: =+O31+O37 -> 0 | P42: =+P31+P37 -> 0 | Q42: =SUM(O42:P42) -> 0 | R42: =C42+H42+M42 -> 224684722
...

Sheet 5. sz. mell
A1: B E V É T E L E K
E2: Forintban
A3: Sor- szám | B3: Bevételi jogcím | C3: 2019. évi | D3: 2020. évi | E3: 2021. évi
A4: 1 | B4: 2 | C4: 3 | D4: 4 | E4: 5
A5: 1. | B5: Társulási működési támogatásai | C5: 1.3129731e+08 | D5: 1.3261029e+08 | E5: 1.3393639e+08 | G5: ='1.1.sz.mell.'!C5 -> 0
A6: 2. | B6: Működési célú támogatások államháztartáson belülről | C6: 0 | D6: 0 | E6: 0 | G6: ='1.1.sz.mell.'!C6 -> 129997340 | H6: =G6*1.01 -> 1.3129731e+08 | I6: =H6*1.01 -> 1.3261029e+08 | J6: =I6*1.01 -> 1.3393639e+08
A7: 3. | B7: Felhalmozási célú támogatások államháztartáson belülről | C7: 97545800 | D7: 98521258 | E7: 99506471 | G7: ='1.1.sz.mell.'!C13 -> 0 | H7: =G7*1.01 -> 0 | I7: =H7*1.01 -> 0 | J7: =I7*1.01 -> 0
A8: 4. | B8: Működési bevételek | G8: ='1.1.sz.mell.'!C27 -> 96580000 | H8: =G8*1.01 -> 97545800 | I8: =H8*1.01 -> 98521258 | J8: =I8*1.01 -> 99506471
A9: 5. | B9: Felhalmozási bevételek | G9: ='1.1.sz.mell.'!C38 -> 0 | H9: =G9*1.01 -> 0 | I9: =H9*1.01 -> 0 | J9: =I9*1.01 -> 0
A10: 6. | B10: Működési célú átvett pénzeszközök | G10: ='1.1.sz.mell.'!C44 -> 0 | H10: =G10*1.01 -> 0 | I10: =H10*1.01 -> 0 | J10: =I10*1.01 -> 0
A11: 7. | B11: Felhalmozási célú átvett pénzeszközök | G11: ='1.1.sz.mell.'!C49 -> 0 | H11: =G11*1.01 -> 0 | I11: =H11*1.01 -> 0 | J11: =I11*1.01 -> 0
A12: 8. | B12: KÖLTSÉGVETÉSI BEVÉTELEK ÖSSZESEN: (1+…+7) | C12: =+C5+C6+C7+C8+C9+C10+C11 -> 2.2884311e+08 | D12: =+D5+D6+D7+D8+D9+D10+D11 -> 2.3113154e+08 | E12: =+E5+E6+E7+E8+E9+E10+E11 -> 2.3344286e+08 | H12: =G12*1.01 -> 0 | I12: =H12*1.01 -> 0 | J12: =I12*1.01 -> 0
A13: 9. | B13: FINANSZÍROZÁSI BEVÉTELEK ÖSSZESEN: | C13: 21314688 | D13: 21527833 | E13: 21743110 | G13: ='1.1.sz.mell.'!C77 -> 24140746 | H13: =G13*1.01 -> 24382153 | I13: =H13*1.01 -> 24625975 | J13: =I13*1.01 -> 24872235
A14: 10. | B14: KÖLTSÉGVETÉSI ÉS FINANSZÍROZÁSI BEVÉTELEK ÖSSZESEN: (8+9) | C14: =+C12+C13 -> 2.501578e+08 | D14: =+D12+D13 -> 2.5265938e+08 | E14: =+E12+E13 -> 2.5518597e+08
H15: =C27-C14 -> 0 | I15: =D27-D14 -> 0 | J15: =E27-E14 -> 0
A16: K I A D Á S O K
A17: 2. sz. táblázat | E17: Forintban
A18: Sor-szám | B18: Kiadási jogcímek | C18: =+C3 -> 2019. évi | D18: =+D3 -> 2020. évi | E18: =+E3 -> 2021. évi
A19: 1 | B19: 2 | C19: 3 | D19: 4 | E19: 5
A20: 1. | B20: Működési költségvetés kiadásai | C20: 2.5015765e+08 | D20: 2.5265923e+08 | E20: 2.5518582e+08 | G20: ='1.1.sz.mell.'!C84+'1.1.sz.mell.'!C96 -> 248913086 | H20: =G20*1.005 -> 2.5015765e+08 | I20: =H20*1.01 -> 2.5265923e+08 | J20: =I20*1.01 -> 2.5518582e+08
A21: 2. | B21: Felhalmozási költségvetés kiadásai (2.1.+2.2.+2.3.) | C21: =+C22+C23+C24 -> 150 | D21: =+D22+D23+D24 -> 150 | E21: =+E22+E23+E24 -> 150 | H21: =G21*1.01 -> 0 | I21: =H21*1.01 -> 0 | J21: =I21*1.01 -> 0
A22: 2.1. | B22: Beruházások | C22: 150 | D22: 150 | E22: 150 | G22: ='1.1.sz.mell.'!C91 -> 1805000 | H22: =G22*1.01 -> 1823050 | I22: =H22*1.01 -> 1841280.5 | J22: =I22*1.01 -> 1859693.3
A23: 2.2. | B23: Felújítások
A24: 2.3. | B24: Egyéb felhalmozási kiadások
A25: 3. | B25: KÖLTSÉGVETÉSI KIADÁSOK ÖSSZESEN (1+2) | C25: =+C20+C21 -> 2.501578e+08 | D25: =+D20+D21 -> 2.5265938e+08 | E25: =+E20+E21 -> 2.5518597e+08
A26: 4. | B26: FINANSZÍROZÁSI KIADÁSOK ÖSSZESEN: | G26: ='1.1.sz.mell.'!C121 -> 0
A27: 5. | B27: KIADÁSOK ÖSSZESEN: (3.+4.) | C27: =+C25+C26 -> 2.501578e+08 | D27: =+D25+D26 -> 2.5265938e+08 | E27: =+E25+E26 -> 2.5518597e+08

Sheet 6. sz. mell.
A1: Előirányzat-felhasználási terv 2018. évre
O2: ='[1]1. sz tájékoztató tábla'!E3 -> Forintban!
A3: Sor-szám | B3: Megnevezés | C3: Január | D3: Február | E3: Március | F3: Április | G3: Május | H3: Június | I3: Július | J3: Auguszt. | K3: Szept. | L3: Okt. | M3: Nov. | N3: Dec. | O3: Összesen:
A4: 1. | B4: Bevételek
A5: 2. | B5: Társulás működési támogatásai | O5: =SUM(C5:N5) -> 0
A6: 3. | B6: Működési célú tám. ÁH-n belül | C6: 8048333 | D6: 8048333 | E6: 8048333 | F6: 8048333 | G6: 8048333 | H6: 8048333 | I6: 8048333 | J6: 8048333 | K6: 8048333 | L6: 8048333 | M6: 8048333 | N6: 8048329 | O6: =SUM(C6:N6) -> 96579992 | Q6: ='1.1.sz.mell.'!C27 -> 96580000 | S6: =ROUND(Q6/12,0) -> 8048333
A7: 4. | B7: Felhalmozási célú tám. ÁH-n belül | C7: 0 | D7: 0 | E7: 0 | F7: 0 | G7: 0 | H7: 0 | I7: 0 | J7: 0 | K7: 0 | L7: 0 | M7: 0 | N7: 0 | O7: =SUM(C7:N7) -> 0 | S7: =ROUND(Q7/12,0) -> 0
A8: 5. | B8: Működési bevételek | C8: 10833112 | D8: 10833112 | E8: 10833112 | F8: 10833112 | G8: 10833112 | H8: 10833112 | I8: 10833112 | J8: 10833112 | K8: 10833112 | L8: 10833112 | M8: 10833112 | N8: 10833108 | O8: =SUM(C8:N8) -> 129997340 | Q8: ='1.1.sz.mell.'!C6 -> 129997340 | S8: =ROUND(Q8/12,0) -> 10833112
A9: 6. | B9: Felhalmozási bevételek | O9: =SUM(C9:N9) -> 0
A10: 7. | B10: Működési célú átvett pénzeszk. | O10: =SUM(C10:N10) -> 0
A11: 8. | B11: Felhalm. célú átvett pénzeszk. | O11: =SUM(C11:N11) -> 0
A12: 9. | B12: Finanszírozási bevételek | G12: 24140746 | O12: =SUM(C12:N12) -> 24140746 | Q12: ='1.1.sz.mell.'!C65 -> 24140746
A13: 10. | B13: Bevételek összesen: | C13: =SUM(C5:C12) -> 18881445 | D13: =SUM(D5:D12) -> 18881445 | E13: =SUM(E5:E12) -> 18881445 | F13: =SUM(F5:F12) -> 18881445 | G13: =SUM(G5:G12) -> 43022191 | H13: =SUM(H5:H12) -> 18881445 | I13: =SUM(I5:I12) -> 18881445 | J13: =SUM(J5:J12) -> 18881445 | ... N13: =SUM(N5:N12) -> 18881437 | O13: =SUM(C13:N13) -> 250718078
A14: 11. | B14: Kiadások
A15: 12. | B15: Személyi juttatások | C15: 11776167 | D15: 11776167 | E15: 11776167 | F15: 11776167 | G15: 11776167 | H15: 11776167 | I15: 11776167 | J15: 11776167 | K15: 11776167 | L15: 11776167 | M15: 11776167 | N15: 11776163 | O15: =SUM(C15:N15) -> 141314000 | Q15: ='1.1.sz.mell.'!C85 -> 141314000 | S15: =ROUND(Q15/12,0) -> 11776167
A16: 13. | B16: Munkaadókat terhelő járulékok és szociális hozzájárulási adó | C16: 2644917 | D16: 2644917 | E16: 2644917 | F16: 2644917 | G16: 2644917 | H16: 2644917 | I16: 2644917 | J16: 2644917 | K16: 2644917 | L16: 2644917 | M16: 2644917 | N16: 2644913 | O16: =SUM(C16:N16) -> 31739000 | Q16: ='1.1.sz.mell.'!C86 -> 31739000 | S16: =ROUND(Q16/12,0) -> 2644917
A17: 14. | B17: Dologi kiadások | C17: 4971500 | D17: 4971500 | E17: 4971500 | F17: 4971500 | G17: 4971500 | H17: 4971500 | I17: 4971500 | J17: 4971500 | K17: 4971500 | L17: 4971500 | M17: 4971500 | N17: 4971500 | O17: =SUM(C17:N17) -> 59658000 | Q17: ='1.1.sz.mell.'!C87 -> 59658000 | S17: =ROUND(Q17/12,0) -> 4971500
A18: 15. | B18: Ellátottak pénzbeli juttatásai | O18: =SUM(C18:N18) -> 0 | Q18: ='1.1.sz.mell.'!C88 -> 0
A19: 16. | B19: Egyéb működési célú kiadások | E19: 867722 | F19: 1217000 | G19: 2300000 | I19: 1217000 | L19: 1217000 | N19: 1215000 | O19: =SUM(C19:N19) -> 8033722 | Q19: ='1.1.sz.mell.'!C89 -> 8033722
A20: 17. | B20: Beruházások | E20: 1805000 | O20: =SUM(C20:N20) -> 1805000 | Q20: ='1.1.sz.mell.'!C91 -> 1805000
A21: 18. | B21: Felújítások | O21: =SUM(C21:N21) -> 0
A22: 19. | B22: Egyéb felhalmozási kiadások | O22: =SUM(C22:N22) -> 0
A23: 20. | B23: Tartalékok | G23: 8168364 | O23: =SUM(C23:N23) -> 8168364 | Q23: ='1.1.sz.mell.'!C96 -> 8168364
A24: 21. | B24: Kölcsön nyújtása | O24: =SUM(C24:N24) -> 0
A25: 22. | B25: Finanszírozási kiadások | O25: =SUM(C25:N25) -> 0
A26: 23. | B26: Kiadások összesen: | C26: =SUM(C15:C25) -> 19392584 | D26: =SUM(D15:D25) -> 19392584 | E26: =SUM(E15:E25) -> 22065306 | F26: =SUM(F15:F25) -> 20609584 | G26: =SUM(G15:G25) -> 29860948 | H26: =SUM(H15:H25) -> 19392584 | I26: =SUM(I15:I25) -> 20609584 | J26: =SUM(J15:J25) -> 19392584 | ... N26: =SUM(N15:N25) -> 20607576 | O26: =SUM(C26:N26) -> 250718086 | Q26: =SUM(Q15:Q25) -> 250718086
A27: 24. | B27: Egyenleg | C27: =C13-C26 -> -511139 | D27: =D13-D26 -> -511139 | E27: =E13-E26 -> -3183861 | F27: =F13-F26 -> -1728139 | G27: =G13-G26 -> 13161243 | H27: =H13-H26 -> -511139 | I27: =I13-I26 -> -1728139 | J27: =J13-J26 -> -511139 | ... O27: =O13-O26 -> -8

Sheet 7.m
A1: Megnevezés | B1: Engedélyezett létszám | F1: Létszámváltozás | J1: Engedélyezett létszám
B2: 43101 | F2: 43132 | J2: 42767
B3: Kötelező | C3: Önként vállalt | D3: Államig. | E3: Összesen | F3: Kötelező | G3: Önként vállalt | H3: Államig. | I3: Összesen | J3: Kötelező | K3: Önként vállalt | L3: Államig. | M3: Összesen
A5: Gondozási Központ | B5: 45.8 | C5: 4.7 | D5: 0 | E5: =B5+C5+D5 -> 50.5 | F5: 1 | I5: =SUM(F5:H5) -> 1 | J5: =B5+F5 -> 46.8 | K5: =C5+G5 -> 4.7 | L5: =D5+H5 -> 0 | M5: =J5+K5+L5 -> 51.5
A7: Összesen | B7: =SUM(B5:B6) -> 45.8 | C7: =SUM(C5:C6) -> 4.7 | D7: =SUM(D5:D6) -> 0 | E7: =SUM(E5:E6) -> 50.5 | F7: =SUM(F5:F6) -> 1 | G7: =SUM(G5:G6) -> 0 | H7: =SUM(H5:H6) -> 0 | I7: =SUM(I5:I6) -> 1 | ... M7: =SUM(M5:M6) -> 51.5

Sheet 8.m
A1: VÖLGYSÉGI ÖNKORMÁNYZATOK TÁRSULÁSA 2018. ÉVI KÖLTSÉGVETÉSÉNEK PÉNZÜGYI MÉRLEGE
A2: B E V É T E L E K
E3: ='[1]11.sz.mell'!F7 -> Forintban!
A4: Sor- szám | B4: Bevételi jogcím | C4: 2016. évi tény | D4: 2017. évi várható | E4: 2018. évi előirányzat
A5: 1 | B5: 2 | C5: 3 | D5: 4 | E5: 5
A6: 1. | B6: Társulás működési támogatásai | E6: ='1.1.sz.mell.'!C5 -> 0
A7: 2. | B7: Működési célú támogatások államháztartáson belülről | C7: 136847952 | D7: 166608841 | E7: ='1.1.sz.mell.'!C6 -> 129997340
A8: 3. | B8: Felhalmozási célú támogatások államháztartáson belülről | E8: ='1.1.sz.mell.'!C13 -> 0
A9: 4. | B9: Működési bevételek (5.1.+…+ 5.10.) | C9: =SUM(C10:C19) -> 86959421 | D9: =SUM(D10:D19) -> 105933440 | E9: =SUM(E10:E19) -> 96580000
A10: 4.1 | B10: Készletértékesítés ellenértéke | C10: 26186 | E10: ='1.1.sz.mell.'!C28 -> 0
A11: 4.2 | B11: Szolgáltatások ellenértéke | C11: 44637916 | D11: 60552985 | E11: ='1.1.sz.mell.'!C29 -> 0
A12: 4.3 | B12: Közvetített szolgáltatások értéke | C12: 119040 | D12: 43035 | E12: ='1.1.sz.mell.'!C30 -> 0
A13: 4.4 | B13: Tulajdonosi bevételek | E13: ='1.1.sz.mell.'!C31 -> 0
A14: 4.5 | B14: Ellátási díjak | C14: 38440754 | D14: 41373809 | E14: ='1.1.sz.mell.'!C32 -> 0
A15: 4.6 | B15: Kiszámlázott általános forgalmi adó | C15: 3172658 | D15: 3650871 | E15: ='1.1.sz.mell.'!C33 -> 0
A16: 4.7 | B16: Általános forgalmi adó visszatérítése | C16: 0 | D16: 304000 | E16: ='1.1.sz.mell.'!C34 -> 0
A17: 4.8 | B17: Kamatbevételek | C17: 17276 | D17: 3740 | E17: ='1.1.sz.mell.'!C35 -> 0
A18: 4.9 | B18: Egyéb pénzügyi műveletek bevételei | C18: 535748 | E18: ='1.1.sz.mell.'!C36 -> 0
A19: 4.10 | B19: Egyéb működési bevételek | C19: 9843 | D19: 5000 | E19: ='1.1.sz.mell.'!C37 -> 96580000
A20: 5. | B20: Felhalmozási bevételek (5.1.+…+5.5.) | C20: =SUM(C21:C25) -> 0 | D20: =SUM(D21:D25) -> 0 | E20: =SUM(E21:E25) -> 0
