Workbook

Sheet 1.1.sz.mell.
A1: B E V É T E L E K
A2: 1. sz. táblázat | H2: Ezer forintban
A3: Sor- szám | B3: Bevételi jogcím | C3: 2015. évi előirányzat | D3: Javasolt módosítás | E3: Módosított előirányzat | F3: Társulási Tanács által javasolt módosítás | G3: Teljesítés | H3: Teljesítés %-a
A4: 1 | B4: 2 | C4: 3 | D4: 3 | E4: 3 | F4: 3 | G4: 3 | H4: 3
A5: 1. | B5: Társulás működési támogatásai
A6: 2. | B6: Működési célú támogatások államháztartáson belülről (2.1.+…+.2.5.) | C6: =+C7+C8+C9+C10+C11 -> 21927 | D6: =+D7+D8+D9+D10+D11 -> 0 | E6: =+E7+E8+E9+E10+E11 -> 22292 | F6: =+F7+F8+F9+F10+F11 -> 0 | G6: =+G7+G8+G9+G10+G11 -> 22029 | H6: =G6/E6*100 -> 98.820205
A7: 2.1. | B7: Elvonások és befizetések bevételei | C7: ='1.2.sz.mell.'!C7+'1.3.sz.mell.'!C7+'1.4.sz.mell.'!C7 -> 0 | D7: ='1.2.sz.mell.'!D7+'1.3.sz.mell.'!D7+'1.4.sz.mell.'!D7 -> 0 | E7: ='1.2.sz.mell.'!E7+'1.3.sz.mell.'!E7+'1.4.sz.mell.'!E7 -> 0 | F7: ='1.2.sz.mell.'!F7+'1.3.sz.mell.'!F7+'1.4.sz.mell.'!F7 -> 0 | G7: ='1.2.sz.mell.'!G7+'1.3.sz.mell.'!G7+'1.4.sz.mell.'!G7 -> 0
A8: 2.2. | B8: Működési célú garancia- és kezességvállalásból megtérülések | C8: ='1.2.sz.mell.'!C8+'1.3.sz.mell.'!C8+'1.4.sz.mell.'!C8 -> 0 | D8: ='1.2.sz.mell.'!D8+'1.3.sz.mell.'!D8+'1.4.sz.mell.'!D8 -> 0 | E8: ='1.2.sz.mell.'!E8+'1.3.sz.mell.'!E8+'1.4.sz.mell.'!E8 -> 0 | F8: ='1.2.sz.mell.'!F8+'1.3.sz.mell.'!F8+'1.4.sz.mell.'!F8 -> 0 | G8: ='1.2.sz.mell.'!G8+'1.3.sz.mell.'!G8+'1.4.sz.mell.'!G8 -> 0
A9: 2.3. | B9: Működési célú visszatérítendő támogatások, kölcsönök visszatérülése | C9: ='1.2.sz.mell.'!C9+'1.3.sz.mell.'!C9+'1.4.sz.mell.'!C9 -> 0 | D9: ='1.2.sz.mell.'!D9+'1.3.sz.mell.'!D9+'1.4.sz.mell.'!D9 -> 0 | E9: ='1.2.sz.mell.'!E9+'1.3.sz.mell.'!E9+'1.4.sz.mell.'!E9 -> 0 | F9: ='1.2.sz.mell.'!F9+'1.3.sz.mell.'!F9+'1.4.sz.mell.'!F9 -> 0 | G9: ='1.2.sz.mell.'!G9+'1.3.sz.mell.'!G9+'1.4.sz.mell.'!G9 -> 0
A10: 2.4. | B10: Működési célú visszatérítendő támogatások, kölcsönök igénybevétele | C10: ='1.2.sz.mell.'!C10+'1.3.sz.mell.'!C10+'1.4.sz.mell.'!C10 -> 0 | D10: ='1.2.sz.mell.'!D10+'1.3.sz.mell.'!D10+'1.4.sz.mell.'!D10 -> 0 | E10: ='1.2.sz.mell.'!E10+'1.3.sz.mell.'!E10+'1.4.sz.mell.'!E10 -> 0 | F10: ='1.2.sz.mell.'!F10+'1.3.sz.mell.'!F10+'1.4.sz.mell.'!F10 -> 0 | G10: ='1.2.sz.mell.'!G10+'1.3.sz.mell.'!G10+'1.4.sz.mell.'!G10 -> 0
A11: 2.5. | B11: Egyéb működési célú támogatások bevételei | C11: ='1.2.sz.mell.'!C11+'1.3.sz.mell.'!C11+'1.4.sz.mell.'!C11 -> 21927 | D11: ='1.2.sz.mell.'!D11+'1.3.sz.mell.'!D11+'1.4.sz.mell.'!D11 -> 0 | E11: ='1.2.sz.mell.'!E11+'1.3.sz.mell.'!E11+'1.4.sz.mell.'!E11 -> 22292 | F11: ='1.2.sz.mell.'!F11+'1.3.sz.mell.'!F11+'1.4.sz.mell.'!F11 -> 0 | G11: ='1.2.sz.mell.'!G11+'1.3.sz.mell.'!G11+'1.4.sz.mell.'!G11 -> 22029 | H11: =G11/E11*100 -> 98.820205
A12: 2.6. | B12: 2.5.-ből EU-s támogatás | C12: ='1.2.sz.mell.'!C12+'1.3.sz.mell.'!C12+'1.4.sz.mell.'!C12 -> 0 | D12: ='1.2.sz.mell.'!D12+'1.3.sz.mell.'!D12+'1.4.sz.mell.'!D12 -> 0 | E12: ='1.2.sz.mell.'!E12+'1.3.sz.mell.'!E12+'1.4.sz.mell.'!E12 -> 0 | F12: ='1.2.sz.mell.'!F12+'1.3.sz.mell.'!F12+'1.4.sz.mell.'!F12 -> 0 | G12: ='1.2.sz.mell.'!G12+'1.3.sz.mell.'!G12+'1.4.sz.mell.'!G12 -> 0
A13: 3. | B13: Felhalmozási célú támogatások államháztartáson belülről (3.1.+…+3.5.) | C13: =+C14+C15+C16+C17+C18 -> 0 | D13: =+D14+D15+D16+D17+D18 -> 0 | E13: =+E14+E15+E16+E17+E18 -> 0 | F13: =+F14+F15+F16+F17+F18 -> 0 | G13: =+G14+G15+G16+G17+G18 -> 0
A14: 3.1. | B14: Felhalmozási célú önkormányzati támogatások | C14: ='1.2.sz.mell.'!C14+'1.3.sz.mell.'!C14+'1.4.sz.mell.'!C14 -> 0 | D14: ='1.2.sz.mell.'!D14+'1.3.sz.mell.'!D14+'1.4.sz.mell.'!D14 -> 0 | E14: ='1.2.sz.mell.'!E14+'1.3.sz.mell.'!E14+'1.4.sz.mell.'!E14 -> 0 | F14: ='1.2.sz.mell.'!F14+'1.3.sz.mell.'!F14+'1.4.sz.mell.'!F14 -> 0 | G14: ='1.2.sz.mell.'!G14+'1.3.sz.mell.'!G14+'1.4.sz.mell.'!G14 -> 0
A15: 3.2. | B15: Felhalmozási célú garancia- és kezességvállalásból megtérülések | C15: ='1.2.sz.mell.'!C15+'1.3.sz.mell.'!C15+'1.4.sz.mell.'!C15 -> 0 | D15: ='1.2.sz.mell.'!D15+'1.3.sz.mell.'!D15+'1.4.sz.mell.'!D15 -> 0 | E15: ='1.2.sz.mell.'!E15+'1.3.sz.mell.'!E15+'1.4.sz.mell.'!E15 -> 0 | F15: ='1.2.sz.mell.'!F15+'1.3.sz.mell.'!F15+'1.4.sz.mell.'!F15 -> 0 | G15: ='1.2.sz.mell.'!G15+'1.3.sz.mell.'!G15+'1.4.sz.mell.'!G15 -> 0
A16: 3.3. | B16: Felhalmozási célú visszatérítendő támogatások, kölcsönök visszatérülése | C16: ='1.2.sz.mell.'!C16+'1.3.sz.mell.'!C16+'1.4.sz.mell.'!C16 -> 0 | D16: ='1.2.sz.mell.'!D16+'1.3.sz.mell.'!D16+'1.4.sz.mell.'!D16 -> 0 | E16: ='1.2.sz.mell.'!E16+'1.3.sz.mell.'!E16+'1.4.sz.mell.'!E16 -> 0 | F16: ='1.2.sz.mell.'!F16+'1.3.sz.mell.'!F16+'1.4.sz.mell.'!F16 -> 0 | G16: ='1.2.sz.mell.'!G16+'1.3.sz.mell.'!G16+'1.4.sz.mell.'!G16 -> 0
A17: 3.4. | B17: Felhalmozási célú visszatérítendő támogatások, kölcsönök igénybevétele | C17: ='1.2.sz.mell.'!C17+'1.3.sz.mell.'!C17+'1.4.sz.mell.'!C17 -> 0 | D17: ='1.2.sz.mell.'!D17+'1.3.sz.mell.'!D17+'1.4.sz.mell.'!D17 -> 0 | E17: ='1.2.sz.mell.'!E17+'1.3.sz.mell.'!E17+'1.4.sz.mell.'!E17 -> 0 | F17: ='1.2.sz.mell.'!F17+'1.3.sz.mell.'!F17+'1.4.sz.mell.'!F17 -> 0 | G17: ='1.2.sz.mell.'!G17+'1.3.sz.mell.'!G17+'1.4.sz.mell.'!G17 -> 0
A18: 3.5. | B18: Egyéb felhalmozási célú támogatások bevételei | C18: ='1.2.sz.mell.'!C18+'1.3.sz.mell.'!C18+'1.4.sz.mell.'!C18 -> 0 | D18: ='1.2.sz.mell.'!D18+'1.3.sz.mell.'!D18+'1.4.sz.mell.'!D18 -> 0 | E18: ='1.2.sz.mell.'!E18+'1.3.sz.mell.'!E18+'1.4.sz.mell.'!E18 -> 0 | F18: ='1.2.sz.mell.'!F18+'1.3.sz.mell.'!F18+'1.4.sz.mell.'!F18 -> 0 | G18: ='1.2.sz.mell.'!G18+'1.3.sz.mell.'!G18+'1.4.sz.mell.'!G18 -> 0
A19: 3.6. | B19: 3.5.-ből EU-s támogatás | C19: ='1.2.sz.mell.'!C19+'1.3.sz.mell.'!C19+'1.4.sz.mell.'!C19 -> 0 | D19: ='1.2.sz.mell.'!D19+'1.3.sz.mell.'!D19+'1.4.sz.mell.'!D19 -> 0 | E19: ='1.2.sz.mell.'!E19+'1.3.sz.mell.'!E19+'1.4.sz.mell.'!E19 -> 0 | F19: ='1.2.sz.mell.'!F19+'1.3.sz.mell.'!F19+'1.4.sz.mell.'!F19 -> 0 | G19: ='1.2.sz.mell.'!G19+'1.3.sz.mell.'!G19+'1.4.sz.mell.'!G19 -> 0
A20: 4. | B20: Közhatalmi bevételek | C20: =+C21+C24+C25+C26 -> 0 | D20: =+D21+D24+D25+D26 -> 0 | E20: =+E21+E24+E25+E26 -> 0 | F20: =+F21+F24+F25+F26 -> 0 | G20: =+G21+G24+G25+G26 -> 0
A21: 4.1. | B21: Helyi adók (4.1.1.+4.1.2.) | C21: ='1.2.sz.mell.'!C21+'1.3.sz.mell.'!C21+'1.4.sz.mell.'!C21 -> 0 | D21: ='1.2.sz.mell.'!D21+'1.3.sz.mell.'!D21+'1.4.sz.mell.'!D21 -> 0 | E21: ='1.2.sz.mell.'!E21+'1.3.sz.mell.'!E21+'1.4.sz.mell.'!E21 -> 0 | F21: ='1.2.sz.mell.'!F21+'1.3.sz.mell.'!F21+'1.4.sz.mell.'!F21 -> 0 | G21: ='1.2.sz.mell.'!G21+'1.3.sz.mell.'!G21+'1.4.sz.mell.'!G21 -> 0 | H21: =G21/E21*100 -> #DIV/0!
A22: 4.1.1. | B22: - Vagyoni típusú adók | C22: ='1.2.sz.mell.'!C22+'1.3.sz.mell.'!C22+'1.4.sz.mell.'!C22 -> 0 | D22: ='1.2.sz.mell.'!D22+'1.3.sz.mell.'!D22+'1.4.sz.mell.'!D22 -> 0 | E22: ='1.2.sz.mell.'!E22+'1.3.sz.mell.'!E22+'1.4.sz.mell.'!E22 -> 0 | F22: ='1.2.sz.mell.'!F22+'1.3.sz.mell.'!F22+'1.4.sz.mell.'!F22 -> 0 | G22: ='1.2.sz.mell.'!G22+'1.3.sz.mell.'!G22+'1.4.sz.mell.'!G22 -> 0 | H22: =G22/E22*100 -> #DIV/0!
A23: 4.1.2. | B23: - Termékek és szolgáltatások adói | C23: ='1.2.sz.mell.'!C23+'1.3.sz.mell.'!C23+'1.4.sz.mell.'!C23 -> 0 | D23: ='1.2.sz.mell.'!D23+'1.3.sz.mell.'!D23+'1.4.sz.mell.'!D23 -> 0 | E23: ='1.2.sz.mell.'!E23+'1.3.sz.mell.'!E23+'1.4.sz.mell.'!E23 -> 0 | F23: ='1.2.sz.mell.'!F23+'1.3.sz.mell.'!F23+'1.4.sz.mell.'!F23 -> 0 | G23: ='1.2.sz.mell.'!G23+'1.3.sz.mell.'!G23+'1.4.sz.mell.'!G23 -> 0 | H23: =G23/E23*100 -> #DIV/0!
A24: 4.2. | B24: Gépjárműadó | C24: ='1.2.sz.mell.'!C24+'1.3.sz.mell.'!C24+'1.4.sz.mell.'!C24 -> 0 | D24: ='1.2.sz.mell.'!D24+'1.3.sz.mell.'!D24+'1.4.sz.mell.'!D24 -> 0 | E24: ='1.2.sz.mell.'!E24+'1.3.sz.mell.'!E24+'1.4.sz.mell.'!E24 -> 0 | F24: ='1.2.sz.mell.'!F24+'1.3.sz.mell.'!F24+'1.4.sz.mell.'!F24 -> 0 | G24: ='1.2.sz.mell.'!G24+'1.3.sz.mell.'!G24+'1.4.sz.mell.'!G24 -> 0 | H24: =G24/E24*100 -> #DIV/0!
A25: 4.3. | B25: Egyéb áruhasználati és szolgáltatási adók | C25: ='1.2.sz.mell.'!C25+'1.3.sz.mell.'!C25+'1.4.sz.mell.'!C25 -> 0 | D25: ='1.2.sz.mell.'!D25+'1.3.sz.mell.'!D25+'1.4.sz.mell.'!D25 -> 0 | E25: ='1.2.sz.mell.'!E25+'1.3.sz.mell.'!E25+'1.4.sz.mell.'!E25 -> 0 | F25: ='1.2.sz.mell.'!F25+'1.3.sz.mell.'!F25+'1.4.sz.mell.'!F25 -> 0 | G25: ='1.2.sz.mell.'!G25+'1.3.sz.mell.'!G25+'1.4.sz.mell.'!G25 -> 0 | H25: =G25/E25*100 -> #DIV/0!
A26: 4.4. | B26: Egyéb közhatalmi bevételek | C26: ='1.2.sz.mell.'!C26+'1.3.sz.mell.'!C26+'1.4.sz.mell.'!C26 -> 0 | D26: ='1.2.sz.mell.'!D26+'1.3.sz.mell.'!D26+'1.4.sz.mell.'!D26 -> 0 | E26: ='1.2.sz.mell.'!E26+'1.3.sz.mell.'!E26+'1.4.sz.mell.'!E26 -> 0 | F26: ='1.2.sz.mell.'!F26+'1.3.sz.mell.'!F26+'1.4.sz.mell.'!F26 -> 0 | G26: ='1.2.sz.mell.'!G26+'1.3.sz.mell.'!G26+'1.4.sz.mell.'!G26 -> 0 | H26: =G26/E26*100 -> #DIV/0!
A27: 5. | B27: Működési bevételek (5.1.+…+ 5.10.) | C27: =SUM(C28:C37) -> 1964 | D27: =SUM(D28:D37) -> 0 | E27: =SUM(E28:E37) -> 2964 | F27: =SUM(F28:F37) -> 0 | G27: =SUM(G28:G37) -> 2956 | H27: =G27/E27*100 -> 99.730094
A28: 5.1. | B28: Készletértékesítés ellenértéke | C28: ='1.2.sz.mell.'!C28+'1.3.sz.mell.'!C28+'1.4.sz.mell.'!C28 -> 0 | D28: ='1.2.sz.mell.'!D28+'1.3.sz.mell.'!D28+'1.4.sz.mell.'!D28 -> 0 | E28: ='1.2.sz.mell.'!E28+'1.3.sz.mell.'!E28+'1.4.sz.mell.'!E28 -> 0 | F28: ='1.2.sz.mell.'!F28+'1.3.sz.mell.'!F28+'1.4.sz.mell.'!F28 -> 0 | G28: ='1.2.sz.mell.'!G28+'1.3.sz.mell.'!G28+'1.4.sz.mell.'!G28 -> 0
A29: 5.2. | B29: Szolgáltatások ellenértéke | C29: ='1.2.sz.mell.'!C29+'1.3.sz.mell.'!C29+'1.4.sz.mell.'!C29 -> 1660 | D29: ='1.2.sz.mell.'!D29+'1.3.sz.mell.'!D29+'1.4.sz.mell.'!D29 -> 0 | E29: ='1.2.sz.mell.'!E29+'1.3.sz.mell.'!E29+'1.4.sz.mell.'!E29 -> 2660 | F29: ='1.2.sz.mell.'!F29+'1.3.sz.mell.'!F29+'1.4.sz.mell.'!F29 -> 0 | G29: ='1.2.sz.mell.'!G29+'1.3.sz.mell.'!G29+'1.4.sz.mell.'!G29 -> 2677 | H29: =G29/E29*100 -> 100.6391
A30: 5.3. | B30: Közvetített szolgáltatások értéke | C30: ='1.2.sz.mell.'!C30+'1.3.sz.mell.'!C30+'1.4.sz.mell.'!C30 -> 254 | D30: ='1.2.sz.mell.'!D30+'1.3.sz.mell.'!D30+'1.4.sz.mell.'!D30 -> 0 | E30: ='1.2.sz.mell.'!E30+'1.3.sz.mell.'!E30+'1.4.sz.mell.'!E30 -> 254 | F30: ='1.2.sz.mell.'!F30+'1.3.sz.mell.'!F30+'1.4.sz.mell.'!F30 -> 0 | G30: ='1.2.sz.mell.'!G30+'1.3.sz.mell.'!G30+'1.4.sz.mell.'!G30 -> 254 | H30: =G30/E30*100 -> 100
A31: 5.4. | B31: Tulajdonosi bevételek | C31: ='1.2.sz.mell.'!C31+'1.3.sz.mell.'!C31+'1.4.sz.mell.'!C31 -> 0 | D31: ='1.2.sz.mell.'!D31+'1.3.sz.mell.'!D31+'1.4.sz.mell.'!D31 -> 0 | E31: ='1.2.sz.mell.'!E31+'1.3.sz.mell.'!E31+'1.4.sz.mell.'!E31 -> 0 | F31: ='1.2.sz.mell.'!F31+'1.3.sz.mell.'!F31+'1.4.sz.mell.'!F31 -> 0 | G31: ='1.2.sz.mell.'!G31+'1.3.sz.mell.'!G31+'1.4.sz.mell.'!G31 -> 0
A32: 5.5. | B32: Ellátási díjak | C32: ='1.2.sz.mell.'!C32+'1.3.sz.mell.'!C32+'1.4.sz.mell.'!C32 -> 0 | D32: ='1.2.sz.mell.'!D32+'1.3.sz.mell.'!D32+'1.4.sz.mell.'!D32 -> 0 | E32: ='1.2.sz.mell.'!E32+'1.3.sz.mell.'!E32+'1.4.sz.mell.'!E32 -> 0 | F32: ='1.2.sz.mell.'!F32+'1.3.sz.mell.'!F32+'1.4.sz.mell.'!F32 -> 0 | G32: ='1.2.sz.mell.'!G32+'1.3.sz.mell.'!G32+'1.4.sz.mell.'!G32 -> 0 | H32: =G32/E32*100 -> #DIV/0!
A33: 5.6. | B33: Kiszámlázott általános forgalmi adó | C33: ='1.2.sz.mell.'!C33+'1.3.sz.mell.'!C33+'1.4.sz.mell.'!C33 -> 0 | D33: ='1.2.sz.mell.'!D33+'1.3.sz.mell.'!D33+'1.4.sz.mell.'!D33 -> 0 | E33: ='1.2.sz.mell.'!E33+'1.3.sz.mell.'!E33+'1.4.sz.mell.'!E33 -> 0 | F33: ='1.2.sz.mell.'!F33+'1.3.sz.mell.'!F33+'1.4.sz.mell.'!F33 -> 0 | G33: ='1.2.sz.mell.'!G33+'1.3.sz.mell.'!G33+'1.4.sz.mell.'!G33 -> 0 | H33: =G33/E33*100 -> #DIV/0!
A34: 5.7. | B34: Általános forgalmi adó visszatérítése | C34: ='1.2.sz.mell.'!C34+'1.3.sz.mell.'!C34+'1.4.sz.mell.'!C34 -> 0 | D34: ='1.2.sz.mell.'!D34+'1.3.sz.mell.'!D34+'1.4.sz.mell.'!D34 -> 0 | E34: ='1.2.sz.mell.'!E34+'1.3.sz.mell.'!E34+'1.4.sz.mell.'!E34 -> 0 | F34: ='1.2.sz.mell.'!F34+'1.3.sz.mell.'!F34+'1.4.sz.mell.'!F34 -> 0 | G34: ='1.2.sz.mell.'!G34+'1.3.sz.mell.'!G34+'1.4.sz.mell.'!G34 -> 0 | H34: =G34/E34*100 -> #DIV/0!
A35: 5.8. | B35: Kamatbevételek | C35: ='1.2.sz.mell.'!C35+'1.3.sz.mell.'!C35+'1.4.sz.mell.'!C35 -> 50 | D35: ='1.2.sz.mell.'!D35+'1.3.sz.mell.'!D35+'1.4.sz.mell.'!D35 -> 0 | E35: ='1.2.sz.mell.'!E35+'1.3.sz.mell.'!E35+'1.4.sz.mell.'!E35 -> 50 | F35: ='1.2.sz.mell.'!F35+'1.3.sz.mell.'!F35+'1.4.sz.mell.'!F35 -> 0 | G35: ='1.2.sz.mell.'!G35+'1.3.sz.mell.'!G35+'1.4.sz.mell.'!G35 -> 25
A36: 5.9. | B36: Egyéb pénzügyi műveletek bevételei | C36: ='1.2.sz.mell.'!C36+'1.3.sz.mell.'!C36+'1.4.sz.mell.'!C36 -> 0 | D36: ='1.2.sz.mell.'!D36+'1.3.sz.mell.'!D36+'1.4.sz.mell.'!D36 -> 0 | E36: ='1.2.sz.mell.'!E36+'1.3.sz.mell.'!E36+'1.4.sz.mell.'!E36 -> 0 | F36: ='1.2.sz.mell.'!F36+'1.3.sz.mell.'!F36+'1.4.sz.mell.'!F36 -> 0 | G36: ='1.2.sz.mell.'!G36+'1.3.sz.mell.'!G36+'1.4.sz.mell.'!G36 -> 0
A37: 5.10. | B37: Egyéb működési bevételek | C37: ='1.2.sz.mell.'!C37+'1.3.sz.mell.'!C37+'1.4.sz.mell.'!C37 -> 0 | D37: ='1.2.sz.mell.'!D37+'1.3.sz.mell.'!D37+'1.4.sz.mell.'!D37 -> 0 | E37: ='1.2.sz.mell.'!E37+'1.3.sz.mell.'!E37+'1.4.sz.mell.'!E37 -> 0 | F37: ='1.2.sz.mell.'!F37+'1.3.sz.mell.'!F37+'1.4.sz.mell.'!F37 -> 0 | G37: ='1.2.sz.mell.'!G37+'1.3.sz.mell.'!G37+'1.4.sz.mell.'!G37 -> 0
A38: 6. | B38: Felhalmozási bevételek (6.1.+…+6.5.) | C38: =SUM(C39:C43) -> 0 | D38: =SUM(D39:D43) -> 0 | E38: =SUM(E39:E43) -> 0 | F38: =SUM(F39:F43) -> 0 | G38: =SUM(G39:G43) -> 0
A39: 6.1. | B39: Immateriális javak értékesítése | C39: ='1.2.sz.mell.'!C39+'1.3.sz.mell.'!C39+'1.4.sz.mell.'!C39 -> 0 | D39: ='1.2.sz.mell.'!D39+'1.3.sz.mell.'!D39+'1.4.sz.mell.'!D39 -> 0 | E39: ='1.2.sz.mell.'!E39+'1.3.sz.mell.'!E39+'1.4.sz.mell.'!E39 -> 0 | F39: ='1.2.sz.mell.'!F39+'1.3.sz.mell.'!F39+'1.4.sz.mell.'!F39 -> 0 | G39: ='1.2.sz.mell.'!G39+'1.3.sz.mell.'!G39+'1.4.sz.mell.'!G39 -> 0
A40: 6.2. | B40: Ingatlanok értékesítése | C40: ='1.2.sz.mell.'!C40+'1.3.sz.mell.'!C40+'1.4.sz.mell.'!C40 -> 0 | D40: ='1.2.sz.mell.'!D40+'1.3.sz.mell.'!D40+'1.4.sz.mell.'!D40 -> 0 | E40: ='1.2.sz.mell.'!E40+'1.3.sz.mell.'!E40+'1.4.sz.mell.'!E40 -> 0 | F40: ='1.2.sz.mell.'!F40+'1.3.sz.mell.'!F40+'1.4.sz.mell.'!F40 -> 0 | G40: ='1.2.sz.mell.'!G40+'1.3.sz.mell.'!G40+'1.4.sz.mell.'!G40 -> 0
A41: 6.3. | B41: Egyéb tárgyi eszközök értékesítése | C41: ='1.2.sz.mell.'!C41+'1.3.sz.mell.'!C41+'1.4.sz.mell.'!C41 -> 0 | D41: ='1.2.sz.mell.'!D41+'1.3.sz.mell.'!D41+'1.4.sz.mell.'!D41 -> 0 | E41: ='1.2.sz.mell.'!E41+'1.3.sz.mell.'!E41+'1.4.sz.mell.'!E41 -> 0 | F41: ='1.2.sz.mell.'!F41+'1.3.sz.mell.'!F41+'1.4.sz.mell.'!F41 -> 0 | G41: ='1.2.sz.mell.'!G41+'1.3.sz.mell.'!G41+'1.4.sz.mell.'!G41 -> 0
A42: 6.4. | B42: Részesedések értékesítése | C42: ='1.2.sz.mell.'!C42+'1.3.sz.mell.'!C42+'1.4.sz.mell.'!C42 -> 0 | D42: ='1.2.sz.mell.'!D42+'1.3.sz.mell.'!D42+'1.4.sz.mell.'!D42 -> 0 | E42: ='1.2.sz.mell.'!E42+'1.3.sz.mell.'!E42+'1.4.sz.mell.'!E42 -> 0 | F42: ='1.2.sz.mell.'!F42+'1.3.sz.mell.'!F42+'1.4.sz.mell.'!F42 -> 0 | G42: ='1.2.sz.mell.'!G42+'1.3.sz.mell.'!G42+'1.4.sz.mell.'!G42 -> 0
A43: 6.5. | B43: Részesedések megszűnéséhez kapcsolódó bevételek | C43: ='1.2.sz.mell.'!C43+'1.3.sz.mell.'!C43+'1.4.sz.mell.'!C43 -> 0 | D43: ='1.2.sz.mell.'!D43+'1.3.sz.mell.'!D43+'1.4.sz.mell.'!D43 -> 0 | E43: ='1.2.sz.mell.'!E43+'1.3.sz.mell.'!E43+'1.4.sz.mell.'!E43 -> 0 | F43: ='1.2.sz.mell.'!F43+'1.3.sz.mell.'!F43+'1.4.sz.mell.'!F43 -> 0 | G43: ='1.2.sz.mell.'!G43+'1.3.sz.mell.'!G43+'1.4.sz.mell.'!G43 -> 0
A44: 7. | B44: Működési célú átvett pénzeszközök (7.1. + … + 7.3.) | C44: =SUM(C45:C47) -> 0 | D44: =SUM(D45:D47) -> 0 | E44: =SUM(E45:E47) -> 0 | F44: =SUM(F45:F47) -> 0 | G44: =SUM(G45:G47) -> 0
A45: 7.1. | B45: Működési célú garancia- és kezességvállalásból megtérülések ÁH-n kívülről | C45: ='1.2.sz.mell.'!C45+'1.3.sz.mell.'!C45+'1.4.sz.mell.'!C45 -> 0 | D45: ='1.2.sz.mell.'!D45+'1.3.sz.mell.'!D45+'1.4.sz.mell.'!D45 -> 0 | E45: ='1.2.sz.mell.'!E45+'1.3.sz.mell.'!E45+'1.4.sz.mell.'!E45 -> 0 | F45: ='1.2.sz.mell.'!F45+'1.3.sz.mell.'!F45+'1.4.sz.mell.'!F45 -> 0 | G45: ='1.2.sz.mell.'!G45+'1.3.sz.mell.'!G45+'1.4.sz.mell.'!G45 -> 0
A46: 7.2. | B46: Működési célú visszatérítendő támogatások, kölcsönök visszatér. ÁH-n kívülről | C46: ='1.2.sz.mell.'!C46+'1.3.sz.mell.'!C46+'1.4.sz.mell.'!C46 -> 0 | D46: ='1.2.sz.mell.'!D46+'1.3.sz.mell.'!D46+'1.4.sz.mell.'!D46 -> 0 | E46: ='1.2.sz.mell.'!E46+'1.3.sz.mell.'!E46+'1.4.sz.mell.'!E46 -> 0 | F46: ='1.2.sz.mell.'!F46+'1.3.sz.mell.'!F46+'1.4.sz.mell.'!F46 -> 0 | G46: ='1.2.sz.mell.'!G46+'1.3.sz.mell.'!G46+'1.4.sz.mell.'!G46 -> 0
A47: 7.3. | B47: Egyéb működési célú átvett pénzeszköz | C47: ='1.2.sz.mell.'!C47+'1.3.sz.mell.'!C47+'1.4.sz.mell.'!C47 -> 0 | D47: ='1.2.sz.mell.'!D47+'1.3.sz.mell.'!D47+'1.4.sz.mell.'!D47 -> 0 | E47: ='1.2.sz.mell.'!E47+'1.3.sz.mell.'!E47+'1.4.sz.mell.'!E47 -> 0 | F47: ='1.2.sz.mell.'!F47+'1.3.sz.mell.'!F47+'1.4.sz.mell.'!F47 -> 0 | G47: ='1.2.sz.mell.'!G47+'1.3.sz.mell.'!G47+'1.4.sz.mell.'!G47 -> 0
A48: 7.4. | B48: 7.3.-ból EU-s támogatás (közvetlen) | C48: ='1.2.sz.mell.'!C48+'1.3.sz.mell.'!C48+'1.4.sz.mell.'!C48 -> 0 | D48: ='1.2.sz.mell.'!D48+'1.3.sz.mell.'!D48+'1.4.sz.mell.'!D48 -> 0 | E48: ='1.2.sz.mell.'!E48+'1.3.sz.mell.'!E48+'1.4.sz.mell.'!E48 -> 0 | F48: ='1.2.sz.mell.'!F48+'1.3.sz.mell.'!F48+'1.4.sz.mell.'!F48 -> 0 | G48: ='1.2.sz.mell.'!G48+'1.3.sz.mell.'!G48+'1.4.sz.mell.'!G48 -> 0
A49: 8. | B49: Felhalmozási célú átvett pénzeszközök (8.1.+8.2.+8.3.) | C49: =SUM(C50:C52) -> 0 | D49: =SUM(D50:D52) -> 0 | E49: =SUM(E50:E52) -> 0 | F49: =SUM(F50:F52) -> 0 | G49: =SUM(G50:G52) -> 0
A50: 8.1. | B50: Felhalm. célú garancia- és kezességvállalásból megtérülések ÁH-n kívülről | C50: ='1.2.sz.mell.'!C50+'1.3.sz.mell.'!C50+'1.4.sz.mell.'!C50 -> 0 | D50: ='1.2.sz.mell.'!D50+'1.3.sz.mell.'!D50+'1.4.sz.mell.'!D50 -> 0 | E50: ='1.2.sz.mell.'!E50+'1.3.sz.mell.'!E50+'1.4.sz.mell.'!E50 -> 0 | F50: ='1.2.sz.mell.'!F50+'1.3.sz.mell.'!F50+'1.4.sz.mell.'!F50 -> 0 | G50: ='1.2.sz.mell.'!G50+'1.3.sz.mell.'!G50+'1.4.sz.mell.'!G50 -> 0
A51: 8.2. | B51: Felhalm. célú visszatérítendő támogatások, kölcsönök visszatér. ÁH-n kívülről | C51: ='1.2.sz.mell.'!C51+'1.3.sz.mell.'!C51+'1.4.sz.mell.'!C51 -> 0 | D51: ='1.2.sz.mell.'!D51+'1.3.sz.mell.'!D51+'1.4.sz.mell.'!D51 -> 0 | E51: ='1.2.sz.mell.'!E51+'1.3.sz.mell.'!E51+'1.4.sz.mell.'!E51 -> 0 | F51: ='1.2.sz.mell.'!F51+'1.3.sz.mell.'!F51+'1.4.sz.mell.'!F51 -> 0 | G51: ='1.2.sz.mell.'!G51+'1.3.sz.mell.'!G51+'1.4.sz.mell.'!G51 -> 0
A52: 8.3. | B52: Egyéb felhalmozási célú átvett pénzeszköz | C52: ='1.2.sz.mell.'!C52+'1.3.sz.mell.'!C52+'1.4.sz.mell.'!C52 -> 0 | D52: ='1.2.sz.mell.'!D52+'1.3.sz.mell.'!D52+'1.4.sz.mell.'!D52 -> 0 | E52: ='1.2.sz.mell.'!E52+'1.3.sz.mell.'!E52+'1.4.sz.mell.'!E52 -> 0 | F52: ='1.2.sz.mell.'!F52+'1.3.sz.mell.'!F52+'1.4.sz.mell.'!F52 -> 0 | G52: ='1.2.sz.mell.'!G52+'1.3.sz.mell.'!G52+'1.4.sz.mell.'!G52 -> 0
A53: 8.4. | B53: 8.3.-ból EU-s támogatás (közvetlen) | C53: ='1.2.sz.mell.'!C53+'1.3.sz.mell.'!C53+'1.4.sz.mell.'!C53 -> 0 | D53: ='1.2.sz.mell.'!D53+'1.3.sz.mell.'!D53+'1.4.sz.mell.'!D53 -> 0 | E53: ='1.2.sz.mell.'!E53+'1.3.sz.mell.'!E53+'1.4.sz.mell.'!E53 -> 0 | F53: ='1.2.sz.mell.'!F53+'1.3.sz.mell.'!F53+'1.4.sz.mell.'!F53 -> 0 | G53: ='1.2.sz.mell.'!G53+'1.3.sz.mell.'!G53+'1.4.sz.mell.'!G53 -> 0
A54: 9. | B54: KÖLTSÉGVETÉSI BEVÉTELEK ÖSSZESEN: (1+…+8) | C54: =+C5+C6+C13+C20+C27+C38+C44+C49 -> 23891 | D54: =+D5+D6+D13+D20+D27+D38+D44+D49 -> 0 | E54: =+E5+E6+E13+E20+E27+E38+E44+E49 -> 25256 | F54: =+F5+F6+F13+F20+F27+F38+F44+F49 -> 0 | G54: =+G5+G6+G13+G20+G27+G38+G44+G49 -> 24985 | H54: =G54/E54*100 -> 98.926988
A55: 10. | B55: Hitel-, kölcsönfelvétel államháztartáson kívülről (10.1.+10.3.) | C55: =SUM(C56:C58) -> 0 | D55: =SUM(D56:D58) -> 0 | E55: =SUM(E56:E58) -> 0 | F55: =SUM(F56:F58) -> 0 | G55: =SUM(G56:G58) -> 0
A56: 10.1. | B56: Hosszú lejáratú hitelek, kölcsönök felvétele | C56: ='1.2.sz.mell.'!C56+'1.3.sz.mell.'!C56+'1.4.sz.mell.'!C56 -> 0 | D56: ='1.2.sz.mell.'!D56+'1.3.sz.mell.'!D56+'1.4.sz.mell.'!D56 -> 0 | E56: ='1.2.sz.mell.'!E56+'1.3.sz.mell.'!E56+'1.4.sz.mell.'!E56 -> 0 | F56: ='1.2.sz.mell.'!F56+'1.3.sz.mell.'!F56+'1.4.sz.mell.'!F56 -> 0 | G56: ='1.2.sz.mell.'!G56+'1.3.sz.mell.'!G56+'1.4.sz.mell.'!G56 -> 0
A57: 10.2. | B57: Likviditási célú hitelek, kölcsönök felvétele pénzügyi vállalkozástól | C57: ='1.2.sz.mell.'!C57+'1.3.sz.mell.'!C57+'1.4.sz.mell.'!C57 -> 0 | D57: ='1.2.sz.mell.'!D57+'1.3.sz.mell.'!D57+'1.4.sz.mell.'!D57 -> 0 | E57: ='1.2.sz.mell.'!E57+'1.3.sz.mell.'!E57+'1.4.sz.mell.'!E57 -> 0 | F57: ='1.2.sz.mell.'!F57+'1.3.sz.mell.'!F57+'1.4.sz.mell.'!F57 -> 0 | G57: ='1.2.sz.mell.'!G57+'1.3.sz.mell.'!G57+'1.4.sz.mell.'!G57 -> 0
A58: 10.3. | B58: Rövid lejáratú hitelek, kölcsönök felvétele | C58: ='1.2.sz.mell.'!C58+'1.3.sz.mell.'!C58+'1.4.sz.mell.'!C58 -> 0 | D58: ='1.2.sz.mell.'!D58+'1.3.sz.mell.'!D58+'1.4.sz.mell.'!D58 -> 0 | E58: ='1.2.sz.mell.'!E58+'1.3.sz.mell.'!E58+'1.4.sz.mell.'!E58 -> 0 | F58: ='1.2.sz.mell.'!F58+'1.3.sz.mell.'!F58+'1.4.sz.mell.'!F58 -> 0 | G58: ='1.2.sz.mell.'!G58+'1.3.sz.mell.'!G58+'1.4.sz.mell.'!G58 -> 0
A59: 11. | B59: Belföldi értékpapírok bevételei (11.1. +…+ 11.4.) | C59: =SUM(C60:C63) -> 0 | D59: =SUM(D60:D63) -> 0 | E59: =SUM(E60:E63) -> 0 | F59: =SUM(F60:F63) -> 0 | G59: =SUM(G60:G63) -> 0
A60: 11.1. | B60: Forgatási célú belföldi értékpapírok beváltása, értékesítése | C60: ='1.2.sz.mell.'!C60+'1.3.sz.mell.'!C60+'1.4.sz.mell.'!C60 -> 0 | D60: ='1.2.sz.mell.'!D60+'1.3.sz.mell.'!D60+'1.4.sz.mell.'!D60 -> 0 | E60: ='1.2.sz.mell.'!E60+'1.3.sz.mell.'!E60+'1.4.sz.mell.'!E60 -> 0 | F60: ='1.2.sz.mell.'!F60+'1.3.sz.mell.'!F60+'1.4.sz.mell.'!F60 -> 0 | G60: ='1.2.sz.mell.'!G60+'1.3.sz.mell.'!G60+'1.4.sz.mell.'!G60 -> 0
A61: 11.2. | B61: Forgatási célú belföldi értékpapírok kibocsátása | C61: ='1.2.sz.mell.'!C61+'1.3.sz.mell.'!C61+'1.4.sz.mell.'!C61 -> 0 | D61: ='1.2.sz.mell.'!D61+'1.3.sz.mell.'!D61+'1.4.sz.mell.'!D61 -> 0 | E61: ='1.2.sz.mell.'!E61+'1.3.sz.mell.'!E61+'1.4.sz.mell.'!E61 -> 0 | F61: ='1.2.sz.mell.'!F61+'1.3.sz.mell.'!F61+'1.4.sz.mell.'!F61 -> 0 | G61: ='1.2.sz.mell.'!G61+'1.3.sz.mell.'!G61+'1.4.sz.mell.'!G61 -> 0
A62: 11.3. | B62: Befektetési célú belföldi értékpapírok beváltása, értékesítése | C62: ='1.2.sz.mell.'!C62+'1.3.sz.mell.'!C62+'1.4.sz.mell.'!C62 -> 0 | D62: ='1.2.sz.mell.'!D62+'1.3.sz.mell.'!D62+'1.4.sz.mell.'!D62 -> 0 | E62: ='1.2.sz.mell.'!E62+'1.3.sz.mell.'!E62+'1.4.sz.mell.'!E62 -> 0 | F62: ='1.2.sz.mell.'!F62+'1.3.sz.mell.'!F62+'1.4.sz.mell.'!F62 -> 0 | G62: ='1.2.sz.mell.'!G62+'1.3.sz.mell.'!G62+'1.4.sz.mell.'!G62 -> 0
A63: 11.4. | B63: Befektetési célú belföldi értékpapírok kibocsátása | C63: ='1.2.sz.mell.'!C63+'1.3.sz.mell.'!C63+'1.4.sz.mell.'!C63 -> 0 | D63: ='1.2.sz.mell.'!D63+'1.3.sz.mell.'!D63+'1.4.sz.mell.'!D63 -> 0 | E63: ='1.2.sz.mell.'!E63+'1.3.sz.mell.'!E63+'1.4.sz.mell.'!E63 -> 0 | F63: ='1.2.sz.mell.'!F63+'1.3.sz.mell.'!F63+'1.4.sz.mell.'!F63 -> 0 | G63: ='1.2.sz.mell.'!G63+'1.3.sz.mell.'!G63+'1.4.sz.mell.'!G63 -> 0
A64: 12. | B64: Maradvány igénybevétele (12.1. + 12.2.) | C64: =SUM(C65:C66) -> 2164 | D64: =SUM(D65:D66) -> 0 | E64: =SUM(E65:E66) -> 2134 | F64: =SUM(F65:F66) -> 0 | G64: =SUM(G65:G66) -> 2134 | H64: =G64/E64*100 -> 100
A65: 12.1. | B65: Előző év költségvetési maradványának igénybevétele | C65: ='1.2.sz.mell.'!C65+'1.3.sz.mell.'!C65+'1.4.sz.mell.'!C65 -> 2164 | D65: ='1.2.sz.mell.'!D65+'1.3.sz.mell.'!D65+'1.4.sz.mell.'!D65 -> 0 | E65: ='1.2.sz.mell.'!E65+'1.3.sz.mell.'!E65+'1.4.sz.mell.'!E65 -> 2134 | F65: ='1.2.sz.mell.'!F65+'1.3.sz.mell.'!F65+'1.4.sz.mell.'!F65 -> 0 | G65: ='1.2.sz.mell.'!G65+'1.3.sz.mell.'!G65+'1.4.sz.mell.'!G65 -> 2134 | H65: =G65/E65*100 -> 100
A66: 12.2. | B66: Előző év vállalkozási maradványának igénybevétele | C66: ='1.2.sz.mell.'!C66+'1.3.sz.mell.'!C66+'1.4.sz.mell.'!C66 -> 0 | D66: ='1.2.sz.mell.'!D66+'1.3.sz.mell.'!D66+'1.4.sz.mell.'!D66 -> 0 | E66: ='1.2.sz.mell.'!E66+'1.3.sz.mell.'!E66+'1.4.sz.mell.'!E66 -> 0 | F66: ='1.2.sz.mell.'!F66+'1.3.sz.mell.'!F66+'1.4.sz.mell.'!F66 -> 0 | G66: ='1.2.sz.mell.'!G66+'1.3.sz.mell.'!G66+'1.4.sz.mell.'!G66 -> 0
A67: 13. | B67: Belföldi finanszírozás bevételei (13.1. + … + 13.3.) | C67: =SUM(C68:C70) -> 0 | D67: =SUM(D68:D70) -> 0 | E67: =SUM(E68:E70) -> 0 | F67: =SUM(F68:F70) -> 0 | G67: =SUM(G68:G70) -> 0
A68: 13.1. | B68: Államháztartáson belüli megelőlegezések | C68: ='1.2.sz.mell.'!C68+'1.3.sz.mell.'!C68+'1.4.sz.mell.'!C68 -> 0 | D68: ='1.2.sz.mell.'!D68+'1.3.sz.mell.'!D68+'1.4.sz.mell.'!D68 -> 0 | E68: ='1.2.sz.mell.'!E68+'1.3.sz.mell.'!E68+'1.4.sz.mell.'!E68 -> 0 | F68: ='1.2.sz.mell.'!F68+'1.3.sz.mell.'!F68+'1.4.sz.mell.'!F68 -> 0 | G68: ='1.2.sz.mell.'!G68+'1.3.sz.mell.'!G68+'1.4.sz.mell.'!G68 -> 0
A69: 13.2. | B69: Államháztartáson belüli megelőlegezések törlesztése | C69: ='1.2.sz.mell.'!C69+'1.3.sz.mell.'!C69+'1.4.sz.mell.'!C69 -> 0 | D69: ='1.2.sz.mell.'!D69+'1.3.sz.mell.'!D69+'1.4.sz.mell.'!D69 -> 0 | E69: ='1.2.sz.mell.'!E69+'1.3.sz.mell.'!E69+'1.4.sz.mell.'!E69 -> 0 | F69: ='1.2.sz.mell.'!F69+'1.3.sz.mell.'!F69+'1.4.sz.mell.'!F69 -> 0 | G69: ='1.2.sz.mell.'!G69+'1.3.sz.mell.'!G69+'1.4.sz.mell.'!G69 -> 0
A70: 13.3. | B70: Betétek megszüntetése | C70: ='1.2.sz.mell.'!C70+'1.3.sz.mell.'!C70+'1.4.sz.mell.'!C70 -> 0 | D70: ='1.2.sz.mell.'!D70+'1.3.sz.mell.'!D70+'1.4.sz.mell.'!D70 -> 0 | E70: ='1.2.sz.mell.'!E70+'1.3.sz.mell.'!E70+'1.4.sz.mell.'!E70 -> 0 | F70: ='1.2.sz.mell.'!F70+'1.3.sz.mell.'!F70+'1.4.sz.mell.'!F70 -> 0 | G70: ='1.2.sz.mell.'!G70+'1.3.sz.mell.'!G70+'1.4.sz.mell.'!G70 -> 0
A71: 14. | B71: Külföldi finanszírozás bevételei (14.1.+…14.4.) | C71: =SUM(C72:C75) -> 0 | D71: =SUM(D72:D75) -> 0 | E71: =SUM(E72:E75) -> 0 | F71: =SUM(F72:F75) -> 0 | G71: =SUM(G72:G75) -> 0
A72: 14.1. | B72: Forgatási célú külföldi értékpapírok beváltása, értékesítése | C72: ='1.2.sz.mell.'!C72+'1.3.sz.mell.'!C72+'1.4.sz.mell.'!C72 -> 0 | D72: ='1.2.sz.mell.'!D72+'1.3.sz.mell.'!D72+'1.4.sz.mell.'!D72 -> 0 | E72: ='1.2.sz.mell.'!E72+'1.3.sz.mell.'!E72+'1.4.sz.mell.'!E72 -> 0 | F72: ='1.2.sz.mell.'!F72+'1.3.sz.mell.'!F72+'1.4.sz.mell.'!F72 -> 0 | G72: ='1.2.sz.mell.'!G72+'1.3.sz.mell.'!G72+'1.4.sz.mell.'!G72 -> 0
A73: 14.2. | B73: Befektetési célú külföldi értékpapírok beváltása, értékesítése | C73: ='1.2.sz.mell.'!C73+'1.3.sz.mell.'!C73+'1.4.sz.mell.'!C73 -> 0 | D73: ='1.2.sz.mell.'!D73+'1.3.sz.mell.'!D73+'1.4.sz.mell.'!D73 -> 0 | E73: ='1.2.sz.mell.'!E73+'1.3.sz.mell.'!E73+'1.4.sz.mell.'!E73 -> 0 | F73: ='1.2.sz.mell.'!F73+'1.3.sz.mell.'!F73+'1.4.sz.mell.'!F73 -> 0 | G73: ='1.2.sz.mell.'!G73+'1.3.sz.mell.'!G73+'1.4.sz.mell.'!G73 -> 0
A74: 14.3. | B74: Külföldi értékpapírok kibocsátása | C74: ='1.2.sz.mell.'!C74+'1.3.sz.mell.'!C74+'1.4.sz.mell.'!C74 -> 0 | D74: ='1.2.sz.mell.'!D74+'1.3.sz.mell.'!D74+'1.4.sz.mell.'!D74 -> 0 | E74: ='1.2.sz.mell.'!E74+'1.3.sz.mell.'!E74+'1.4.sz.mell.'!E74 -> 0 | F74: ='1.2.sz.mell.'!F74+'1.3.sz.mell.'!F74+'1.4.sz.mell.'!F74 -> 0 | G74: ='1.2.sz.mell.'!G74+'1.3.sz.mell.'!G74+'1.4.sz.mell.'!G74 -> 0
A75: 14.4. | B75: Külföldi hitelek, kölcsönök felvétele | C75: ='1.2.sz.mell.'!C75+'1.3.sz.mell.'!C75+'1.4.sz.mell.'!C75 -> 0 | D75: ='1.2.sz.mell.'!D75+'1.3.sz.mell.'!D75+'1.4.sz.mell.'!D75 -> 0 | E75: ='1.2.sz.mell.'!E75+'1.3.sz.mell.'!E75+'1.4.sz.mell.'!E75 -> 0 | F75: ='1.2.sz.mell.'!F75+'1.3.sz.mell.'!F75+'1.4.sz.mell.'!F75 -> 0 | G75: ='1.2.sz.mell.'!G75+'1.3.sz.mell.'!G75+'1.4.sz.mell.'!G75 -> 0
A76: 15. | B76: Adóssághoz nem kapcsolódó származékos ügyletek bevételei
A77: 16. | B77: FINANSZÍROZÁSI BEVÉTELEK ÖSSZESEN: (10. + … +15.) | C77: =+C55+C59+C64+C67+C71+C76 -> 2164 | D77: =+D55+D59+D64+D67+D71+D76 -> 0 | E77: =+E55+E59+E64+E67+E71+E76 -> 2134 | F77: =+F55+F59+F64+F67+F71+F76 -> 0 | G77: =+G55+G59+G64+G67+G71+G76 -> 2134 | H77: =G77/E77*100 -> 100
A78: 17. | B78: KÖLTSÉGVETÉSI ÉS FINANSZÍROZÁSI BEVÉTELEK ÖSSZESEN: (9+16) | C78: =+C54+C77 -> 26055 | D78: =+D54+D77 -> 0 | E78: =+E54+E77 -> 27390 | F78: =+F54+F77 -> 0 | G78: =+G54+G77 -> 27119 | H78: =G78/E78*100 -> 99.010588
A80: K I A D Á S O K
A81: 2. sz. táblázat | H81: Ezer forintban
A82: Sor- szám | B82: Kiadási jogcímek | C82: 2015. évi előirányzat | D82: Javasolt módosítás | E82: Módosított előirányzat | F82: Társulási Tanács által javasolt módosítás | G82: Teljesítés | H82: Teljesítés %-a
A83: 1 | B83: 2 | C83: 3 | D83: 3 | E83: 3 | F83: 3 | G83: 3 | H83: 3
A84: 1. | B84: Működési költségvetés kiadásai (1.1+…+1.5.) | C84: =SUM(C85:C89) -> 25725 | D84: =SUM(D85:D89) -> 0 | E84: =SUM(E85:E89) -> 26090 | F84: =SUM(F85:F89) -> 0 | G84: =SUM(G85:G89) -> 21010 | H84: =G84/E84*100 -> 80.528938
A85: 1.1. | B85: Személyi juttatások | C85: ='1.2.sz.mell.'!C85+'1.3.sz.mell.'!C85+'1.4.sz.mell.'!C85 -> 195 | D85: ='1.2.sz.mell.'!D85+'1.3.sz.mell.'!D85+'1.4.sz.mell.'!D85 -> 0 | E85: ='1.2.sz.mell.'!E85+'1.3.sz.mell.'!E85+'1.4.sz.mell.'!E85 -> 195 | F85: ='1.2.sz.mell.'!F85+'1.3.sz.mell.'!F85+'1.4.sz.mell.'!F85 -> 0 | G85: ='1.2.sz.mell.'!G85+'1.3.sz.mell.'!G85+'1.4.sz.mell.'!G85 -> 29 | H85: =G85/E85*100 -> 14.871795
A86: 1.2. | B86: Munkaadókat terhelő járulékok és szociális hozzájárulási adó | C86: ='1.2.sz.mell.'!C86+'1.3.sz.mell.'!C86+'1.4.sz.mell.'!C86 -> 153 | D86: ='1.2.sz.mell.'!D86+'1.3.sz.mell.'!D86+'1.4.sz.mell.'!D86 -> 0 | E86: ='1.2.sz.mell.'!E86+'1.3.sz.mell.'!E86+'1.4.sz.mell.'!E86 -> 153 | F86: ='1.2.sz.mell.'!F86+'1.3.sz.mell.'!F86+'1.4.sz.mell.'!F86 -> 0 | G86: ='1.2.sz.mell.'!G86+'1.3.sz.mell.'!G86+'1.4.sz.mell.'!G86 -> 13 | H86: =G86/E86*100 -> 8.496732
A87: 1.3. | B87: Dologi kiadások | C87: ='1.2.sz.mell.'!C87+'1.3.sz.mell.'!C87+'1.4.sz.mell.'!C87 -> 7470 | D87: ='1.2.sz.mell.'!D87+'1.3.sz.mell.'!D87+'1.4.sz.mell.'!D87 -> 0 | E87: ='1.2.sz.mell.'!E87+'1.3.sz.mell.'!E87+'1.4.sz.mell.'!E87 -> 7470 | F87: ='1.2.sz.mell.'!F87+'1.3.sz.mell.'!F87+'1.4.sz.mell.'!F87 -> 0 | G87: ='1.2.sz.mell.'!G87+'1.3.sz.mell.'!G87+'1.4.sz.mell.'!G87 -> 3202 | H87: =G87/E87*100 -> 42.864793
A88: 1.4. | B88: Ellátottak pénzbeli juttatásai | C88: ='1.2.sz.mell.'!C88+'1.3.sz.mell.'!C88+'1.4.sz.mell.'!C88 -> 0 | D88: ='1.2.sz.mell.'!D88+'1.3.sz.mell.'!D88+'1.4.sz.mell.'!D88 -> 0 | E88: ='1.2.sz.mell.'!E88+'1.3.sz.mell.'!E88+'1.4.sz.mell.'!E88 -> 0 | F88: ='1.2.sz.mell.'!F88+'1.3.sz.mell.'!F88+'1.4.sz.mell.'!F88 -> 0 | G88: ='1.2.sz.mell.'!G88+'1.3.sz.mell.'!G88+'1.4.sz.mell.'!G88 -> 0
A89: 1.5 | B89: Egyéb működési célú kiadások | C89: ='1.2.sz.mell.'!C89+'1.3.sz.mell.'!C89+'1.4.sz.mell.'!C89 -> 17907 | D89: ='1.2.sz.mell.'!D89+'1.3.sz.mell.'!D89+'1.4.sz.mell.'!D89 -> 0 | E89: ='1.2.sz.mell.'!E89+'1.3.sz.mell.'!E89+'1.4.sz.mell.'!E89 -> 18272 | F89: ='1.2.sz.mell.'!F89+'1.3.sz.mell.'!F89+'1.4.sz.mell.'!F89 -> 0 | G89: ='1.2.sz.mell.'!G89+'1.3.sz.mell.'!G89+'1.4.sz.mell.'!G89 -> 17766 | H89: =G89/E89*100 -> 97.230736
A90: 2. | B90: Felhalmozási költségvetés kiadásai (2.1.+2.3.+2.5.) | C90: =+C91+C93+C95 -> 330 | D90: =+D91+D93+D95 -> 0 | E90: =+E91+E93+E95 -> 406 | F90: =+F91+F93+F95 -> 0 | G90: =+G91+G93+G95 -> 406 | H90: =G90/E90*100 -> 100
A91: 2.1. | B91: Beruházások | C91: ='1.2.sz.mell.'!C91+'1.3.sz.mell.'!C91+'1.4.sz.mell.'!C91 -> 330 | D91: ='1.2.sz.mell.'!D91+'1.3.sz.mell.'!D91+'1.4.sz.mell.'!D91 -> 0 | E91: ='1.2.sz.mell.'!E91+'1.3.sz.mell.'!E91+'1.4.sz.mell.'!E91 -> 406 | F91: ='1.2.sz.mell.'!F91+'1.3.sz.mell.'!F91+'1.4.sz.mell.'!F91 -> 0 | G91: ='1.2.sz.mell.'!G91+'1.3.sz.mell.'!G91+'1.4.sz.mell.'!G91 -> 406 | H91: =G91/E91*100 -> 100
A92: 2.2. | B92: 2.1.-ből EU-s forrásból megvalósuló beruházás | C92: ='1.2.sz.mell.'!C92+'1.3.sz.mell.'!C92+'1.4.sz.mell.'!C92 -> 0 | D92: ='1.2.sz.mell.'!D92+'1.3.sz.mell.'!D92+'1.4.sz.mell.'!D92 -> 0 | E92: ='1.2.sz.mell.'!E92+'1.3.sz.mell.'!E92+'1.4.sz.mell.'!E92 -> 0 | F92: ='1.2.sz.mell.'!F92+'1.3.sz.mell.'!F92+'1.4.sz.mell.'!F92 -> 0 | G92: ='1.2.sz.mell.'!G92+'1.3.sz.mell.'!G92+'1.4.sz.mell.'!G92 -> 0
A93: 2.3. | B93: Felújítások | C93: ='1.2.sz.mell.'!C93+'1.3.sz.mell.'!C93+'1.4.sz.mell.'!C93 -> 0 | D93: ='1.2.sz.mell.'!D93+'1.3.sz.mell.'!D93+'1.4.sz.mell.'!D93 -> 0 | E93: ='1.2.sz.mell.'!E93+'1.3.sz.mell.'!E93+'1.4.sz.mell.'!E93 -> 0 | F93: ='1.2.sz.mell.'!F93+'1.3.sz.mell.'!F93+'1.4.sz.mell.'!F93 -> 0 | G93: ='1.2.sz.mell.'!G93+'1.3.sz.mell.'!G93+'1.4.sz.mell.'!G93 -> 0
A94: 2.4. | B94: 2.3.-ból EU-s forrásból megvalósuló felújítás | C94: ='1.2.sz.mell.'!C94+'1.3.sz.mell.'!C94+'1.4.sz.mell.'!C94 -> 0 | D94: ='1.2.sz.mell.'!D94+'1.3.sz.mell.'!D94+'1.4.sz.mell.'!D94 -> 0 | E94: ='1.2.sz.mell.'!E94+'1.3.sz.mell.'!E94+'1.4.sz.mell.'!E94 -> 0 | F94: ='1.2.sz.mell.'!F94+'1.3.sz.mell.'!F94+'1.4.sz.mell.'!F94 -> 0 | G94: ='1.2.sz.mell.'!G94+'1.3.sz.mell.'!G94+'1.4.sz.mell.'!G94 -> 0
A95: 2.5. | B95: Egyéb felhalmozási kiadások | C95: ='1.2.sz.mell.'!C95+'1.3.sz.mell.'!C95+'1.4.sz.mell.'!C95 -> 0 | D95: ='1.2.sz.mell.'!D95+'1.3.sz.mell.'!D95+'1.4.sz.mell.'!D95 -> 0 | E95: ='1.2.sz.mell.'!E95+'1.3.sz.mell.'!E95+'1.4.sz.mell.'!E95 -> 0 | F95: ='1.2.sz.mell.'!F95+'1.3.sz.mell.'!F95+'1.4.sz.mell.'!F95 -> 0 | G95: ='1.2.sz.mell.'!G95+'1.3.sz.mell.'!G95+'1.4.sz.mell.'!G95 -> 0
A96: 3. | B96: Tartalékok (3.1.+3.2.) | C96: =+C97+C98 -> 0 | D96: =+D97+D98 -> 0 | E96: =+E97+E98 -> 894 | F96: =+F97+F98 -> 0 | G96: =+G97+G98 -> 0
A97: 3.1. | B97: Általános tartalék | C97: ='1.2.sz.mell.'!C97+'1.3.sz.mell.'!C97+'1.4.sz.mell.'!C97 -> 0 | D97: ='1.2.sz.mell.'!D97+'1.3.sz.mell.'!D97+'1.4.sz.mell.'!D97 -> 0 | E97: ='1.2.sz.mell.'!E97+'1.3.sz.mell.'!E97+'1.4.sz.mell.'!E97 -> 894 | F97: ='1.2.sz.mell.'!F97+'1.3.sz.mell.'!F97+'1.4.sz.mell.'!F97 -> 0 | G97: ='1.2.sz.mell.'!G97+'1.3.sz.mell.'!G97+'1.4.sz.mell.'!G97 -> 0
A98: 3.2. | B98: Céltartalék | C98: ='1.2.sz.mell.'!C98+'1.3.sz.mell.'!C98+'1.4.sz.mell.'!C98 -> 0 | D98: ='1.2.sz.mell.'!D98+'1.3.sz.mell.'!D98+'1.4.sz.mell.'!D98 -> 0 | E98: ='1.2.sz.mell.'!E98+'1.3.sz.mell.'!E98+'1.4.sz.mell.'!E98 -> 0 | F98: ='1.2.sz.mell.'!F98+'1.3.sz.mell.'!F98+'1.4.sz.mell.'!F98 -> 0 | G98: ='1.2.sz.mell.'!G98+'1.3.sz.mell.'!G98+'1.4.sz.mell.'!G98 -> 0
A99: 4. | B99: KÖLTSÉGVETÉSI KIADÁSOK ÖSSZESEN (1+2+3) | C99: =+C84+C90+C96 -> 26055 | D99: =+D84+D90+D96 -> 0 | E99: =+E84+E90+E96 -> 27390 | F99: =+F84+F90+F96 -> 0 | G99: =+G84+G90+G96 -> 21416 | H99: =G99/E99*100 -> 78.18912
A100: 5. | B100: Hitel-, kölcsöntörlesztés államháztartáson kívülre (5.1. + … + 5.3.) | C100: =+C101+C102+C103 -> 0 | D100: =+D101+D102+D103 -> 0 | E100: =+E101+E102+E103 -> 0 | F100: =+F101+F102+F103 -> 0 | G100: =+G101+G102+G103 -> 0
A101: 5.1. | B101: Hosszú lejáratú hitelek, kölcsönök törlesztése | C101: ='1.2.sz.mell.'!C101+'1.3.sz.mell.'!C101+'1.4.sz.mell.'!C101 -> 0 | D101: ='1.2.sz.mell.'!D101+'1.3.sz.mell.'!D101+'1.4.sz.mell.'!D101 -> 0 | E101: ='1.2.sz.mell.'!E101+'1.3.sz.mell.'!E101+'1.4.sz.mell.'!E101 -> 0 | F101: ='1.2.sz.mell.'!F101+'1.3.sz.mell.'!F101+'1.4.sz.mell.'!F101 -> 0 | G101: ='1.2.sz.mell.'!G101+'1.3.sz.mell.'!G101+'1.4.sz.mell.'!G101 -> 0
...

Sheet 1.2.sz.mell.
A1: B E V É T E L E K
A2: 1. sz. táblázat | H2: Ezer forintban
A3: Sor- szám | B3: Bevételi jogcím | C3: 2015. évi előirányzat | D3: Javasolt módosítás | E3: Módosított előirányzat | F3: Társulási Tanács által javasolt módosítás | G3: Teljesítés | H3: Teljesítés %-a
A4: 1 | B4: 2 | C4: 3 | D4: 3 | E4: 3 | F4: 3 | G4: 3
A5: 1. | B5: Társulás működési támogatásai
A6: 2. | B6: Működési célú támogatások államháztartáson belülről (2.1.+…+.2.5.) | C6: =+C7+C8+C9+C10+C11 -> 21927 | D6: =+D7+D8+D9+D10+D11 -> 0 | E6: =+E7+E8+E9+E10+E11 -> 22292 | F6: =+F7+F8+F9+F10+F11 -> 0 | G6: =+G7+G8+G9+G10+G11 -> 22029
A7: 2.1. | B7: Elvonások és befizetések bevételei
A8: 2.2. | B8: Működési célú garancia- és kezességvállalásból megtérülések
A9: 2.3. | B9: Működési célú visszatérítendő támogatások, kölcsönök visszatérülése
A10: 2.4. | B10: Működési célú visszatérítendő támogatások, kölcsönök igénybevétele
A11: 2.5. | B11: Egyéb működési célú támogatások bevételei | C11: 21927 | E11: 22292 | G11: 22029
A12: 2.6. | B12: 2.5.-ből EU-s támogatás | E12: 0 | F12: 0 | G12: 0
A13: 3. | B13: Felhalmozási célú támogatások államháztartáson belülről (3.1.+…+3.5.) | C13: 0 | D13: =+D14+D15+D16+D17+D18 -> 0 | E13: 0 | F13: 0 | G13: 0
A14: 3.1. | B14: Felhalmozási célú önkormányzati támogatások | E14: 0 | F14: 0 | G14: 0
A15: 3.2. | B15: Felhalmozási célú garancia- és kezességvállalásból megtérülések | E15: 0 | F15: 0 | G15: 0
A16: 3.3. | B16: Felhalmozási célú visszatérítendő támogatások, kölcsönök visszatérülése | E16: 0 | F16: 0 | G16: 0
A17: 3.4. | B17: Felhalmozási célú visszatérítendő támogatások, kölcsönök igénybevétele | E17: 0 | F17: 0 | G17: 0
A18: 3.5. | B18: Egyéb felhalmozási célú támogatások bevételei | E18: 0 | F18: 0 | G18: 0
A19: 3.6. | B19: 3.5.-ből EU-s támogatás | E19: 0 | F19: 0 | G19: 0
A20: 4. | B20: Közhatalmi bevételek | C20: 0 | D20: =+D21+D24+D25+D26 -> 0 | E20: 0 | F20: 0 | G20: 0
A21: 4.1. | B21: Helyi adók (4.1.1.+4.1.2.) | C21: 0 | D21: =+D22+D23 -> 0 | E21: 0 | F21: 0 | G21: 0 | H21: =G21/E21*100 -> #DIV/0!
A22: 4.1.1. | B22: - Vagyoni típusú adók | E22: 0 | F22: 0 | G22: 0 | H22: =G22/E22*100 -> #DIV/0!
A23: 4.1.2. | B23: - Termékek és szolgáltatások adói | E23: 0 | F23: 0 | G23: 0 | H23: =G23/E23*100 -> #DIV/0!
A24: 4.2. | B24: Gépjárműadó | E24: 0 | F24: 0 | G24: 0 | H24: =G24/E24*100 -> #DIV/0!
A25: 4.3. | B25: Egyéb áruhasználati és szolgáltatási adók | E25: 0 | F25: 0 | G25: 0 | H25: =G25/E25*100 -> #DIV/0!
A26: 4.4. | B26: Egyéb közhatalmi bevételek | E26: 0 | F26: 0 | G26: 0 | H26: =G26/E26*100 -> #DIV/0!
A27: 5. | B27: Működési bevételek (5.1.+…+ 5.10.) | C27: 1964 | D27: =SUM(D28:D37) -> 0 | E27: =SUM(E28:E37) -> 2964 | F27: =SUM(F28:F37) -> 0 | G27: =SUM(G28:G37) -> 2956
A28: 5.1. | B28: Készletértékesítés ellenértéke | E28: 0 | F28: 0 | G28: 0
A29: 5.2. | B29: Szolgáltatások ellenértéke | C29: 1660 | E29: 2660 | G29: 2677
A30: 5.3. | B30: Közvetített szolgáltatások értéke | C30: 254 | E30: 254 | G30: 254
A31: 5.4. | B31: Tulajdonosi bevételek
A32: 5.5. | B32: Ellátási díjak
A33: 5.6. | B33: Kiszámlázott általános forgalmi adó
A34: 5.7. | B34: Általános forgalmi adó visszatérítése
A35: 5.8. | B35: Kamatbevételek | C35: 50 | E35: 50 | G35: 25
A36: 5.9. | B36: Egyéb pénzügyi műveletek bevételei
A37: 5.10. | B37: Egyéb működési bevételek
A38: 6. | B38: Felhalmozási bevételek (6.1.+…+6.5.) | C38: 0 | D38: =SUM(D39:D43) -> 0 | E38: 0 | F38: 0 | G38: 0
A39: 6.1. | B39: Immateriális javak értékesítése | E39: 0 | F39: 0 | G39: 0
A40: 6.2. | B40: Ingatlanok értékesítése | E40: 0 | F40: 0 | G40: 0
A41: 6.3. | B41: Egyéb tárgyi eszközök értékesítése | E41: 0 | F41: 0 | G41: 0
A42: 6.4. | B42: Részesedések értékesítése | E42: 0 | F42: 0 | G42: 0
A43: 6.5. | B43: Részesedések megszűnéséhez kapcsolódó bevételek | E43: 0 | F43: 0 | G43: 0
A44: 7. | B44: Működési célú átvett pénzeszközök (7.1. + … + 7.3.) | C44: 0 | D44: =SUM(D45:D47) -> 0 | E44: 0 | F44: 0 | G44: 0
A45: 7.1. | B45: Működési célú garancia- és kezességvállalásból megtérülések ÁH-n kívülről | E45: 0 | F45: 0 | G45: 0
A46: 7.2. | B46: Működési célú visszatérítendő támogatások kölcsönök visszatér. ÁH-n kívülről | E46: 0 | F46: 0 | G46: 0
A47: 7.3. | B47: Egyéb működési célú átvett pénzeszköz | E47: 0 | F47: 0 | G47: 0
A48: 7.4. | B48: 7.3.-ból EU-s támogatás (közvetlen) | E48: 0 | F48: 0 | G48: 0
A49: 8. | B49: Felhalmozási célú átvett pénzeszközök (8.1.+8.2.+8.3.) | C49: 0 | D49: =SUM(D50:D52) -> 0 | E49: 0 | F49: 0 | G49: 0
A50: 8.1. | B50: Felhalm. célú garancia- és kezességvállalásból megtérülések ÁH-n kívülről | E50: 0 | F50: 0 | G50: 0
A51: 8.2. | B51: Felhalm. célú visszatérítendő támogatások, kölcsönök visszatér. ÁH-n kívülről | E51: 0 | F51: 0 | G51: 0
A52: 8.3. | B52: Egyéb felhalmozási célú átvett pénzeszköz | E52: 0 | F52: 0 | G52: 0
A53: 8.4. | B53: 8.3.-ból EU-s támogatás (közvetlen) | E53: 0 | F53: 0 | G53: 0
A54: 9. | B54: KÖLTSÉGVETÉSI BEVÉTELEK ÖSSZESEN: (1+…+8) | C54: 23891 | D54: =+D5+D6+D13+D20+D27+D38+D44+D49 -> 0 | E54: =+E5+E6+E13+E20+E27+E38+E44+E49 -> 25256 | F54: =+F5+F6+F13+F20+F27+F38+F44+F49 -> 0 | G54: =+G5+G6+G13+G20+G27+G38+G44+G49 -> 24985
A55: 10. | B55: Hitel-, kölcsönfelvétel államháztartáson kívülről (10.1.+10.3.) | C55: 0 | D55: =SUM(D56:D58) -> 0 | E55: 0 | F55: 0 | G55: 0
A56: 10.1. | B56: Hosszú lejáratú hitelek, kölcsönök felvétele | E56: 0 | F56: 0 | G56: 0
A57: 10.2. | B57: Likviditási célú hitelek, kölcsönök felvétele pénzügyi vállalkozástól | E57: 0 | F57: 0 | G57: 0
A58: 10.3. | B58: Rövid lejáratú hitelek, kölcsönök felvétele | E58: 0 | F58: 0 | G58: 0
A59: 11. | B59: Belföldi értékpapírok bevételei (11.1. +…+ 11.4.) | C59: 0 | D59: =SUM(D60:D63) -> 0 | E59: 0 | F59: 0 | G59: 0
A60: 11.1. | B60: Forgatási célú belföldi értékpapírok beváltása, értékesítése | E60: 0 | F60: 0 | G60: 0
A61: 11.2. | B61: Forgatási célú belföldi értékpapírok kibocsátása | E61: 0 | F61: 0 | G61: 0
A62: 11.3. | B62: Befektetési célú belföldi értékpapírok beváltása, értékesítése | E62: 0 | F62: 0 | G62: 0
A63: 11.4. | B63: Befektetési célú belföldi értékpapírok kibocsátása | E63: 0 | F63: 0 | G63: 0
A64: 12. | B64: Maradvány igénybevétele (12.1. + 12.2.) | C64: 2164 | D64: =SUM(D65:D66) -> 0 | E64: =SUM(E65:E66) -> 2134 | F64: =SUM(F65:F66) -> 0 | G64: =SUM(G65:G66) -> 2134
A65: 12.1. | B65: Előző év költségvetési maradványának igénybevétele | C65: 2164 | E65: 2134 | G65: 2134
A66: 12.2. | B66: Előző év vállalkozási maradványának igénybevétele | E66: 0 | F66: 0 | G66: 0
A67: 13. | B67: Belföldi finanszírozás bevételei (13.1. + … + 13.3.) | C67: 0 | D67: =SUM(D68:D70) -> 0 | E67: 0 | F67: 0 | G67: 0
A68: 13.1. | B68: Államháztartáson belüli megelőlegezések | E68: 0 | F68: 0 | G68: 0
A69: 13.2. | B69: Államháztartáson belüli megelőlegezések törlesztése | E69: 0 | F69: 0 | G69: 0
A70: 13.3. | B70: Betétek megszüntetése | E70: 0 | F70: 0 | G70: 0
A71: 14. | B71: Külföldi finanszírozás bevételei (14.1.+…14.4.) | C71: 0 | D71: =SUM(D72:D75) -> 0 | E71: 0 | F71: 0 | G71: 0
A72: 14.1. | B72: Forgatási célú külföldi értékpapírok beváltása, értékesítése | E72: 0 | F72: 0 | G72: 0
A73: 14.2. | B73: Befektetési célú külföldi értékpapírok beváltása, értékesítése | E73: 0 | F73: 0 | G73: 0
A74: 14.3. | B74: Külföldi értékpapírok kibocsátása | E74: 0 | F74: 0 | G74: 0
A75: 14.4. | B75: Külföldi hitelek, kölcsönök felvétele | E75: 0 | F75: 0 | G75: 0
A76: 15. | B76: Adóssághoz nem kapcsolódó származékos ügyletek bevételei | E76: 0 | F76: 0 | G76: 0
A77: 16. | B77: FINANSZÍROZÁSI BEVÉTELEK ÖSSZESEN: (10. + … +15.) | C77: 2164 | D77: =+D55+D59+D64+D67+D71+D76 -> 0 | E77: =+E55+E59+E64+E67+E71+E76 -> 2134 | F77: =+F55+F59+F64+F67+F71+F76 -> 0 | G77: =+G55+G59+G64+G67+G71+G76 -> 2134
A78: 17. | B78: KÖLTSÉGVETÉSI ÉS FINANSZÍROZÁSI BEVÉTELEK ÖSSZESEN: (9+16) | C78: 26055 | D78: =+D54+D77 -> 0 | E78: =+E54+E77 -> 27390 | F78: =+F54+F77 -> 0 | G78: =+G54+G77 -> 27119
A80: K I A D Á S O K
A81: 2. sz. táblázat | H81: Ezer forintban
A82: Sor- szám | B82: Kiadási jogcímek | C82: 2015. évi előirányzat | D82: Javasolt módosítás | E82: Módosított előirányzat | F82: Társulási Tanács által javasolt módosítás | G82: Teljesítés | H82: Teljesítés %-a
A83: 1 | B83: 2 | C83: 3 | D83: 3 | E83: 3 | F83: 3 | G83: 3 | H83: 3
A84: 1. | B84: Működési költségvetés kiadásai (1.1+…+1.5.) | C84: =SUM(C85:C89) -> 25725 | D84: =SUM(D85:D89) -> 0 | E84: =SUM(E85:E89) -> 26090 | F84: =SUM(F85:F89) -> 0 | G84: =SUM(G85:G89) -> 21010
A85: 1.1. | B85: Személyi juttatások | C85: 195 | E85: 195 | G85: 29
A86: 1.2. | B86: Munkaadókat terhelő járulékok és szociális hozzájárulási adó | C86: 153 | E86: 153 | G86: 13
A87: 1.3. | B87: Dologi kiadások | C87: 7470 | E87: 7470 | G87: 3202
A88: 1.4. | B88: Ellátottak pénzbeli juttatásai | C88: 0
A89: 1.5 | B89: Egyéb működési célú kiadások | C89: 17907 | E89: 18272 | G89: 17766
A90: 2. | B90: Felhalmozási költségvetés kiadásai (2.1.+2.3.+2.5.) | C90: =+C91+C93+C95 -> 330 | D90: =+D91+D93+D95 -> 0 | E90: =+E91+E93+E95 -> 406 | F90: =+F91+F93+F95 -> 0 | G90: =+G91+G93+G95 -> 406
A91: 2.1. | B91: Beruházások | C91: 330 | E91: 406 | G91: 406
A92: 2.2. | B92: 2.1.-ből EU-s forrásból megvalósuló beruházás | E92: 0 | F92: 0 | G92: 0
A93: 2.3. | B93: Felújítások | E93: 0 | F93: 0 | G93: 0
A94: 2.4. | B94: 2.3.-ból EU-s forrásból megvalósuló felújítás | E94: 0 | F94: 0 | G94: 0
A95: 2.5. | B95: Egyéb felhalmozási kiadások | E95: 0 | F95: 0 | G95: 0
A96: 3. | B96: Tartalékok (3.1.+3.2.) | C96: =+C97+C98 -> 0 | D96: =+D97+D98 -> 0 | E96: 0 | F96: 0 | G96: 0
A97: 3.1. | B97: Általános tartalék | E97: 894 | F97: 0 | G97: 0
A98: 3.2. | B98: Céltartalék | E98: 0 | F98: 0 | G98: 0
A99: 4. | B99: KÖLTSÉGVETÉSI KIADÁSOK ÖSSZESEN (1+2+3) | C99: =+C84+C90+C96 -> 26055 | D99: =+D84+D90+D96 -> 0 | E99: =+E84+E90+E96 -> 26496 | F99: =+F84+F90+F96 -> 0 | G99: =+G84+G90+G96 -> 21416
A100: 5. | B100: Hitel-, kölcsöntörlesztés államháztartáson kívülre (5.1. + … + 5.3.) | C100: =+C101+C102+C103 -> 0 | D100: =+D101+D102+D103 -> 0 | E100: 0 | F100: 0 | G100: 0
A101: 5.1. | B101: Hosszú lejáratú hitelek, kölcsönök törlesztése | E101: 0 | F101: 0 | G101: 0
...

Sheet 1.3.sz.mell.
A1: B E V É T E L E K
A2: 1. sz. táblázat | H2: Ezer forintban
A3: Sor- szám | B3: Bevételi jogcím | C3: 2015. évi előirányzat | D3: Javasolt módosítás | E3: Módosított előirányzat | F3: Társulási Tanács által javasolt módosítás | G3: Teljesítés | H3: Teljesítés %-a
A4: 1 | B4: 2
A5: 1. | B5: Társulás működési támogatásai
A6: 2. | B6: Működési célú támogatások államháztartáson belülről (2.1.+…+.2.5.) | C6: =+C7+C8+C9+C10+C11 -> 0 | D6: =+D7+D8+D9+D10+D11 -> 0 | E6: =+E7+E8+E9+E10+E11 -> 0 | F6: =+F7+F8+F9+F10+F11 -> 0 | G6: =+G7+G8+G9+G10+G11 -> 0 | H6: =G6/E6*100 -> #DIV/0!
A7: 2.1. | B7: Elvonások és befizetések bevételei
A8: 2.2. | B8: Működési célú garancia- és kezességvállalásból megtérülések
A9: 2.3. | B9: Működési célú visszatérítendő támogatások, kölcsönök visszatérülése
A10: 2.4. | B10: Működési célú visszatérítendő támogatások, kölcsönök igénybevétele
A11: 2.5. | B11: Egyéb működési célú támogatások bevételei | H11: =G11/E11*100 -> #DIV/0!
A12: 2.6. | B12: 2.5.-ből EU-s támogatás
A13: 3. | B13: Felhalmozási célú támogatások államháztartáson belülről (3.1.+…+3.5.) | C13: =+C14+C15+C16+C17+C18 -> 0 | D13: =+D14+D15+D16+D17+D18 -> 0 | E13: =+E14+E15+E16+E17+E18 -> 0 | F13: =+F14+F15+F16+F17+F18 -> 0 | G13: =+G14+G15+G16+G17+G18 -> 0
A14: 3.1. | B14: Felhalmozási célú önkormányzati támogatások
A15: 3.2. | B15: Felhalmozási célú garancia- és kezességvállalásból megtérülések
A16: 3.3. | B16: Felhalmozási célú visszatérítendő támogatások, kölcsönök visszatérülése
A17: 3.4. | B17: Felhalmozási célú visszatérítendő támogatások, kölcsönök igénybevétele
A18: 3.5. | B18: Egyéb felhalmozási célú támogatások bevételei
A19: 3.6. | B19: 3.5.-ből EU-s támogatás
A20: 4. | B20: Közhatalmi bevételek | C20: =+C21+C24+C25+C26 -> 0 | D20: =+D21+D24+D25+D26 -> 0 | E20: =+E21+E24+E25+E26 -> 0 | F20: =+F21+F24+F25+F26 -> 0 | G20: =+G21+G24+G25+G26 -> 0
A21: 4.1. | B21: Helyi adók (4.1.1.+4.1.2.) | C21: =+C22+C23 -> 0 | D21: =+D22+D23 -> 0 | E21: =+E22+E23 -> 0 | F21: =+F22+F23 -> 0 | G21: =+G22+G23 -> 0 | H21: =G21/E21*100 -> #DIV/0!
A22: 4.1.1. | B22: - Vagyoni típusú adók | H22: =G22/E22*100 -> #DIV/0!
A23: 4.1.2. | B23: - Termékek és szolgáltatások adói | H23: =G23/E23*100 -> #DIV/0!
A24: 4.2. | B24: Gépjárműadó | H24: =G24/E24*100 -> #DIV/0!
A25: 4.3. | B25: Egyéb áruhasználati és szolgáltatási adók | H25: =G25/E25*100 -> #DIV/0!
A26: 4.4. | B26: Egyéb közhatalmi bevételek | H26: =G26/E26*100 -> #DIV/0!
A27: 5. | B27: Működési bevételek (5.1.+…+ 5.10.) | C27: =SUM(C28:C37) -> 0 | D27: =SUM(D28:D37) -> 0 | E27: =SUM(E28:E37) -> 0 | F27: =SUM(F28:F37) -> 0 | G27: =SUM(G28:G37) -> 0 | H27: =G27/E27*100 -> #DIV/0!
A28: 5.1. | B28: Készletértékesítés ellenértéke
A29: 5.2. | B29: Szolgáltatások ellenértéke | H29: =G29/E29*100 -> #DIV/0!
A30: 5.3. | B30: Közvetített szolgáltatások értéke
A31: 5.4. | B31: Tulajdonosi bevételek
A32: 5.5. | B32: Ellátási díjak | H32: =G32/E32*100 -> #DIV/0!
A33: 5.6. | B33: Kiszámlázott általános forgalmi adó | H33: =G33/E33*100 -> #DIV/0!
A34: 5.7. | B34: Általános forgalmi adó visszatérítése
A35: 5.8. | B35: Kamatbevételek
A36: 5.9. | B36: Egyéb pénzügyi műveletek bevételei
A37: 5.10. | B37: Egyéb működési bevételek
A38: 6. | B38: Felhalmozási bevételek (6.1.+…+6.5.) | C38: =SUM(C39:C43) -> 0 | D38: =SUM(D39:D43) -> 0 | E38: =SUM(E39:E43) -> 0 | F38: =SUM(F39:F43) -> 0 | G38: =SUM(G39:G43) -> 0
A39: 6.1. | B39: Immateriális javak értékesítése
A40: 6.2. | B40: Ingatlanok értékesítése
A41: 6.3. | B41: Egyéb tárgyi eszközök értékesítése
A42: 6.4. | B42: Részesedések értékesítése
A43: 6.5. | B43: Részesedések megszűnéséhez kapcsolódó bevételek
A44: 7. | B44: Működési célú átvett pénzeszközök (7.1. + … + 7.3.) | C44: =SUM(C45:C47) -> 0 | D44: =SUM(D45:D47) -> 0 | E44: =SUM(E45:E47) -> 0 | F44: =SUM(F45:F47) -> 0 | G44: =SUM(G45:G47) -> 0
A45: 7.1. | B45: Működési célú garancia- és kezességvállalásból megtérülések ÁH-n kívülről
A46: 7.2. | B46: Működési célú visszatérítendő támogatások, kölcsönök visszatér. ÁH-n kívülről
A47: 7.3. | B47: Egyéb működési célú átvett pénzeszköz
A48: 7.4. | B48: 7.3.-ból EU-s támogatás (közvetlen)
A49: 8. | B49: Felhalmozási célú átvett pénzeszközök (8.1.+8.2.+8.3.) | C49: =SUM(C50:C52) -> 0 | D49: =SUM(D50:D52) -> 0 | E49: =SUM(E50:E52) -> 0 | F49: =SUM(F50:F52) -> 0 | G49: =SUM(G50:G52) -> 0
A50: 8.1. | B50: Felhalm. célú garancia- és kezességvállalásból megtérülések ÁH-n kívülről
A51: 8.2. | B51: Felhalm. célú visszatérítendő támogatások, kölcsönök visszatér. ÁH-n kívülről
A52: 8.3. | B52: Egyéb felhalmozási célú átvett pénzeszköz
A53: 8.4. | B53: 8.3.-ból EU-s támogatás (közvetlen)
A54: 9. | B54: KÖLTSÉGVETÉSI BEVÉTELEK ÖSSZESEN: (1+…+8) | C54: =+C5+C6+C13+C20+C27+C38+C44+C49 -> 0 | D54: =+D5+D6+D13+D20+D27+D38+D44+D49 -> 0 | E54: =+E5+E6+E13+E20+E27+E38+E44+E49 -> 0 | F54: =+F5+F6+F13+F20+F27+F38+F44+F49 -> 0 | G54: =+G5+G6+G13+G20+G27+G38+G44+G49 -> 0 | H54: =G54/E54*100 -> #DIV/0!
A55: 10. | B55: Hitel-, kölcsönfelvétel államháztartáson kívülről (10.1.+10.3.) | C55: =SUM(C56:C58) -> 0 | D55: =SUM(D56:D58) -> 0 | E55: =SUM(E56:E58) -> 0 | F55: =SUM(F56:F58) -> 0 | G55: =SUM(G56:G58) -> 0
A56: 10.1. | B56: Hosszú lejáratú hitelek, kölcsönök felvétele
A57: 10.2. | B57: Likviditási célú hitelek, kölcsönök felvétele pénzügyi vállalkozástól
A58: 10.3. | B58: Rövid lejáratú hitelek, kölcsönök felvétele
A59: 11. | B59: Belföldi értékpapírok bevételei (11.1. +…+ 11.4.) | C59: =SUM(C60:C63) -> 0 | D59: =SUM(D60:D63) -> 0 | E59: =SUM(E60:E63) -> 0 | F59: =SUM(F60:F63) -> 0 | G59: =SUM(G60:G63) -> 0
A60: 11.1. | B60: Forgatási célú belföldi értékpapírok beváltása, értékesítése
A61: 11.2. | B61: Forgatási célú belföldi értékpapírok kibocsátása
A62: 11.3. | B62: Befektetési célú belföldi értékpapírok beváltása, értékesítése
A63: 11.4. | B63: Befektetési célú belföldi értékpapírok kibocsátása
A64: 12. | B64: Maradvány igénybevétele (12.1. + 12.2.) | C64: =SUM(C65:C66) -> 0 | D64: =SUM(D65:D66) -> 0 | E64: =SUM(E65:E66) -> 0 | F64: =SUM(F65:F66) -> 0 | G64: =SUM(G65:G66) -> 0
A65: 12.1. | B65: Előző év költségvetési maradványának igénybevétele
A66: 12.2. | B66: Előző év vállalkozási maradványának igénybevétele
A67: 13. | B67: Belföldi finanszírozás bevételei (13.1. + … + 13.3.) | C67: =SUM(C68:C70) -> 0 | D67: =SUM(D68:D70) -> 0 | E67: =SUM(E68:E70) -> 0 | F67: =SUM(F68:F70) -> 0 | G67: =SUM(G68:G70) -> 0
A68: 13.1. | B68: Államháztartáson belüli megelőlegezések
A69: 13.2. | B69: Államháztartáson belüli megelőlegezések törlesztése
A70: 13.3. | B70: Betétek megszüntetése
A71: 14. | B71: Külföldi finanszírozás bevételei (14.1.+…14.4.) | C71: =SUM(C72:C75) -> 0 | D71: =SUM(D72:D75) -> 0 | E71: =SUM(E72:E75) -> 0 | F71: =SUM(F72:F75) -> 0 | G71: =SUM(G72:G75) -> 0
A72: 14.1. | B72: Forgatási célú külföldi értékpapírok beváltása, értékesítése
A73: 14.2. | B73: Befektetési célú külföldi értékpapírok beváltása, értékesítése
A74: 14.3. | B74: Külföldi értékpapírok kibocsátása
A75: 14.4. | B75: Külföldi hitelek, kölcsönök felvétele
A76: 15. | B76: Adóssághoz nem kapcsolódó származékos ügyletek bevételei
A77: 16. | B77: FINANSZÍROZÁSI BEVÉTELEK ÖSSZESEN: (10. + … +15.) | C77: =+C55+C59+C64+C67+C71+C76 -> 0 | D77: =+D55+D59+D64+D67+D71+D76 -> 0 | E77: =+E55+E59+E64+E67+E71+E76 -> 0 | F77: =+F55+F59+F64+F67+F71+F76 -> 0 | G77: =+G55+G59+G64+G67+G71+G76 -> 0
A78: 17. | B78: KÖLTSÉGVETÉSI ÉS FINANSZÍROZÁSI BEVÉTELEK ÖSSZESEN: (9+16) | C78: =+C54+C77 -> 0 | D78: =+D54+D77 -> 0 | E78: =+E54+E77 -> 0 | F78: =+F54+F77 -> 0 | G78: =+G54+G77 -> 0 | H78: =G78/E78*100 -> #DIV/0!
A80: K I A D Á S O K
A81: 2. sz. táblázat | H81: Ezer forintban
A82: Sor- szám | B82: Kiadási jogcímek | C82: 2015. évi előirányzat | D82: Javasolt módosítás | E82: Módosított előirányzat | F82: Társulási Tanács által javasolt módosítás | G82: Teljesítés | H82: Teljesítés %-a
A83: 1 | B83: 2 | C83: 3 | D83: 3 | E83: 3 | F83: 3 | G83: 3 | H83: 3
A84: 1. | B84: Működési költségvetés kiadásai (1.1+…+1.5.) | C84: =SUM(C85:C89) -> 0 | D84: =SUM(D85:D89) -> 0 | E84: =SUM(E85:E89) -> 0 | F84: =SUM(F85:F89) -> 0 | G84: =SUM(G85:G89) -> 0 | H84: =G84/E84*100 -> #DIV/0!
A85: 1.1. | B85: Személyi juttatások | H85: =G85/E85*100 -> #DIV/0!
A86: 1.2. | B86: Munkaadókat terhelő járulékok és szociális hozzájárulási adó | H86: =G86/E86*100 -> #DIV/0!
A87: 1.3. | B87: Dologi kiadások | H87: =G87/E87*100 -> #DIV/0!
A88: 1.4. | B88: Ellátottak pénzbeli juttatásai
A89: 1.5 | B89: Egyéb működési célú kiadások
A90: 2. | B90: Felhalmozási költségvetés kiadásai (2.1.+2.3.+2.5.) | C90: =+C91+C93+C95 -> 0 | D90: =+D91+D93+D95 -> 0 | E90: =+E91+E93+E95 -> 0 | F90: =+F91+F93+F95 -> 0 | G90: =+G91+G93+G95 -> 0
A91: 2.1. | B91: Beruházások
A92: 2.2. | B92: 2.1.-ből EU-s forrásból megvalósuló beruházás
A93: 2.3. | B93: Felújítások
A94: 2.4. | B94: 2.3.-ból EU-s forrásból megvalósuló felújítás
A95: 2.5. | B95: Egyéb felhalmozási kiadások
A96: 3. | B96: Tartalékok (3.1.+3.2.) | C96: =+C97+C98 -> 0 | D96: =+D97+D98 -> 0 | E96: =+E97+E98 -> 0 | F96: =+F97+F98 -> 0 | G96: =+G97+G98 -> 0
A97: 3.1. | B97: Általános tartalék
A98: 3.2. | B98: Céltartalék
A99: 4. | B99: KÖLTSÉGVETÉSI KIADÁSOK ÖSSZESEN (1+2+3) | C99: =+C84+C90+C96 -> 0 | D99: =+D84+D90+D96 -> 0 | E99: =+E84+E90+E96 -> 0 | F99: =+F84+F90+F96 -> 0 | G99: =+G84+G90+G96 -> 0 | H99: =G99/E99*100 -> #DIV/0!
A100: 5. | B100: Hitel-, kölcsöntörlesztés államháztartáson kívülre (5.1. + … + 5.3.) | C100: =+C101+C102+C103 -> 0 | D100: =+D101+D102+D103 -> 0 | E100: =+E101+E102+E103 -> 0 | F100: =+F101+F102+F103 -> 0 | G100: =+G101+G102+G103 -> 0
A101: 5.1. | B101: Hosszú lejáratú hitelek, kölcsönök törlesztése
...

Sheet 1.4.sz.mell.
A1: B E V É T E L E K
A2: 1. sz. táblázat | F2: Ezer forintban | H2: Ezer forintban
A3: Sor- szám | B3: Bevételi jogcím | C3: 2015. évi előirányzat | D3: Javasolt módosítás | E3: Módosított előirányzat | F3: Társulási Tanács által javasolt módosítás | G3: Teljesítés | H3: Teljesítés %-a
A4: 1 | B4: 2 | C4: 3 | D4: 3 | E4: 3 | F4: 3 | G4: 3 | H4: 3
A5: 1. | B5: Társulás működési támogatásai | D5: =+#REF!+#REF!+#REF!+#REF!+#REF!+#REF! -> #REF!
A6: 2. | B6: Működési célú támogatások államháztartáson belülről (2.1.+…+.2.5.) | C6: =+C7+C8+C9+C10+C11 -> 0 | D6: =+D7+D8+D9+D10+D11 -> 0 | E6: =+E7+E8+E9+E10+E11 -> 0 | F6: =+F7+F8+F9+F10+F11 -> 0 | G6: =+G7+G8+G9+G10+G11 -> 0 | H6: =+H7+H8+H9+H10+H11 -> 0
A7: 2.1. | B7: Elvonások és befizetések bevételei
A8: 2.2. | B8: Működési célú garancia- és kezességvállalásból megtérülések
A9: 2.3. | B9: Működési célú visszatérítendő támogatások, kölcsönök visszatérülése
A10: 2.4. | B10: Működési célú visszatérítendő támogatások, kölcsönök igénybevétele
A11: 2.5. | B11: Egyéb működési célú támogatások bevételei
A12: 2.6. | B12: 2.5.-ből EU-s támogatás
A13: 3. | B13: Felhalmozási célú támogatások államháztartáson belülről (3.1.+…+3.5.) | C13: =+C14+C15+C16+C17+C18 -> 0 | D13: =+D14+D15+D16+D17+D18 -> 0 | E13: =+E14+E15+E16+E17+E18 -> 0 | F13: =+F14+F15+F16+F17+F18 -> 0 | G13: =+G14+G15+G16+G17+G18 -> 0 | H13: =+H14+H15+H16+H17+H18 -> 0
A14: 3.1. | B14: Felhalmozási célú önkormányzati támogatások
A15: 3.2. | B15: Felhalmozási célú garancia- és kezességvállalásból megtérülések
A16: 3.3. | B16: Felhalmozási célú visszatérítendő támogatások, kölcsönök visszatérülése
A17: 3.4. | B17: Felhalmozási célú visszatérítendő támogatások, kölcsönök igénybevétele
A18: 3.5. | B18: Egyéb felhalmozási célú támogatások bevételei
A19: 3.6. | B19: 3.5.-ből EU-s támogatás
A20: 4. | B20: Közhatalmi bevételek | C20: =+C21+C24+C25+C26 -> 0 | D20: =+D21+D24+D25+D26 -> 0 | E20: =+E21+E24+E25+E26 -> 0 | F20: =+F21+F24+F25+F26 -> 0 | G20: =+G21+G24+G25+G26 -> 0 | H20: =+H21+H24+H25+H26 -> 0
A21: 4.1. | B21: Helyi adók (4.1.1.+4.1.2.) | C21: =+C22+C23 -> 0 | D21: =+D22+D23 -> 0 | E21: =+E22+E23 -> 0 | F21: =+F22+F23 -> 0 | G21: =+G22+G23 -> 0 | H21: =+H22+H23 -> 0
A22: 4.1.1. | B22: - Vagyoni típusú adók
A23: 4.1.2. | B23: - Termékek és szolgáltatások adói
A24: 4.2. | B24: Gépjárműadó
A25: 4.3. | B25: Egyéb áruhasználati és szolgáltatási adók
A26: 4.4. | B26: Egyéb közhatalmi bevételek
A27: 5. | B27: Működési bevételek (5.1.+…+ 5.10.) | C27: =SUM(C28:C37) -> 0 | D27: =SUM(D28:D37) -> 0 | E27: =SUM(E28:E37) -> 0 | F27: =SUM(F28:F37) -> 0 | G27: =SUM(G28:G37) -> 0 | H27: =SUM(H28:H37) -> 0
A28: 5.1. | B28: Készletértékesítés ellenértéke
A29: 5.2. | B29: Szolgáltatások ellenértéke
A30: 5.3. | B30: Közvetített szolgáltatások értéke
A31: 5.4. | B31: Tulajdonosi bevételek
A32: 5.5. | B32: Ellátási díjak
A33: 5.6. | B33: Kiszámlázott általános forgalmi adó
A34: 5.7. | B34: Általános forgalmi adó visszatérítése
A35: 5.8. | B35: Kamatbevételek
A36: 5.9. | B36: Egyéb pénzügyi műveletek bevételei
A37: 5.10. | B37: Egyéb működési bevételek
A38: 6. | B38: Felhalmozási bevételek (6.1.+…+6.5.) | C38: =SUM(C39:C43) -> 0 | D38: =SUM(D39:D43) -> 0 | E38: =SUM(E39:E43) -> 0 | F38: =SUM(F39:F43) -> 0 | G38: =SUM(G39:G43) -> 0 | H38: =SUM(H39:H43) -> 0
A39: 6.1. | B39: Immateriális javak értékesítése
A40: 6.2. | B40: Ingatlanok értékesítése
A41: 6.3. | B41: Egyéb tárgyi eszközök értékesítése
A42: 6.4. | B42: Részesedések értékesítése
A43: 6.5. | B43: Részesedések megszűnéséhez kapcsolódó bevételek
A44: 7. | B44: Működési célú átvett pénzeszközök (7.1. + … + 7.3.) | C44: =SUM(C45:C47) -> 0 | D44: =SUM(D45:D47) -> 0 | E44: =SUM(E45:E47) -> 0 | F44: =SUM(F45:F47) -> 0 | G44: =SUM(G45:G47) -> 0 | H44: =SUM(H45:H47) -> 0
A45: 7.1. | B45: Működési célú garancia- és kezességvállalásból megtérülések ÁH-n kívülről
A46: 7.2. | B46: Működési célú visszatérítendő támogatások, kölcsönök visszatér. ÁH-n kívülről
A47: 7.3. | B47: Egyéb működési célú átvett pénzeszköz
A48: 7.4. | B48: 7.3.-ból EU-s támogatás (közvetlen)
A49: 8. | B49: Felhalmozási célú átvett pénzeszközök (8.1.+8.2.+8.3.) | C49: =SUM(C50:C52) -> 0 | D49: =SUM(D50:D52) -> 0 | E49: =SUM(E50:E52) -> 0 | F49: =SUM(F50:F52) -> 0 | G49: =SUM(G50:G52) -> 0 | H49: =SUM(H50:H52) -> 0
A50: 8.1. | B50: Felhalm. célú garancia- és kezességvállalásból megtérülések ÁH-n kívülről
A51: 8.2. | B51: Felhalm. célú visszatérítendő támogatások, kölcsönök visszatér. ÁH-n kívülről
A52: 8.3. | B52: Egyéb felhalmozási célú átvett pénzeszköz
A53: 8.4. | B53: 8.3.-ból EU-s támogatás (közvetlen)
A54: 9. | B54: KÖLTSÉGVETÉSI BEVÉTELEK ÖSSZESEN: (1+…+8) | C54: =+C5+C6+C13+C20+C27+C38+C44+C49 -> 0 | D54: =+D5+D6+D13+D20+D27+D38+D44+D49 -> #REF! | E54: =+E5+E6+E13+E20+E27+E38+E44+E49 -> 0 | F54: =+F5+F6+F13+F20+F27+F38+F44+F49 -> 0 | G54: =+G5+G6+G13+G20+G27+G38+G44+G49 -> 0 | H54: =+H5+H6+H13+H20+H27+H38+H44+H49 -> 0
A55: 10. | B55: Hitel-, kölcsönfelvétel államháztartáson kívülről (10.1.+10.3.) | C55: =SUM(C56:C58) -> 0 | D55: =SUM(D56:D58) -> 0 | E55: =SUM(E56:E58) -> 0 | F55: =SUM(F56:F58) -> 0 | G55: =SUM(G56:G58) -> 0 | H55: =SUM(H56:H58) -> 0
A56: 10.1. | B56: Hosszú lejáratú hitelek, kölcsönök felvétele
A57: 10.2. | B57: Likviditási célú hitelek, kölcsönök felvétele pénzügyi vállalkozástól
A58: 10.3. | B58: Rövid lejáratú hitelek, kölcsönök felvétele
A59: 11. | B59: Belföldi értékpapírok bevételei (11.1. +…+ 11.4.) | C59: =SUM(C60:C63) -> 0 | D59: =SUM(D60:D63) -> 0 | E59: =SUM(E60:E63) -> 0 | F59: =SUM(F60:F63) -> 0 | G59: =SUM(G60:G63) -> 0 | H59: =SUM(H60:H63) -> 0
A60: 11.1. | B60: Forgatási célú belföldi értékpapírok beváltása, értékesítése
A61: 11.2. | B61: Forgatási célú belföldi értékpapírok kibocsátása
A62: 11.3. | B62: Befektetési célú belföldi értékpapírok beváltása, értékesítése
A63: 11.4. | B63: Befektetési célú belföldi értékpapírok kibocsátása
A64: 12. | B64: Maradvány igénybevétele (12.1. + 12.2.) | C64: =SUM(C65:C66) -> 0 | D64: =SUM(D65:D66) -> 0 | E64: =SUM(E65:E66) -> 0 | F64: =SUM(F65:F66) -> 0 | G64: =SUM(G65:G66) -> 0 | H64: =SUM(H65:H66) -> 0
A65: 12.1. | B65: Előző év költségvetési maradványának igénybevétele
A66: 12.2. | B66: Előző év vállalkozási maradványának igénybevétele
A67: 13. | B67: Belföldi finanszírozás bevételei (13.1. + … + 13.3.) | C67: =SUM(C68:C70) -> 0 | D67: =SUM(D68:D70) -> 0 | E67: =SUM(E68:E70) -> 0 | F67: =SUM(F68:F70) -> 0 | G67: =SUM(G68:G70) -> 0 | H67: =SUM(H68:H70) -> 0
A68: 13.1. | B68: Államháztartáson belüli megelőlegezések
A69: 13.2. | B69: Államháztartáson belüli megelőlegezések törlesztése
A70: 13.3. | B70: Betétek megszüntetése
A71: 14. | B71: Külföldi finanszírozás bevételei (14.1.+…14.4.) | C71: =SUM(C72:C75) -> 0 | D71: =SUM(D72:D75) -> 0 | E71: =SUM(E72:E75) -> 0 | F71: =SUM(F72:F75) -> 0 | G71: =SUM(G72:G75) -> 0 | H71: =SUM(H72:H75) -> 0
A72: 14.1. | B72: Forgatási célú külföldi értékpapírok beváltása, értékesítése
A73: 14.2. | B73: Befektetési célú külföldi értékpapírok beváltása, értékesítése
A74: 14.3. | B74: Külföldi értékpapírok kibocsátása
A75: 14.4. | B75: Külföldi hitelek, kölcsönök felvétele
A76: 15. | B76: Adóssághoz nem kapcsolódó származékos ügyletek bevételei
A77: 16. | B77: FINANSZÍROZÁSI BEVÉTELEK ÖSSZESEN: (10. + … +15.) | C77: =+C55+C59+C64+C67+C71+C76 -> 0 | D77: =+D55+D59+D64+D67+D71+D76 -> 0 | E77: =+E55+E59+E64+E67+E71+E76 -> 0 | F77: =+F55+F59+F64+F67+F71+F76 -> 0 | G77: =+G55+G59+G64+G67+G71+G76 -> 0 | H77: =+H55+H59+H64+H67+H71+H76 -> 0
A78: 17. | B78: KÖLTSÉGVETÉSI ÉS FINANSZÍROZÁSI BEVÉTELEK ÖSSZESEN: (9+16) | C78: =+C54+C77 -> 0 | D78: =+D54+D77 -> #REF! | E78: =+E54+E77 -> 0 | F78: =+F54+F77 -> 0 | G78: =+G54+G77 -> 0 | H78: =+H54+H77 -> 0
A80: K I A D Á S O K
A81: 2. sz. táblázat | F81: Ezer forintban | H81: Ezer forintban
A82: Sor- szám | B82: Kiadási jogcímek | C82: 2015. évi előirányzat | D82: Javasolt módosítás | E82: Módosított előirányzat | F82: Társulási Tanács által javasolt módosítás | G82: Teljesítés | H82: Teljesítés %-a
A83: 1 | B83: 2 | C83: 3 | D83: 3 | E83: 3 | F83: 3 | G83: 3 | H83: 3
A84: 1. | B84: Működési költségvetés kiadásai (1.1+…+1.5.) | C84: =SUM(C85:C89) -> 0 | D84: =SUM(D85:D89) -> 0 | E84: =SUM(E85:E89) -> 0 | F84: =SUM(F85:F89) -> 0 | G84: =SUM(G85:G89) -> 0 | H84: =SUM(H85:H89) -> 0
A85: 1.1. | B85: Személyi juttatások
A86: 1.2. | B86: Munkaadókat terhelő járulékok és szociális hozzájárulási adó
A87: 1.3. | B87: Dologi kiadások
A88: 1.4. | B88: Ellátottak pénzbeli juttatásai
A89: 1.5 | B89: Egyéb működési célú kiadások
A90: 2. | B90: Felhalmozási költségvetés kiadásai (2.1.+2.3.+2.5.) | C90: =+C91+C93+C95 -> 0 | D90: =+D91+D93+D95 -> 0 | E90: =+E91+E93+E95 -> 0 | F90: =+F91+F93+F95 -> 0 | G90: =+G91+G93+G95 -> 0 | H90: =+H91+H93+H95 -> 0
A91: 2.1. | B91: Beruházások
A92: 2.2. | B92: 2.1.-ből EU-s forrásból megvalósuló beruházás
A93: 2.3. | B93: Felújítások
A94: 2.4. | B94: 2.3.-ból EU-s forrásból megvalósuló felújítás
A95: 2.5. | B95: Egyéb felhalmozási kiadások
A96: 3. | B96: Tartalékok (3.1.+3.2.) | C96: =+C97+C98 -> 0 | D96: =+D97+D98 -> 0 | E96: =+E97+E98 -> 0 | F96: =+F97+F98 -> 0 | G96: =+G97+G98 -> 0 | H96: =+H97+H98 -> 0
A97: 3.1. | B97: Általános tartalék
A98: 3.2. | B98: Céltartalék
A99: 4. | B99: KÖLTSÉGVETÉSI KIADÁSOK ÖSSZESEN (1+2+3) | C99: =+C84+C90+C96 -> 0 | D99: =+D84+D90+D96 -> 0 | E99: =+E84+E90+E96 -> 0 | F99: =+F84+F90+F96 -> 0 | G99: =+G84+G90+G96 -> 0 | H99: =+H84+H90+H96 -> 0
A100: 5. | B100: Hitel-, kölcsöntörlesztés államháztartáson kívülre (5.1. + … + 5.3.) | C100: =+C101+C102+C103 -> 0 | D100: =+D101+D102+D103 -> 0 | E100: =+E101+E102+E103 -> 0 | F100: =+F101+F102+F103 -> 0 | G100: =+G101+G102+G103 -> 0 | H100: =+H101+H102+H103 -> 0
A101: 5.1. | B101: Hosszú lejáratú hitelek, kölcsönök törlesztése
...

Sheet 2.sz.mell  
B1: I. Működési célú bevételek és kiadások mérlege (Társulási szinten)
L2: Ezer forintban ! | M2: Ezer forintban !
A3: Sor- szám | B3: Bevételek | H3: Kiadások
B4: Megnevezés | C4: 2015. évi előirányzat | D4: Javasolt módosítás | E4: Módosított előirányzat | F4: Társulási Tanács által javasolt módosítás | G4: Teljesítés | H4: Megnevezés | I4: 2015. évi előirányzat | J4: Javasolt módosítás | K4: Módosított előirányzat | L4: Társulási Tanács által javasolt módosítás | M4: Teljesítés
A5: 1 | B5: 2 | C5: 3. | D5: 3. | E5: 3. | F5: 3. | G5: 3. | H5: 4. | I5: 5. | J5: 5. | K5: 5. | L5: 5. | M5: 5.
A6: 1. | B6: Önkormányzatok működési támogatásai | C6: ='1.1.sz.mell.'!C5 -> 0 | D6: ='1.1.sz.mell.'!D5 -> 0 | E6: ='1.1.sz.mell.'!E5 -> 0 | F6: ='1.1.sz.mell.'!F5 -> 0 | G6: ='1.1.sz.mell.'!G5 -> 0 | H6: Személyi juttatások | I6: ='1.1.sz.mell.'!C85 -> 195 | J6: ='1.1.sz.mell.'!D85 -> 0 | K6: ='1.1.sz.mell.'!E85 -> 195 | L6: ='1.1.sz.mell.'!F85 -> 0 | M6: ='1.1.sz.mell.'!G85 -> 29
A7: 2. | B7: Működési célú támogatások államháztartáson belülről | C7: ='1.1.sz.mell.'!C6 -> 21927 | D7: ='1.1.sz.mell.'!D6 -> 0 | E7: ='1.1.sz.mell.'!E6 -> 22292 | F7: ='1.1.sz.mell.'!F6 -> 0 | G7: ='1.1.sz.mell.'!G6 -> 22029 | H7: Munkaadókat terhelő járulékok és szociális hozzájárulási adó | I7: ='1.1.sz.mell.'!C86 -> 153 | J7: ='1.1.sz.mell.'!D86 -> 0 | K7: ='1.1.sz.mell.'!E86 -> 153 | L7: ='1.1.sz.mell.'!F86 -> 0 | M7: ='1.1.sz.mell.'!G86 -> 13
A8: 3. | B8: 2.-ból EU-s támogatás | H8: Dologi kiadások | I8: ='1.1.sz.mell.'!C87 -> 7470 | J8: ='1.1.sz.mell.'!D87 -> 0 | K8: ='1.1.sz.mell.'!E87 -> 7470 | L8: ='1.1.sz.mell.'!F87 -> 0 | M8: ='1.1.sz.mell.'!G87 -> 3202
A9: 4. | B9: Közhatalmi bevételek | C9: ='1.1.sz.mell.'!C20 -> 0 | D9: ='1.1.sz.mell.'!D20 -> 0 | E9: ='1.1.sz.mell.'!E20 -> 0 | F9: ='1.1.sz.mell.'!F20 -> 0 | G9: ='1.1.sz.mell.'!G20 -> 0 | H9: Ellátottak pénzbeli juttatásai | I9: ='1.1.sz.mell.'!C88 -> 0 | J9: ='1.1.sz.mell.'!D88 -> 0 | K9: ='1.1.sz.mell.'!E88 -> 0 | L9: ='1.1.sz.mell.'!F88 -> 0 | M9: ='1.1.sz.mell.'!G88 -> 0
A10: 5. | B10: Működési célú átvett pénzeszközök | C10: ='1.1.sz.mell.'!C44 -> 0 | D10: ='1.1.sz.mell.'!D44 -> 0 | E10: ='1.1.sz.mell.'!E44 -> 0 | F10: ='1.1.sz.mell.'!F44 -> 0 | G10: ='1.1.sz.mell.'!G44 -> 0 | H10: Egyéb működési célú kiadások | I10: ='1.1.sz.mell.'!C89 -> 17907 | J10: ='1.1.sz.mell.'!D89 -> 0 | K10: ='1.1.sz.mell.'!E89 -> 18272 | L10: ='1.1.sz.mell.'!F89 -> 0 | M10: ='1.1.sz.mell.'!G89 -> 17766
A11: 6. | B11: 4.-ből EU-s támogatás | H11: Tartalékok
A12: 7. | B12: Egyéb működési bevételek | C12: ='1.1.sz.mell.'!C27 -> 1964 | D12: ='1.1.sz.mell.'!D27 -> 0 | E12: ='1.1.sz.mell.'!E27 -> 2964 | F12: ='1.1.sz.mell.'!F27 -> 0 | G12: ='1.1.sz.mell.'!G27 -> 2956
A13: 8.
A14: 9.
A15: 10.
A16: 11.
A17: 12.
A18: 13. | B18: Költségvetési bevételek összesen (1.+2.+4.+5.+7.+…+12.) | C18: =+C6+C7+C9+C10+C12+C13+C14+C15+C16+C17 -> 23891 | D18: =+D6+D7+D9+D10+D12+D13+D14+D15+D16+D17 -> 0 | E18: =+E6+E7+E9+E10+E12+E13+E14+E15+E16+E17 -> 25256 | F18: =+F6+F7+F9+F10+F12+F13+F14+F15+F16+F17 -> 0 | G18: =+G6+G7+G9+G10+G12+G13+G14+G15+G16+G17 -> 24985 | H18: Költségvetési kiadások összesen (1.+...+12.) | I18: =SUM(I6:I17) -> 25725 | J18: =SUM(J6:J17) -> 0 | K18: =SUM(K6:K17) -> 26090 | L18: =SUM(L6:L17) -> 0 | M18: =SUM(M6:M17) -> 21010
A19: 14. | B19: Hiány belső finanszírozásának bevételei (15.+…+18. ) | C19: =+C20+C21+C22+C23 -> 2164 | D19: =+D20+D21+D22+D23 -> 0 | E19: =+E20+E21+E22+E23 -> 2134 | F19: =+F20+F21+F22+F23 -> 0 | G19: =+G20+G21+G22+G23 -> 2134 | H19: Értékpapír vásárlása, visszavásárlása
A20: 15. | B20: Költségvetési maradvány igénybevétele | C20: ='1.1.sz.mell.'!C65 -> 2164 | D20: ='1.1.sz.mell.'!D65 -> 0 | E20: ='1.1.sz.mell.'!E65 -> 2134 | F20: ='1.1.sz.mell.'!F65 -> 0 | G20: ='1.1.sz.mell.'!G65 -> 2134 | H20: Likviditási célú hitelek törlesztése
A21: 16. | B21: Vállalkozási maradvány igénybevétele | H21: Rövid lejáratú hitelek törlesztése
A22: 17. | B22: Betét visszavonásából származó bevétel | H22: Hosszú lejáratú hitelek törlesztése
A23: 18. | B23: Egyéb belső finanszírozási bevételek | H23: Kölcsön törlesztése
A24: 19. | B24: Hiány külső finanszírozásának bevételei (20.+…+21.) | C24: =+C25+C26 -> 0 | D24: =+D25+D26 -> 0 | E24: =+E25+E26 -> 0 | F24: =+F25+F26 -> 0 | G24: =+G25+G26 -> 0 | H24: Forgatási célú belföldi, külföldi értékpapírok vásárlása
A25: 20. | B25: Likviditási célú hitelek, kölcsönök felvétele | H25: Betét elhelyezése
A26: 21. | B26: Értékpapírok bevételei
A27: 22. | B27: Működési célú finanszírozási bevételek összesen (14.+19.) | C27: =+C19+C24 -> 2164 | D27: =+D19+D24 -> 0 | E27: =+E19+E24 -> 2134 | F27: =+F19+F24 -> 0 | G27: =+G19+G24 -> 2134 | H27: Működési célú finanszírozási kiadások összesen (14.+...+21.) | I27: =SUM(I19:I26) -> 0 | J27: =SUM(J19:J26) -> 0 | K27: =SUM(K19:K26) -> 0 | L27: =SUM(L19:L26) -> 0 | M27: =SUM(M19:M26) -> 0
A28: 23. | B28: BEVÉTEL ÖSSZESEN (13.+22.) | C28: =+C18+C27 -> 26055 | D28: =+D18+D27 -> 0 | E28: =+E18+E27 -> 27390 | F28: =+F18+F27 -> 0 | G28: =+G18+G27 -> 27119 | H28: KIADÁSOK ÖSSZESEN (13.+22.) | I28: =+I18+I27 -> 25725 | J28: =+J18+J27 -> 0 | K28: =+K18+K27 -> 26090 | L28: =+L18+L27 -> 0 | M28: =+M18+M27 -> 21010
A29: 24. | B29: Költségvetési hiány: | C29: =IF(C18-I18<0,I18-C18,"-") -> 1834 | D29: =IF(D18-N18<0,N18-D18,"-") -> - | E29: =IF(E18-O18<0,O18-E18,"-") -> - | F29: =IF(F18-P18<0,P18-F18,"-") -> - | G29: =IF(G18-Q18<0,Q18-G18,"-") -> - | H29: Költségvetési többlet: | I29: =IF(C18-I18>0,C18-I18,"-") -> - | J29: =IF(D18-J18>0,D18-J18,"-") -> - | K29: =IF(E18-K18>0,E18-K18,"-") -> - | L29: =IF(F18-L18>0,F18-L18,"-") -> - | M29: =IF(G18-M18>0,G18-M18,"-") -> 3975
A30: 25. | B30: Tárgyévi hiány: | C30: =IF(C18+C19-I28<0,I28-(C18+C19),"-") -> - | D30: =IF(D18+D19-N28<0,N28-(D18+D19),"-") -> - | E30: =IF(E18+E19-O28<0,O28-(E18+E19),"-") -> - | F30: =IF(F18+F19-P28<0,P28-(F18+F19),"-") -> - | G30: =IF(G18+G19-Q28<0,Q28-(G18+G19),"-") -> - | H30: Tárgyévi többlet: | I30: =IF(C18+C19-I28>0,C18+C19-I28,"-") -> 330 | J30: =IF(D18+D19-J28>0,D18+D19-J28,"-") -> - | K30: =IF(E18+E19-K28>0,E18+E19-K28,"-") -> 1300 | L30: =IF(F18+F19-L28>0,F18+F19-L28,"-") -> - | M30: =IF(G18+G19-M28>0,G18+G19-M28,"-") -> 6109
B32: II. Felhalmozási célú bevételek és kiadások mérlege (Társulási szinten)
L33: Ezer forintban ! | M33: Ezer forintban !
A34: Sor- szám | B34: Bevételek | H34: Kiadások
B35: Megnevezés | C35: 2015. évi előirányzat | D35: Javasolt módosítás | E35: Módosított előirányzat | F35: Társulási Tanács által javasolt módosítás | G35: Teljesítés | H35: Megnevezés | I35: 2015. évi előirányzat | J35: Javasolt módosítás | K35: Módosított előirányzat | L35: Társulási Tanács által javasolt módosítás | M35: Teljesítés
A36: 1 | B36: 2 | C36: 3 | D36: 3 | E36: 3 | F36: 3 | G36: 3 | H36: 4 | I36: 5 | J36: 5 | K36: 5 | L36: 5 | M36: 5
A37: 1. | B37: Felhalmozási célú támogatások államháztartáson belülről | C37: ='1.1.sz.mell.'!C13 -> 0 | D37: ='1.1.sz.mell.'!D13 -> 0 | E37: ='1.1.sz.mell.'!E13 -> 0 | F37: ='1.1.sz.mell.'!F13 -> 0 | G37: ='1.1.sz.mell.'!G13 -> 0 | H37: Beruházások | I37: ='1.1.sz.mell.'!C91 -> 330 | J37: ='1.1.sz.mell.'!D91 -> 0 | K37: ='1.1.sz.mell.'!E91 -> 406 | L37: ='1.1.sz.mell.'!F91 -> 0 | M37: ='1.1.sz.mell.'!G91 -> 406
A38: 2. | B38: 1.-ből EU-s támogatás | H38: 1.-ből EU-s forrásból megvalósuló beruházás
A39: 3. | B39: Felhalmozási bevételek | C39: ='1.1.sz.mell.'!C38 -> 0 | D39: ='1.1.sz.mell.'!D38 -> 0 | E39: ='1.1.sz.mell.'!E38 -> 0 | F39: ='1.1.sz.mell.'!F38 -> 0 | G39: ='1.1.sz.mell.'!G38 -> 0 | H39: Felújítások
A40: 4. | B40: Felhalmozási célú átvett pénzeszközök átvétele | H40: 3.-ból EU-s forrásból megvalósuló felújítás
A41: 5. | B41: 4.-ből EU-s támogatás (közvetlen) | H41: Egyéb felhalmozási kiadások | I41: ='1.1.sz.mell.'!C95 -> 0 | J41: ='1.1.sz.mell.'!D95 -> 0 | K41: ='1.1.sz.mell.'!E95 -> 0 | L41: ='1.1.sz.mell.'!F95 -> 0 | M41: ='1.1.sz.mell.'!G95 -> 0
A42: 6. | B42: Egyéb felhalmozási célú bevételek
A43: 7.
A44: 8.
A45: 9.
A46: 10.
A47: 11. | H47: Tartalékok
A48: 12. | B48: Költségvetési bevételek összesen: (1.+3.+4.+6.+…+11.) | C48: =+C37+C39+C40+C42+C43+C44+C45+C46+C47 -> 0 | D48: =+D37+D39+D40+D42+D43+D44+D45+D46+D47 -> 0 | E48: =+E37+E39+E40+E42+E43+E44+E45+E46+E47 -> 0 | F48: =+F37+F39+F40+F42+F43+F44+F45+F46+F47 -> 0 | G48: =+G37+G39+G40+G42+G43+G44+G45+G46+G47 -> 0 | H48: Költségvetési kiadások összesen: (1.+3.+5.+...+11.) | I48: =+I37+I39+I41+I42+I43+I44+I45+I46+I47 -> 330 | J48: =+J37+J39+J41+J42+J43+J44+J45+J46+J47 -> 0 | K48: =+K37+K39+K41+K42+K43+K44+K45+K46+K47 -> 406 | L48: =+L37+L39+L41+L42+L43+L44+L45+L46+L47 -> 0 | M48: =+M37+M39+M41+M42+M43+M44+M45+M46+M47 -> 406
A49: 13. | B49: Hiány belső finanszírozás bevételei ( 14+…+18) | C49: =+C50+C51+C52+C53+C54 -> 0 | D49: =+D50+D51+D52+D53+D54 -> 0 | E49: =+E50+E51+E52+E53+E54 -> 0 | F49: =+F50+F51+F52+F53+F54 -> 0 | G49: =+G50+G51+G52+G53+G54 -> 0 | H49: Értékpapír vásárlása, visszavásárlása
A50: 14. | B50: Költségvetési maradvány igénybevétele | H50: Hitelek törlesztése
A51: 15. | B51: Vállalkozási maradvány igénybevétele | H51: Rövid lejáratú hitelek törlesztése
A52: 16. | B52: Betét visszavonásából származó bevétel | H52: Hosszú lejáratú hitelek törlesztése
A53: 17. | B53: Értékpapír értékesítése | H53: Kölcsön törlesztése
A54: 18. | B54: Egyéb belső finanszírozási bevételek | H54: Befektetési célú belföldi, külföldi értékpapírok vásárlása
A55: 19. | B55: Hiány külső finanszírozásának bevételei (20+…+24 ) | C55: =+C56+C57+C58+C59+C60 -> 0 | D55: =+D56+D57+D58+D59+D60 -> 0 | E55: =+E56+E57+E58+E59+E60 -> 0 | F55: =+F56+F57+F58+F59+F60 -> 0 | G55: =+G56+G57+G58+G59+G60 -> 0 | H55: Betét elhelyezése
A56: 20. | B56: Hosszú lejáratú hitelek, kölcsönök felvétele | H56: Pénzügyi lízing kiadásai
A57: 21. | B57: Likviditási célú hitelek, kölcsönök felvétele
A58: 22. | B58: Rövid lejáratú hitelek, kölcsönök felvétele
A59: 23. | B59: Értékpapírok kibocsátása
A60: 24. | B60: Egyéb külső finanszírozási bevételek
A61: 25. | B61: Felhalmozási célú finanszírozási bevételek összesen (13.+19.) | C61: =+C49+C55 -> 0 | D61: =+D49+D55 -> 0 | E61: =+E49+E55 -> 0 | F61: =+F49+F55 -> 0 | G61: =+G49+G55 -> 0 | H61: Felhalmozási célú finanszírozási kiadások összesen (13.+...+24.) | I61: =SUM(I49:I60) -> 0 | J61: =SUM(J49:J60) -> 0 | K61: =SUM(K49:K60) -> 0 | L61: =SUM(L49:L60) -> 0 | M61: =SUM(M49:M60) -> 0
A62: 26. | B62: BEVÉTEL ÖSSZESEN (12+25) | C62: =+C48+C61 -> 0 | D62: =+D48+D61 -> 0 | E62: =+E48+E61 -> 0 | F62: =+F48+F61 -> 0 | G62: =+G48+G61 -> 0 | H62: KIADÁSOK ÖSSZESEN (12+25) | I62: =+I48+I61 -> 330 | J62: =+J48+J61 -> 0 | K62: =+K48+K61 -> 406 | L62: =+L48+L61 -> 0 | M62: =+M48+M61 -> 406
A63: 27. | B63: Költségvetési hiány: | C63: =IF(C48-I48<0,I48-C48,"-") -> 330 | D63: =IF(D48-N48<0,N48-D48,"-") -> - | E63: =IF(E48-O48<0,O48-E48,"-") -> - | F63: =IF(F48-P48<0,P48-F48,"-") -> - | G63: =IF(G48-Q48<0,Q48-G48,"-") -> - | H63: Költségvetési többlet: | I63: =IF(C48-I48>0,C48-I48,"-") -> - | J63: =IF(D48-J48>0,D48-J48,"-") -> - | K63: =IF(E48-K48>0,E48-K48,"-") -> - | L63: =IF(F48-L48>0,F48-L48,"-") -> - | M63: =IF(G48-M48>0,G48-M48,"-") -> -
A64: 28. | B64: Tárgyévi hiány: | C64: =IF(C48+C49-I62<0,I62-(C48+C49),"-") -> 330 | D64: =IF(D48+D49-N62<0,N62-(D48+D49),"-") -> - | E64: =IF(E48+E49-O62<0,O62-(E48+E49),"-") -> - | F64: =IF(F48+F49-P62<0,P62-(F48+F49),"-") -> - | G64: =IF(G48+G49-Q62<0,Q62-(G48+G49),"-") -> - | H64: Tárgyévi többlet: | I64: =IF(C48+C49-I62>0,C48+C49-I62,"-") -> - | J64: =IF(D48+D49-J62>0,D48+D49-J62,"-") -> - | K64: =IF(E48+E49-K62>0,E48+E49-K62,"-") -> - | L64: =IF(F48+F49-L62>0,F48+F49-L62,"-") -> - | M64: =IF(G48+G49-M62>0,G48+G49-M62,"-") -> -
A65: 29. | B65: BEVÉTEL MINDÖSSZESEN | C65: =SUM(C62,C28) -> 26055 | D65: =SUM(D62,D28) -> 0 | E65: =SUM(E62,E28) -> 27390 | F65: =SUM(F62,F28) -> 0 | G65: =SUM(G62,G28) -> 27119 | H65: KIADÁSOK MINDÖSSZESEN | I65: =SUM(I62,I28) -> 26055 | J65: =SUM(J62,J28) -> 0 | K65: =SUM(K62,K28) -> 26496 | L65: =SUM(L62,L28) -> 0 | M65: =SUM(M62,M28) -> 21416

Sheet 3
A1: Sorszám | B1: Megnevezés | C1: Összeg
A2: 01 | B2: 01 Alaptevékenység költségvetési bevételei | C2: 24985
A3: 02 | B3: 02 Alaptevékenység költségvetési kiadásai | C3: 21416
A4: 03 | B4: I Alaptevékenység költségvetési egyenlege (=01-02) | C4: 3569
A5: 04 | B5: 03 Alaptevékenység finanszírozási bevételei | C5: 2134
A6: 05 | B6: 04 Alaptevékenység finanszírozási kiadásai | C6: 0
A7: 06 | B7: II Alaptevékenység finanszírozási egyenlege (=03-04) | C7: 2134
A8: 07 | B8: A) Alaptevékenység maradványa (=±I±II) | C8: 5703
A9: 08 | B9: 05 Vállalkozási tevékenység költségvetési bevételei | C9: 0
A10: 09 | B10: 06 Vállalkozási tevékenység költségvetési kiadásai | C10: 0
A11: 10 | B11: III Vállalkozási tevékenység költségvetési egyenlege (=05-06) | C11: 0
A12: 11 | B12: 07 Vállalkozási tevékenység finanszírozási bevételei | C12: 0
A13: 12 | B13: 08 Vállalkozási tevékenység finanszírozási kiadásai | C13: 0
... A20: 19 | B20: G) Vállalkozási tevékenység felhasználható maradványa (=B-F) | C20: 0

Sheet 4
A2: VÖLGYSÉGI ÖNKORMÁNYZATOK TÁRSULÁSA EGYSZERŰSÍTETT MÉRLEG 2015. ÉV
E3: Ezer forintban !
A4: E S Z K Ö Z Ö K | C4: Előző időszak | D4: Módosítások | E4: Tárgyidőszak
A5: 1. | B5: A) NEMZETI VAGYONBA TARTOZÓ BEFEKTETETT ESZKÖZÖK | C5: =SUM(C6:C9) -> 26291 | D5: =SUM(D6:D9) -> 0 | E5: =SUM(E6:E9) -> 25715
A6: 2. | B6: A/I Immateriális javak
A7: 3. | B7: A/II Tárgyi eszközök | C7: 26291 | D7: 0 | E7: 25715
A8: 4. | B8: A/III Befektetett pénzügyi eszközök
A9: 5. | B9: A/IV Koncesszióba, vagyonkezelésbe adott eszközök
A10: 6. | B10: B) NEMZETI VAGYONBA TARTOZÓ FORGÓESZKÖZÖK | C10: =SUM(C11:C12) -> 0 | D10: =SUM(D11:D12) -> 0 | E10: =SUM(E11:E12) -> 0
A11: 7. | B11: B/I Készletek | D11: 0 | E11: 0
A12: 8. | B12: B/II Értékpapírok | E12: 0
A13: 9. | B13: C) PÉNZESZKÖZÖK | C13: 2164 | D13: 0 | E13: 5733
A14: 10. | B14: D) KÖVETELÉSEK (=D/I+D/II+D/III) | C14: =SUM(C15:C17) -> 132 | D14: =SUM(D15:D17) -> 0 | E14: =SUM(E15:E17) -> 16
A15: 11. | B15: D/I Költségvetési évben esedékes követelések | C15: 132 | D15: 0 | E15: 16
A16: 12. | B16: D/II Költségvetési évet követően esedékes követelések
A17: 13. | B17: D/III Követelés jellegű sajátos elszámolások
A18: 14. | B18: E) EGYÉB SAJÁTOS ESZKÖZOLDALI ELSZÁMOLÁSOK
A19: 15. | B19: F) AKTÍV IDŐBELI ELHATÁROLÁSOK
A20: 16. | B20: ESZKÖZÖK ÖSSZESEN | C20: =C19+C18+C14+C13+C5+C10 -> 28587 | D20: =D19+D18+D14+D13+D5+D10 -> 0 | E20: =E19+E18+E14+E13+E5+E10 -> 31464
A21: F O R R Á S O K | C21: Előző időszak | D21: Módosítások | E21: Tárgyidőszak
A22: 17. | B22: G) SAJÁT TŐKE (=G/I+…+G/VI) | C22: =SUM(C23:C28) -> 28587 | D22: =SUM(D23:D28) -> 0 | E22: =SUM(E23:E28) -> 31396
A23: 18. | B23: G/I Nemzeti vagyon induláskori értéke | C23: 91111 | D23: 0 | E23: 91111
A24: 19. | B24: G/II Nemzeti vagyon változásai | C24: 0 | D24: 0 | E24: 0
A25: 20. | B25: G/III Egyéb eszközök induláskori értéke és változásai | C25: 4281 | D25: 0 | E25: 4281
A26: 21. | B26: G/IV Felhalmozott eredmény | C26: -63490 | D26: 0 | E26: -66805
A27: 22. | B27: G/V Eszközök értékhelyesbítésének forrása | C27: 0 | D27: 0 | E27: 0
A28: 23. | B28: G/VI Mérleg szerinti eredmény | C28: -3315 | D28: 0 | E28: 2809
A29: 24. | B29: H) KÖTELEZETTSÉGEK (=H/I+H/II+H/III) | C29: =SUM(C30:C32) -> 0 | D29: =SUM(D30:D32) -> 0 | E29: =SUM(E30:E32) -> 68
A30: 25. | B30: H/I Költségvetési évben esedékes kötelezettségek | D30: 0
A31: 26. | B31: H/II Költségvetési évet követően esedékes kötelezettségek | C31: 0 | D31: 0 | E31: 68
A32: 27. | B32: H/III Kötelezettség jellegű sajátos elszámolások
A33: 28. | B33: I) EGYÉB SAJÁTOS FORRÁSOLDALI ELSZÁMOLÁSOK | D33: 0
A34: 29. | B34: J) KINCSTÁRI SZÁMLAVEZETÉSSEL KAPCSOLATOS ELSZÁMOLÁSOK | D34: 0
A35: 30. | B35: K) PASSZÍV IDŐBELI ELHATÁROLÁSOK
A36: 31. | B36: FORRÁSOK ÖSSZESEN | C36: =SUM(C35,C34,C33,C29,C22) -> 28587 | D36: =SUM(D35,D34,D33,D29,D22) -> 0 | E36: =SUM(E35,E34,E33,E29,E22) -> 31464

Sheet 5
A1: Sorszám | B1: Megnevezés | C1: Előző időszak | D1: Módosítások | E1: Tárgyi időszak
A2: 01 | B2: 01 Közhatalmi eredményszemléletű bevételek | C2: 0 | D2: 0 | E2: 0
A3: 02 | B3: 02 Eszközök és szolgáltatások értékesítése nettó eredményszemléletű bevételei | C3: 591 | D3: 0 | E3: 254
A4: 03 | B4: 03 Tevékenység egyéb nettó eredményszemléletű bevételei | C4: 3109 | D4: 0 | E4: 2560
A5: 04 | B5: I Tevékenység nettó eredményszemléletű bevétele (=01+02+03) (04=01+02+03) | C5: 3700 | D5: 0 | E5: 2814
A6: 05 | B6: 04 Saját termelésű készletek állományváltozása | C6: 0 | D6: 0 | E6: 0
A7: 06 | B7: 05 Saját előállítású eszközök aktivált értéke | C7: 0 | D7: 0 | E7: 0
A8: 07 | B8: II Aktivált saját teljesítmények értéke (=±04+05) (07=±05+06) | C8: 0 | D8: 0 | E8: 0
A9: 08 | B9: 06 Központi működési célú támogatások eredményszemléletű bevételei | C9: 1496 | D9: 0 | E9: 0
A10: 09 | B10: 07 Egyéb működési célú támogatások eredményszemléletű bevételei | C10: 9715 | D10: 0 | E10: 22029
A11: 10 | B11: 08 Különféle egyéb eredményszemléletű bevételek | C11: 0 | D11: 0 | E11: 0
A12: 11 | B12: III Egyéb eredményszemléletű bevételek (=06+07+08) (11=08+09+10) | C12: 11211 | D12: 0 | E12: 22029
A13: 12 | B13: 09 Anyagköltség | C13: 175 | D13: 0 | E13: 45
... A42: 41 | B42: E) MÉRLEG SZERINTI EREDMÉNY (=±C±D) (41=±35±40) | C42: -3315 | D42: 0 | E42: 2809

Sheet 6.
A3: PÉNZESZKÖZÖK VÁLTOZÁSÁNAK LEVEZETÉSE
A5: Sor-szám | B5: Megnevezés | C5: Összeg ( E Ft )
A6: 1. | B6: Pénzkészlet 2015. január 1-jén ebből: | C6: =C7+C8 -> 2164
A7: 2. | B7:  Bankszámlák egyenlege | C7: 2164
A8: 3. | B8:  Pénztárak és betétkönyvek egyenlege | C8: 0
A9: 4. | B9: Bevételek ( + ) | C9: 24985
A10: 5. | B10: Kiadások ( - ) | C10: 21416
A11: 6. | B11: Egyéb korrekciós tételek (+,-)
A12: 7. | B12: Záró pénzkészlet 2015. december 31-én ebből: | C12: =C6+C9-C10+C11 -> 5733
A13: 8. | B13:  Bankszámlák egyenlege | C13: 5733
A14: 9. | B14:  Pénztárak és betétkönyvek egyenlege

Sheet 7A
A1: VAGYONKIMUTATÁS a könyvviteli mérlegben értékkel szereplő eszközökről 2015.
C2: Adatok: ezer forintban!
A3: ESZKÖZÖK | B3: Sorszám | C3: Bruttó | D3: Könyv szerinti
C5: állományi érték
A6: A | B6: B | C6: C | D6: D
A7: I. Immateriális javak | B7: 01. | C7: 48466 | D7: 0
A8: II. Tárgyi eszközök (03+08+13+18+23) | B8: 02. | C8: =+C9+C14+C19+C24+C29 -> 42964 | D8: =+D9+D14+D19+D24+D29 -> 25715
A9: 1. Ingatlanok és kapcsolódó vagyoni értékű jogok (04+05+06+07) | B9: 03. | C9: =+C10+C11+C12+C13 -> 3830 | D9: =+D10+D11+D12+D13 -> 3249
A10: 1.1. Forgalomképtelen ingatlanok és kapcsolódó vagyoni értékű jogok | B10: 04.
A11: 1.2. Nemzetgazdasági szempontból kiemelt jelentőségű ingatlanok és kapcsolódó vagyoni értékű jogok | B11: 05.
A12: 1.3. Korlátozottan forgalomképes ingatlanok és kapcsolódó vagyoni értékű jogok | B12: 06.
A13: 1.4. Üzleti ingatlanok és kapcsolódó vagyoni értékű jogok | B13: 07. | C13: 3830 | D13: 3249
A14: 2. Gépek, berendezések, felszerelések, járművek (09+10+11+12) | B14: 08. | C14: =+C15+C16+C17+C18 -> 18230 | D14: =+D15+D16+D17+D18 -> 1562
A15: 2.1. Forgalomképtelen gépek, berendezések, felszerelések, járművek | B15: 09.
A16: 2.2. Nemzetgazdasági szempontból kiemelt jelentőségű gépek, berendezések, felszerelések, járművek | B16: 10.
A17: 2.3. Korlátozottan forgalomképes gépek, berendezések, felszerelések, járművek | B17: 11. | C17: 11232 | D17: 839
A18: 2.4. Üzleti gépek, berendezések, felszerelések, járművek | B18: 12. | C18: 6998 | D18: 723
A19: 3. Tenyészállatok (14+15+16+17) | B19: 13. | C19: =+C20+C21+C22+C23 -> 0 | D19: =+D20+D21+D22+D23 -> 0
A20: 3.1. Forgalomképtelen tenyészállatok | B20: 14.
A21: 3.2. Nemzetgazdasági szempontból kiemelt jelentőségű tenyészállatok | B21: 15.
A22: 3.3. Korlátozottan forgalomképes tenyészállatok | B22: 16.
A23: 3.4. Üzleti tenyészállatok | B23: 17.
A24: 4. Beruházások, felújítások (19+20+21+22) | B24: 18. | C24: =+C25+C26+C27+C28 -> 20904 | D24: =+D25+D26+D27+D28 -> 20904
A25: 4.1. Forgalomképtelen beruházások, felújítások | B25: 19. | C25: 20904 | D25: 20904
A26: 4.2. Nemzetgazdasági szempontból kiemelt jelentőségű beruházások, felújítások | B26: 20.
A27: 4.3. Korlátozottan forgalomképes beruházások, felújítások | B27: 21.
A28: 4.4. Üzleti beruházások, felújítások | B28: 22.
A29: 5. Tárgyi eszközök értékhelyesbítése (24+25+26+27) | B29: 23. | C29: =+C30+C31+C32+C33 -> 0 | D29: =+D30+D31+D32+D33 -> 0
A30: 5.1. Forgalomképtelen tárgyi eszközök értékhelyesbítése | B30: 24.
A31: 5.2. Nemzetgazdasági szempontból kiemelt jelentőségű tárgyi eszközök értékhelyesbítése | B31: 25.
A32: 5.3. Korlátozottan forgalomképes tárgyi eszközök értékhelyesbítése | B32: 26.
A33: 5.4. Üzleti tárgyi eszközök értékhelyesbítése | B33: 27.
A34: III. Befektetett pénzügyi eszközök (29+34+39) | B34: 28. | C34: =+C35+C40+C45 -> 0 | D34: =+D35+D40+D45 -> 0
A35: 1. Tartós részesedések (30+31+32+33) | B35: 29. | C35: =+C36+C37+C38+C39 -> 0 | D35: =+D36+D37+D38+D39 -> 0
A36: 1.1. Forgalomképtelen tartós részesedések | B36: 30.
A37: 1.2. Nemzetgazdasági szempontból kiemelt jelentőségű tartós részesedések | B37: 31.
A38: 1.3. Korlátozottan forgalomképes tartós részesedések | B38: 32.
A39: 1.4. Üzleti tartós részesedések | B39: 33.
A40: 2. Tartós hitelviszonyt megtestesítő értékpapírok (35+36+37+38) | B40: 34. | C40: =+C41+C42+C43+C44 -> 0 | D40: =+D41+D42+D43+D44 -> 0
A41: 2.1. Forgalomképtelen tartós hitelviszonyt megtestesítő értékpapírok | B41: 35.
A42: 2.2. Nemzetgazdasági szempontból kiemelt jelentőségű tartós hitelviszonyt megtestesítő értékpapírok | B42: 36.
A43: 2.3. Korlátozottan forgalomképes tartós hitelviszonyt megtestesítő értékpapírok | B43: 37.
A44: 2.4. Üzleti tartós hitelviszonyt megtestesítő értékpapírok | B44: 38.
A45: 3. Befektetett pénzügyi eszközök értékhelyesbítése (40+41+42+43) | B45: 39. | C45: =+C46+C47+C48+C49 -> 0 | D45: =+D46+D47+D48+D49 -> 0
A46: 3.1. Forgalomképtelen befektetett pénzügyi eszközök értékhelyesbítése | B46: 40.
A47: 3.2. Nemzetgazdasági szempontból kiemelt jelentőségű befektetett pénzügyi eszközök értékhelyesbítése | B47: 41.
A48: 3.3. Korlátozottan forgalomképes befektetett pénzügyi eszközök értékhelyesbítése | B48: 42.
A49: 3.4. Üzleti befektetett pénzügyi eszközök értékhelyesbítése | B49: 43.
A50: IV. Koncesszióba, vagyonkezelésbe adott eszközök | B50: 44.
A51: A) NEMZETI VAGYONBA TARTOZÓ BEFEKTETETT ESZKÖZÖK (01+02+28+44) | B51: 45. | C51: =+C7+C8+C34+C50 -> 91430 | D51: =+D7+D8+D34+D50 -> 25715
A52: I. Készletek | B52: 46.
A53: II. Értékpapírok | B53: 47.
A54: B) NEMZETI VAGYONBA TARTOZÓ FORGÓESZKÖZÖK (46+47) | B54: 48. | C54: =+C52+C53 -> 0 | D54: =+D52+D53 -> 0
A55: I. Lekötött bankbetétek | B55: 49.
A56: II. Pénztárak, csekkek, betétkönyvek | B56: 50. | C56: 0 | D56: 0
A57: III. Forintszámlák | B57: 51. | C57: 5733 | D57: 5733
A58: IV. Devizaszámlák | B58: 52.
A59: C) PÉNZESZKÖZÖK (49+50+51+52) | B59: 53. | C59: =+C55+C56+C57+C58 -> 5733 | D59: =+D55+D56+D57+D58 -> 5733
A60: I. Költségvetési évben esedékes követelések | B60: 54. | C60: 16 | D60: 16
A61: II. Költségvetési évet követően esedékes követelések | B61: 55.
A62: III. Követelés jellegű sajátos elszámolások | B62: 56.
A63: D) KÖVETELÉSEK (54+55+56) | B63: 57. | C63: =+C60+C61+C62 -> 16 | D63: =+D60+D61+D62 -> 16
A64: I. December havi illetmények, munkabérek elszámolása | B64: 58.
A65: II. Utalványok, bérletek és más hasonló, készpénz-helyettesítő fizetési eszköznek nem minősülő eszközök elszámolásai | B65: 59.
A66: E) EGYÉB SAJÁTOS ESZKÖZOLDALI ELSZÁMOLÁSOK (58+59) | B66: 60. | C66: =+C64+C65 -> 0 | D66: =+D64+D65 -> 0
A67: F) AKTÍV IDŐBELI ELHATÁROLÁSOK | B67: 61.
A68: ESZKÖZÖK ÖSSZESEN (45+48+53+57+60+61) | B68: 62. | C68: =+C51+C54+C59+C63+C66+C67 -> 97179 | D68: =+D51+D54+D59+D63+D66+D67 -> 31464

Sheet 7B
A1: VAGYONKIMUTATÁS a könyvviteli mérlegben értékkel szereplő forrásokról
A2: 2015. év
B4: Adatok: ezer forintban!
A5: FORRÁSOK | B5: Sorszám | C5: állományi érték
A7: A | B7: B | C7: C
A8: I. Nemzeti vagyon induláskori értéke | B8: 01. | C8: 91111
A9: II. Nemzeti vagyon változásai | B9: 02. | C9: 0
A10: III. Egyéb eszközök induláskori értéke és változásai | B10: 03. | C10: 4281
A11: IV. Felhalmozott eredmény | B11: 04. | C11: -66805
A12: V. Eszközök értékhelyesbítésének forrása | B12: 05. | C12: 0
A13: VI. Mérleg szerinti eredmény | B13: 06. | C13: 2809
A14: G) SAJÁT TŐKE (01+….+06) | B14: 07. | C14: =+C8+C9+C10+C11+C12+C13 -> 31396
A15: I. Költségvetési évben esedékes kötelezettségek | B15: 08. | C15: 0
A16: II. Költségvetési évet követően esedékes kötelezettségek | B16: 09. | C16: 68
A17: III. Kötelezettség jellegű sajátos elszámolások | B17: 10. | C17: 0
A18: H) KÖTELEZETTSÉGEK (08+09+10) | B18: 11. | C18: =+C15+C16+C17 -> 68
A19: I) EGYÉB SAJÁTOS FORRÁSOLDALI ELSZÁMOLÁSOK | B19: 12. | C19: 0
A20: J) KINCSTÁRI SZÁMLAVEZETÉSSEL KAPCSOLATOS ELSZÁMOLÁSOK | B20: 13.
A21: K) PASSZÍV IDŐBELI ELHATÁROLÁSOK | B21: 14.
A22: FORRÁSOK ÖSSZESEN (07+11+12+13) | B22: 15. | C22: =+C14+C18+C20+C21+C19 -> 31464

Sheet 8.
J1: Ezer forintban !
A2: Sor- szám | B2: Kötelezettség jogcíme | C2: Kötelezettség- vállalás éve | D2: 2015. előtti teljesítés | E2: 2015. évi teljesítés | F2: Kötelezettségek a következő években | J2: Összesen
F3: 2016. | G3: 2017. | H3: 2018. | I3: 2018. után
A4: 1 | B4: 2 | C4: 3 | D4: 4 | E4: 5 | F4: 6 | G4: 7 | H4: 8 | I4: 9 | J4: 10=(6+…+9)
A5: 1. | B5: Beruházás feladatonként | D5: =SUM(D6:D7) -> 0 | E5: =SUM(E6:E7) -> 0 | F5: =SUM(F6:F7) -> 0 | G5: =SUM(G6:G7) -> 0 | H5: =SUM(H6:H7) -> 0 | I5: =SUM(I6:I7) -> 0 | J5: =SUM(F5:I5) -> 0
A6: 2. | B6: ............................ | J6: =SUM(F6:I6) -> 0
A7: 3. | B7: ............................ | J7: =SUM(F7:I7) -> 0
A8: 4. | B8: Felújítás célonként | D8: =SUM(D9:D10) -> 0 | E8: =SUM(E9:E10) -> 0 | F8: =SUM(F9:F10) -> 0 | G8: =SUM(G9:G10) -> 0 | H8: =SUM(H9:H10) -> 0 | I8: =SUM(I9:I10) -> 0 | J8: =SUM(F8:I8) -> 0
A9: 5. | B9: ............................ | J9: =SUM(F9:I9) -> 0
A10: 6. | J10: =SUM(F10:I10) -> 0
A11: 7. | B11: Egyéb | D11: =SUM(D12:D12) -> 0 | E11: =SUM(E12:E12) -> 0 | F11: =SUM(F12:F12) -> 0 | G11: =SUM(G12:G12) -> 0 | H11: =SUM(H12:H12) -> 0 | I11: =SUM(I12:I12) -> 0 | J11: =SUM(F11:I11) -> 0
A12: 8. | B12: ............................ | J12: =SUM(F12:I12) -> 0
A13: 9. | D13: =SUM(D14:D14) -> 0 | E13: =SUM(E14:E14) -> 0 | F13: =SUM(F14:F14) -> 0 | G13: =SUM(G14:G14) -> 0 | H13: =SUM(H14:H14) -> 0 | I13: =SUM(I14:I14) -> 0 | J13: =SUM(F13:I13) -> 0
A14: 10. | B14: ............................ | J14: =SUM(F14:I14) -> 0
A15: 11. | D15: =SUM(D16:D17) -> 0 | E15: =SUM(E16:E17) -> 0 | F15: =SUM(F16:F17) -> 0 | G15: =SUM(G16:G17) -> 0 | H15: =SUM(H16:H17) -> 0 | I15: =SUM(I16:I17) -> 0 | J15: =SUM(F15:I15) -> 0
A16: 12. | B16: ............................ | J16: =SUM(F16:I16) -> 0
A17: 13. | B17: ............................ | J17: =SUM(F17:I17) -> 0
A18: 14. | B18: Összesen (1+4+7+9+11) | D18: =D5+D8+D11+D13+D15 -> 0 | E18: =E5+E8+E11+E13+E15 -> 0 | F18: =F5+F8+F11+F13+F15 -> 0 | G18: =G5+G8+G11+G13+G15 -> 0 | H18: =H5+H8+H11+H13+H15 -> 0 | I18: =I5+I8+I11+I13+I15 -> 0 | J18: =J5+J8+J11+J13+J15 -> 0

Sheet 9.
D1: Ezer forintban !
A2: Sor-szám | B2: Bevételi jogcím | C2: Terv | D2: Tény
A3: 1 | B3: 2 | C3: 3 | D3: 4
A4: 1. | B4: Ellátottak térítési díjának elengedése
A5: 2. | B5: Ellátottak kártérítésének elengedése
A6: 3. | B6: Helyiségek hasznosítása utáni kedvezmény, menteség
A7: 4. | B7: Eszközök hasznosítása utáni kedvezmény, menteség
A8: 5. | B8: Egyéb kedvezmény
A9: 6.
A10: 7.
A11: 8.
A12: 9.
A13: 10.
A14: 11.
A15: 12.
A16: 13.
A17: 14.
A18: 15.
A19: 16.
A20: 17.
... A29: 26.
A30: 27. | B30: Összesen: | C30: =SUM(C4:C29) -> 0 | D30: =SUM(D4:D29) -> 0

Sheet 10.
A1: Adósság állomány alakulása lejárat, eszközök, bel- és külföldi hitelezők szerinti bontásban 2015. december 31-én
H2: Ezer forintban!
A3: Sor-szám | B3: Adósságállomány eszközök szerint | C3: Nem lejárt | D3: Lejárt | I3: Nem lejárt, lejárt összes tartozás
D4: 1-90 nap közötti | E4: 91-180 nap közötti | F4: 181-360 nap közötti | G4: 360 napon túli | H4: Összes lejárt tartozás
A5: 1 | B5: 2 | C5: 3 | D5: 4 | E5: 5 | F5: 6 | G5: 7 | H5: 8=(4+…+7) | I5: 9=(3+8)
A6: I. Belföldi hitelezők
A7: 1. | B7: Adóhatósággal szembeni tartozások | H7: =SUM(D7:G7) -> 0 | I7: =C7+H7 -> 0
A8: 2. | B8: Központi költségvetéssel szemben fennálló tartozás | H8: =SUM(D8:G8) -> 0 | I8: =C8+H8 -> 0
A9: 3. | B9: Elkülönített állami pénzalapokkal szembeni tartozás | H9: =SUM(D9:G9) -> 0 | I9: =C9+H9 -> 0
A10: 4. | B10: TB alapokkal szembeni tartozás | H10: =SUM(D10:G10) -> 0 | I10: =C10+H10 -> 0
A11: 5. | B11: Tartozásállomány önkormányzatok és intézmények felé | H11: =SUM(D11:G11) -> 0 | I11: =C11+H11 -> 0
A12: 6. | B12: Szállítói tartozás | C12: 68 | H12: =SUM(D12:G12) -> 0 | I12: =C12+H12 -> 68
A13: 7. | B13: Egyéb adósság | H13: =SUM(D13:G13) -> 0 | I13: =C13+H13 -> 0
A14: Belföldi összesen: | C14: =SUM(C7:C13) -> 68 | D14: =SUM(D7:D13) -> 0 | E14: =SUM(E7:E13) -> 0 | F14: =SUM(F7:F13) -> 0 | G14: =SUM(G7:G13) -> 0 | H14: =SUM(H7:H13) -> 0 | I14: =SUM(I7:I13) -> 68
A15: II. Külföldi hitelezők
A16: 1. | B16: Külföldi szállítók | H16: =SUM(D16:G16) -> 0 | I16: =C16+H16 -> 0
A17: 2. | B17: Egyéb adósság | H17: =SUM(D17:G17) -> 0 | I17: =C17+H17 -> 0
A18: Külföldi összesen: | C18: =SUM(C16:C17) -> 0 | D18: =SUM(D16:D17) -> 0 | E18: =SUM(E16:E17) -> 0 | F18: =SUM(F16:F17) -> 0 | G18: =SUM(G16:G17) -> 0 | H18: =SUM(H16:H17) -> 0 | I18: =SUM(I16:I17) -> 0
A19: Adósságállomány mindösszesen: | C19: =C14+C18 -> 68 | D19: =D14+D18 -> 0 | E19: =E14+E18 -> 0 | F19: =F14+F18 -> 0 | G19: =G14+G18 -> 0 | H19: =H14+H18 -> 0 | I19: =I14+I18 -> 68
